Workbook
Name _E1: #REF!
Name _E1: #REF!
Name _E1: #REF!
Name _E1: #REF!
Name _E1: #REF!
Name _E1: #REF!
Name _E1: #REF!
Name _E1: #REF!
Name _E1: #REF!
Name _E1: #REF!
Name _E1: #REF!
Name 전체: #REF!
Name 전체: #REF!
Name 전체: #REF!
Name 전체: #REF!
Name 전체: #REF!
Name 전체: #REF!
Name 전체: #REF!
Name 전체: #REF!
Name 전체: #REF!
Name 전체: #REF!
Name 전체: #REF!

Sheet 2006년
A1: 5. 구별·연령별 외국인 현황
S2: (단위 : 명)
A3: 구 분 | B3: 합 계 | E3: 동 구 | H3: 서 구 | K3: 남 구 | N3: 북 구 | Q3: 광 산 구
B4: 계 | C4: 남 | D4: 여 | E4: 계 | F4: 남 | G4: 여 | H4: 계 | I4: 남 | J4: 여 | K4: 계 | L4: 남 | M4: 여 | N4: 계 | O4: 남 | P4: 여 | Q4: 계 | R4: 남 | S4: 여
A5: 2006 | B5: 8155 | C5: 4700 | D5: 3455 | E5: 850 | F5: 375 | G5: 475 | H5: 767 | I5: 321 | J5: 446 | K5: 706 | L5: 293 | M5: 413 | N5: 2103 | O5: 1015 | P5: 1088 | Q5: 3729 | R5: 2696 | S5: 1033
A6: 0∼ 4 세 | B6: 79 | C6: 45 | D6: 34 | E6: 11 | F6: 7 | G6: 4 | H6: 11 | I6: 6 | J6: 5 | K6: 9 | L6: 7 | M6: 2 | N6: 35 | O6: 18 | P6: 17 | Q6: 13 | R6: 7 | S6: 6
A7: 5∼ 9 세 | B7: 79 | C7: 45 | D7: 34 | E7: 11 | F7: 6 | G7: 5 | H7: 11 | I7: 6 | J7: 5 | K7: 8 | L7: 6 | M7: 2 | N7: 30 | O7: 17 | P7: 13 | Q7: 19 | R7: 10 | S7: 9
A8: 10∼14세 | B8: 92 | C8: 55 | D8: 37 | E8: 12 | F8: 5 | G8: 7 | H8: 22 | I8: 15 | J8: 7 | K8: 14 | L8: 10 | M8: 4 | N8: 25 | O8: 12 | P8: 13 | Q8: 19 | R8: 13 | S8: 6
A9: 15∼19세 | B9: 154 | C9: 62 | D9: 92 | E9: 17 | F9: 4 | G9: 13 | H9: 23 | I9: 9 | J9: 14 | K9: 21 | L9: 11 | M9: 10 | N9: 50 | O9: 29 | P9: 21 | Q9: 43 | R9: 9 | S9: 34
A10: 20∼24세 | B10: 1585 | C10: 779 | D10: 806 | E10: 249 | F10: 110 | G10: 139 | H10: 105 | I10: 44 | J10: 61 | K10: 182 | L10: 68 | M10: 114 | N10: 332 | O10: 133 | P10: 199 | Q10: 717 | R10: 424 | S10: 293
A11: 25∼29세 | B11: 1917 | C11: 1187 | D11: 730 | E11: 198 | F11: 83 | G11: 115 | H11: 136 | I11: 54 | J11: 82 | K11: 130 | L11: 48 | M11: 82 | N11: 453 | O11: 220 | P11: 233 | Q11: 1000 | R11: 782 | S11: 218
A12: 30∼34세 | B12: 1429 | C12: 983 | D12: 446 | E12: 87 | F12: 49 | G12: 38 | H12: 109 | I12: 43 | J12: 66 | K12: 69 | L12: 28 | M12: 41 | N12: 350 | O12: 191 | P12: 159 | Q12: 814 | R12: 672 | S12: 142
A13: 35∼39세 | B13: 1139 | C13: 763 | D13: 376 | E13: 73 | F13: 30 | G13: 43 | H13: 97 | I13: 45 | J13: 52 | K13: 72 | L13: 38 | M13: 34 | N13: 260 | O13: 145 | P13: 115 | Q13: 637 | R13: 505 | S13: 132
A14: 40∼44세 | B14: 618 | C14: 277 | D14: 341 | E14: 53 | F14: 19 | G14: 34 | H14: 86 | I14: 28 | J14: 58 | K14: 83 | L14: 25 | M14: 58 | N14: 173 | O14: 59 | P14: 114 | Q14: 223 | R14: 146 | S14: 77
A15: 45∼49세 | B15: 374 | C15: 154 | D15: 220 | E15: 45 | F15: 17 | G15: 28 | H15: 65 | I15: 26 | J15: 39 | K15: 39 | L15: 12 | M15: 27 | N15: 141 | O15: 58 | P15: 83 | Q15: 84 | R15: 41 | S15: 43
A16: 50∼54세 | B16: 287 | C16: 124 | D16: 163 | E16: 34 | F16: 10 | G16: 24 | H16: 45 | I16: 19 | J16: 26 | K16: 32 | L16: 14 | M16: 18 | N16: 119 | O16: 55 | P16: 64 | Q16: 57 | R16: 26 | S16: 31
A17: 55∼59세 | B17: 189 | C17: 102 | D17: 87 | E17: 17 | F17: 7 | G17: 10 | H17: 28 | I17: 12 | J17: 16 | K17: 23 | L17: 14 | M17: 9 | N17: 68 | O17: 40 | P17: 28 | Q17: 53 | R17: 29 | S17: 24
... A26: 100+ | B26: 0 | C26: 0 | D26: 0 | E26: 0 | F26: 0 | G26: 0 | H26: 0 | I26: 0 | J26: 0 | K26: 0 | L26: 0 | M26: 0 | N26: 0 | O26: 0 | P26: 0 | Q26: 0 | R26: 0 | S26: 0
A27: 65세이상 | B27: =SUM(B19:B26) -> 120 | C27: =SUM(C19:C26) -> 70 | D27: =SUM(D19:D26) -> 50 | E27: =SUM(E19:E26) -> 27 | F27: =SUM(F19:F26) -> 18 | G27: =SUM(G19:G26) -> 9 | H27: =SUM(H19:H26) -> 18 | I27: =SUM(I19:I26) -> 6 | ... S27: =SUM(S19:S26) -> 9
A28: 15-64세 | B28: =SUM(B9:B18) -> 7785 | C28: =SUM(C9:C18) -> 4485 | D28: =SUM(D9:D18) -> 3300 | E28: =SUM(E9:E18) -> 789 | F28: =SUM(F9:F18) -> 339 | G28: =SUM(G9:G18) -> 450 | H28: =SUM(H9:H18) -> 705 | I28: =SUM(I9:I18) -> 288 | ... S28: =SUM(S9:S18) -> 1003
A29: 14세이하 | B29: =SUM(B6:B8) -> 250 | C29: =SUM(C6:C8) -> 145 | D29: =SUM(D6:D8) -> 105 | E29: =SUM(E6:E8) -> 34 | F29: =SUM(F6:F8) -> 18 | G29: =SUM(G6:G8) -> 16 | H29: =SUM(H6:H8) -> 44 | I29: =SUM(I6:I8) -> 27 | ... S29: =SUM(S6:S8) -> 21

Sheet 2007년
A1: 5. 구별·연령별 외국인 현황
R2: (단위 : 명)
A3: 구 분 | B3: 합 계 | E3: 동 구 | H3: 서 구 | K3: 남 구 | N3: 북 구 | Q3: 광 산 구
B4: 계 | C4: 남 | D4: 여 | E4: 계 | F4: 남 | G4: 여 | H4: 계 | I4: 남 | J4: 여 | K4: 계 | L4: 남 | M4: 여 | N4: 계 | O4: 남 | P4: 여 | Q4: 계 | R4: 남 | S4: 여
A5: 2007 | B5: =SUM(B6:B26) -> 10016 | C5: =F5+I5+L5+O5+R5 -> 5398 | D5: =G5+J5+M5+P5+S5 -> 4618 | E5: =SUM(F5:G5) -> 1046 | F5: =SUM(F6:F26) -> 478 | G5: =SUM(G6:G26) -> 568 | H5: =SUM(H6:H26) -> 978 | I5: =SUM(I6:I26) -> 354 | J5: =SUM(J6:J26) -> 624 | K5: 866 | L5: 344 | M5: 522 | N5: 2832 | O5: 1319 | P5: 1513 | Q5: 4294 | R5: 2903 | S5: 1391
A6: 0∼ 4 세 | B6: =SUM(C6:D6) -> 72 | C6: =SUM(F6,I6,L6,O6,R6) -> 40 | D6: =SUM(G6,J6,M6,P6,S6) -> 32 | E6: =SUM(F6:G6) -> 7 | F6: 4 | G6: 3 | H6: =SUM(I6:J6) -> 10 | I6: 6 | J6: 4 | K6: 10 | L6: 7 | M6: 3 | N6: 34 | O6: 18 | P6: 16 | Q6: 11 | R6: 5 | S6: 6
A7: 5∼ 9 세 | B7: =SUM(C7:D7) -> 98 | C7: =SUM(F7,I7,L7,O7,R7) -> 60 | D7: =SUM(G7,J7,M7,P7,S7) -> 38 | E7: =SUM(F7:G7) -> 12 | F7: 7 | G7: 5 | H7: =SUM(I7:J7) -> 16 | I7: 10 | J7: 6 | K7: 7 | L7: 5 | M7: 2 | N7: 36 | O7: 25 | P7: 11 | Q7: 27 | R7: 13 | S7: 14
A8: 10∼14세 | B8: =SUM(C8:D8) -> 85 | C8: =SUM(F8,I8,L8,O8,R8) -> 49 | D8: =SUM(G8,J8,M8,P8,S8) -> 36 | E8: =SUM(F8:G8) -> 12 | F8: 4 | G8: 8 | H8: =SUM(I8:J8) -> 18 | I8: 13 | J8: 5 | K8: 13 | L8: 10 | M8: 3 | N8: 27 | O8: 12 | P8: 15 | Q8: 15 | R8: 10 | S8: 5
A9: 15∼19세 | B9: =SUM(C9:D9) -> 161 | C9: =SUM(F9,I9,L9,O9,R9) -> 78 | D9: =SUM(G9,J9,M9,P9,S9) -> 83 | E9: =SUM(F9:G9) -> 17 | F9: 8 | G9: 9 | H9: =SUM(I9:J9) -> 22 | I9: 8 | J9: 14 | K9: 20 | L9: 10 | M9: 10 | N9: 78 | O9: 46 | P9: 32 | Q9: 24 | R9: 6 | S9: 18
A10: 20∼24세 | B10: =SUM(C10:D10) -> 2373 | C10: =SUM(F10,I10,L10,O10,R10) -> 1008 | D10: =SUM(G10,J10,M10,P10,S10) -> 1365 | E10: =SUM(F10:G10) -> 329 | F10: 143 | G10: 186 | H10: =SUM(I10:J10) -> 173 | I10: 46 | J10: 127 | K10: 235 | L10: 93 | M10: 142 | N10: 654 | O10: 253 | P10: 401 | Q10: 982 | R10: 473 | S10: 509
A11: 25∼29세 | B11: =SUM(C11:D11) -> 2248 | C11: =SUM(F11,I11,L11,O11,R11) -> 1309 | D11: =SUM(G11,J11,M11,P11,S11) -> 939 | E11: =SUM(F11:G11) -> 271 | F11: 120 | G11: 151 | H11: =SUM(I11:J11) -> 188 | I11: 57 | J11: 131 | K11: 160 | L11: 59 | M11: 101 | N11: 586 | O11: 294 | P11: 292 | Q11: 1043 | R11: 779 | S11: 264
A12: 30∼34세 | B12: =SUM(C12:D12) -> 1556 | C12: =SUM(F12,I12,L12,O12,R12) -> 1000 | D12: =SUM(G12,J12,M12,P12,S12) -> 556 | E12: =SUM(F12:G12) -> 104 | F12: 56 | G12: 48 | H12: =SUM(I12:J12) -> 118 | I12: 40 | J12: 78 | K12: 86 | L12: 26 | M12: 60 | N12: 381 | O12: 184 | P12: 197 | Q12: 867 | R12: 694 | S12: 173
A13: 35∼39세 | B13: =SUM(C13:D13) -> 1216 | C13: =SUM(F13,I13,L13,O13,R13) -> 795 | D13: =SUM(G13,J13,M13,P13,S13) -> 421 | E13: =SUM(F13:G13) -> 62 | F13: 31 | G13: 31 | H13: =SUM(I13:J13) -> 106 | I13: 50 | J13: 56 | K13: 82 | L13: 30 | M13: 52 | N13: 291 | O13: 160 | P13: 131 | Q13: 675 | R13: 524 | S13: 151
A14: 40∼44세 | B14: =SUM(C14:D14) -> 767 | C14: =SUM(F14,I14,L14,O14,R14) -> 369 | D14: =SUM(G14,J14,M14,P14,S14) -> 398 | E14: =SUM(F14:G14) -> 63 | F14: 22 | G14: 41 | H14: =SUM(I14:J14) -> 94 | I14: 34 | J14: 60 | K14: 84 | L14: 29 | M14: 55 | N14: 239 | O14: 88 | P14: 151 | Q14: 287 | R14: 196 | S14: 91
A15: 45∼49세 | B15: =SUM(C15:D15) -> 464 | C15: =SUM(F15,I15,L15,O15,R15) -> 201 | D15: =SUM(G15,J15,M15,P15,S15) -> 263 | E15: =SUM(F15:G15) -> 49 | F15: 24 | G15: 25 | H15: =SUM(I15:J15) -> 81 | I15: 26 | J15: 55 | K15: 57 | L15: 19 | M15: 38 | N15: 169 | O15: 73 | P15: 96 | Q15: 108 | R15: 59 | S15: 49
A16: 50∼54세 | B16: =SUM(C16:D16) -> 384 | C16: =SUM(F16,I16,L16,O16,R16) -> 180 | D16: =SUM(G16,J16,M16,P16,S16) -> 204 | E16: =SUM(F16:G16) -> 40 | F16: 14 | G16: 26 | H16: =SUM(I16:J16) -> 59 | I16: 22 | J16: 37 | K16: 44 | L16: 21 | M16: 23 | N16: 144 | O16: 66 | P16: 78 | Q16: 97 | R16: 57 | S16: 40
A17: 55∼59세 | B17: =SUM(C17:D17) -> 303 | C17: =SUM(F17,I17,L17,O17,R17) -> 154 | D17: =SUM(G17,J17,M17,P17,S17) -> 149 | E17: =SUM(F17:G17) -> 33 | F17: 15 | G17: 18 | H17: =SUM(I17:J17) -> 48 | I17: 23 | J17: 25 | K17: 34 | L17: 18 | M17: 16 | N17: 99 | O17: 48 | P17: 51 | Q17: 89 | R17: 50 | S17: 39
... A22: 80∼84세 | B22: =SUM(C22:D22) -> 8 | C22: =SUM(F22,I22,L22,O22,R22) -> 4 | D22: =SUM(G22,J22,M22,P22,S22) -> 4 | E22: =SUM(F22:G22) -> 1 | F22: 1 | G22: 0 | H22: =SUM(I22:J22) -> 1 | I22: 0 | J22: 1 | K22: 1 | L22: 1 | M22: 0 | N22: 4 | O22: 1 | P22: 3 | Q22: 1 | R22: 1 | S22: 0
A23: 85∼89세 | B23: =SUM(C23:D23) -> 2 | C23: =SUM(F23,I23,L23,O23,R23) -> 0 | D23: =SUM(G23,J23,M23,P23,S23) -> 2 | E23: 0 | F23: 0 | G23: 0 | H23: =SUM(I23:J23) -> 0 | I23: 0 | J23: 0 | K23: 1 | L23: 0 | M23: 1 | N23: 1 | O23: 0 | P23: 1 | Q23: 0 | R23: 0 | S23: 0
A24: 90∼94세 | B24: =SUM(C24:D24) -> 3 | C24: =SUM(F24,I24,L24,O24,R24) -> 0 | D24: =SUM(G24,J24,M24,P24,S24) -> 3 | E24: 0 | F24: 0 | G24: 0 | H24: =SUM(I24:J24) -> 0 | I24: 0 | J24: 0 | K24: 1 | L24: 0 | M24: 1 | N24: 1 | O24: 0 | P24: 1 | Q24: 1 | R24: 0 | S24: 1
A25: 95∼99세 | B25: =E25+H25+K25+N25+Q25 -> 0 | C25: =F25+I25+L25+O25+R25 -> 0 | D25: =G25+J25+M25+P25+S25 -> 0 | E25: 0 | F25: 0 | G25: 0 | H25: =SUM(I25:J25) -> 0 | I25: 0 | J25: 0 | K25: 0 | L25: 0 | M25: 0 | N25: 0 | O25: 0 | P25: 0 | Q25: 0 | R25: 0 | S25: 0
A26: 100이상 | B26: =E26+H26+K26+N26+Q26 -> 0 | C26: =F26+I26+L26+O26+R26 -> 0 | D26: =G26+J26+M26+P26+S26 -> 0 | E26: 0 | F26: 0 | G26: 0 | H26: 0 | I26: 0 | J26: 0 | K26: 0 | L26: 0 | M26: 0 | N26: 0 | O26: 0 | P26: 0 | Q26: 0 | R26: 0 | S26: 0
A27: 65세이상 | B27: =SUM(B19:B26) -> 123 | C27: =SUM(C19:C26) -> 64 | D27: =SUM(D19:D26) -> 59 | E27: =SUM(E19:E26) -> 30 | F27: =SUM(F19:F26) -> 19 | G27: =SUM(G19:G26) -> 11 | H27: =SUM(H19:H26) -> 21 | I27: =SUM(I19:I26) -> 7 | ... S27: =SUM(S19:S26) -> 13
A28: 15-64세 | B28: =SUM(B9:B18) -> 9638 | C28: =SUM(C9:C18) -> 5185 | D28: =SUM(D9:D18) -> 4453 | E28: =SUM(E9:E18) -> 985 | F28: =SUM(F9:F18) -> 444 | G28: =SUM(G9:G18) -> 541 | H28: =SUM(H9:H18) -> 913 | I28: =SUM(I9:I18) -> 318 | ... S28: =SUM(S9:S18) -> 1353
A29: 14세이하 | B29: =SUM(B6:B8) -> 255 | C29: =SUM(C6:C8) -> 149 | D29: =SUM(D6:D8) -> 106 | E29: =SUM(E6:E8) -> 31 | F29: =SUM(F6:F8) -> 15 | G29: =SUM(G6:G8) -> 16 | H29: =SUM(H6:H8) -> 44 | I29: =SUM(I6:I8) -> 29 | ... S29: =SUM(S6:S8) -> 25
B30: =SUM(B27:B29) -> 10016

Sheet 2008년
A1: 5. 구별·연령별 외국인 현황 | R1: (단위 : 명)
A2: 구 분 | B2: 합 계 | E2: 동 구 | H2: 서 구 | K2: 남 구 | N2: 북 구 | Q2: 광 산 구
B3: 계 | C3: 남 | D3: 여 | E3: =[1]외국인!B4 -> 계 | F3: =[1]외국인!C4 -> 남 | G3: =[1]외국인!D4 -> 여 | H3: =[2]외국인!B4 -> 계 | I3: =[2]외국인!C4 -> 남 | J3: =[2]외국인!D4 -> 여 | K3: =[3]외국인!B4 -> 계 | L3: =[3]외국인!C4 -> 남 | M3: =[3]외국인!D4 -> 여 | N3: ='[4]외국인 '!B4 -> 계 | O3: ='[4]외국인 '!C4 -> 남 | P3: ='[4]외국인 '!D4 -> 여 | Q3: ='[5]외국인 '!B4 -> 계 | R3: ='[5]외국인 '!C4 -> 남 | S3: ='[5]외국인 '!D4 -> 여
A4: 2008 | B4: =E4+H4+K4+N4+Q4 -> 11923 | C4: =F4+I4+L4+O4+R4 -> 6320 | D4: =G4+J4+M4+P4+S4 -> 5603 | E4: =SUM(F4:G4) -> 1201 | F4: =SUM(F5:F25) -> 548 | G4: =SUM(G5:G25) -> 653 | H4: =SUM(I4:J4) -> 1150 | I4: =SUM(I5:I25) -> 428 | J4: =SUM(J5:J25) -> 722 | K4: =SUM(L4:M4) -> 1018 | L4: =SUM(L5:L25) -> 371 | M4: =SUM(M5:M25) -> 647 | N4: =SUM(O4:P4) -> 3392 | O4: =SUM(O5:O25) -> 1583 | P4: =SUM(P5:P25) -> 1809 | Q4: =SUM(R4:S4) -> 5162 | R4: =SUM(R5:R25) -> 3390 | S4: =SUM(S5:S25) -> 1772
A5: 0∼ 4 세 | B5: =E5+H5+K5+N5+Q5 -> 80 | C5: =F5+I5+L5+O5+R5 -> 46 | D5: =G5+J5+M5+P5+S5 -> 34 | E5: =SUM(F5:G5) -> 7 | F5: 3 | G5: 4 | H5: =SUM(I5:J5) -> 13 | I5: 9 | J5: 4 | K5: =SUM(L5:M5) -> 12 | L5: 6 | M5: 6 | N5: =SUM(O5:P5) -> 37 | O5: 20 | P5: 17 | Q5: =SUM(R5:S5) -> 11 | R5: 8 | S5: 3
A6: 5∼ 9 세 | B6: =E6+H6+K6+N6+Q6 -> 104 | C6: =F6+I6+L6+O6+R6 -> 54 | D6: =G6+J6+M6+P6+S6 -> 50 | E6: =SUM(F6:G6) -> 11 | F6: 7 | G6: 4 | H6: =SUM(I6:J6) -> 17 | I6: 6 | J6: 11 | K6: =SUM(L6:M6) -> 6 | L6: 4 | M6: 2 | N6: =SUM(O6:P6) -> 47 | O6: 24 | P6: 23 | Q6: =SUM(R6:S6) -> 23 | R6: 13 | S6: 10
A7: 10∼14세 | B7: =E7+H7+K7+N7+Q7 -> 76 | C7: =F7+I7+L7+O7+R7 -> 44 | D7: =G7+J7+M7+P7+S7 -> 32 | E7: =SUM(F7:G7) -> 11 | F7: 4 | G7: 7 | H7: =SUM(I7:J7) -> 14 | I7: 10 | J7: 4 | K7: =SUM(L7:M7) -> 12 | L7: 10 | M7: 2 | N7: =SUM(O7:P7) -> 22 | O7: 10 | P7: 12 | Q7: =SUM(R7:S7) -> 17 | R7: 10 | S7: 7
A8: 15∼19세 | B8: =E8+H8+K8+N8+Q8 -> 222 | C8: =F8+I8+L8+O8+R8 -> 98 | D8: =G8+J8+M8+P8+S8 -> 124 | E8: =SUM(F8:G8) -> 26 | F8: 12 | G8: 14 | H8: =SUM(I8:J8) -> 34 | I8: 15 | J8: 19 | K8: =SUM(L8:M8) -> 34 | L8: 13 | M8: 21 | N8: =SUM(O8:P8) -> 99 | O8: 52 | P8: 47 | Q8: =SUM(R8:S8) -> 29 | R8: 6 | S8: 23
A9: 20∼24세 | B9: =E9+H9+K9+N9+Q9 -> 3143 | C9: =F9+I9+L9+O9+R9 -> 1377 | D9: =G9+J9+M9+P9+S9 -> 1766 | E9: =SUM(F9:G9) -> 388 | F9: 174 | G9: 214 | H9: =SUM(I9:J9) -> 228 | I9: 59 | J9: 169 | K9: =SUM(L9:M9) -> 291 | L9: 105 | M9: 186 | N9: =SUM(O9:P9) -> 942 | O9: 421 | P9: 521 | Q9: =SUM(R9:S9) -> 1294 | R9: 618 | S9: 676
A10: 25∼29세 | B10: =E10+H10+K10+N10+Q10 -> 2647 | C10: =F10+I10+L10+O10+R10 -> 1548 | D10: =G10+J10+M10+P10+S10 -> 1099 | E10: =SUM(F10:G10) -> 325 | F10: 143 | G10: 182 | H10: =SUM(I10:J10) -> 200 | I10: 69 | J10: 131 | K10: =SUM(L10:M10) -> 185 | L10: 62 | M10: 123 | N10: =SUM(O10:P10) -> 681 | O10: 327 | P10: 354 | Q10: =SUM(R10:S10) -> 1256 | R10: 947 | S10: 309
A11: 30∼34세 | B11: =E11+H11+K11+N11+Q11 -> 1708 | C11: =F11+I11+L11+O11+R11 -> 1079 | D11: =G11+J11+M11+P11+S11 -> 629 | E11: =SUM(F11:G11) -> 122 | F11: 67 | G11: 55 | H11: =SUM(I11:J11) -> 134 | I11: 48 | J11: 86 | K11: =SUM(L11:M11) -> 88 | L11: 27 | M11: 61 | N11: =SUM(O11:P11) -> 416 | O11: 202 | P11: 214 | Q11: =SUM(R11:S11) -> 948 | R11: 735 | S11: 213
A12: 35∼39세 | B12: =E12+H12+K12+N12+Q12 -> 1320 | C12: =F12+I12+L12+O12+R12 -> 830 | D12: =G12+J12+M12+P12+S12 -> 490 | E12: =SUM(F12:G12) -> 73 | F12: 34 | G12: 39 | H12: =SUM(I12:J12) -> 123 | I12: 55 | J12: 68 | K12: =SUM(L12:M12) -> 80 | L12: 20 | M12: 60 | N12: =SUM(O12:P12) -> 337 | O12: 179 | P12: 158 | Q12: =SUM(R12:S12) -> 707 | R12: 542 | S12: 165
A13: 40∼44세 | B13: =E13+H13+K13+N13+Q13 -> 842 | C13: =F13+I13+L13+O13+R13 -> 426 | D13: =G13+J13+M13+P13+S13 -> 416 | E13: =SUM(F13:G13) -> 60 | F13: 22 | G13: 38 | H13: =SUM(I13:J13) -> 98 | I13: 40 | J13: 58 | K13: =SUM(L13:M13) -> 86 | L13: 26 | M13: 60 | N13: =SUM(O13:P13) -> 228 | O13: 97 | P13: 131 | Q13: =SUM(R13:S13) -> 370 | R13: 241 | S13: 129
A14: 45∼49세 | B14: =E14+H14+K14+N14+Q14 -> 618 | C14: =F14+I14+L14+O14+R14 -> 241 | D14: =G14+J14+M14+P14+S14 -> 377 | E14: =SUM(F14:G14) -> 50 | F14: 18 | G14: 32 | H14: =SUM(I14:J14) -> 123 | I14: 41 | J14: 82 | K14: =SUM(L14:M14) -> 74 | L14: 26 | M14: 48 | N14: =SUM(O14:P14) -> 189 | O14: 68 | P14: 121 | Q14: =SUM(R14:S14) -> 182 | R14: 88 | S14: 94
A15: 50∼54세 | B15: =E15+H15+K15+N15+Q15 -> 428 | C15: =F15+I15+L15+O15+R15 -> 198 | D15: =G15+J15+M15+P15+S15 -> 230 | E15: =SUM(F15:G15) -> 48 | F15: 21 | G15: 27 | H15: =SUM(I15:J15) -> 61 | I15: 28 | J15: 33 | K15: =SUM(L15:M15) -> 59 | L15: 27 | M15: 32 | N15: =SUM(O15:P15) -> 138 | O15: 57 | P15: 81 | Q15: =SUM(R15:S15) -> 122 | R15: 65 | S15: 57
A16: 55∼59세 | B16: =E16+H16+K16+N16+Q16 -> 351 | C16: =F16+I16+L16+O16+R16 -> 176 | D16: =G16+J16+M16+P16+S16 -> 175 | E16: =SUM(F16:G16) -> 36 | F16: 16 | G16: 20 | H16: =SUM(I16:J16) -> 51 | I16: 23 | J16: 28 | K16: =SUM(L16:M16) -> 46 | L16: 23 | M16: 23 | N16: =SUM(O16:P16) -> 120 | O16: 60 | P16: 60 | Q16: =SUM(R16:S16) -> 98 | R16: 54 | S16: 44
... A19: 70∼74세 | B19: =E19+H19+K19+N19+Q19 -> 44 | C19: =F19+I19+L19+O19+R19 -> 17 | D19: =G19+J19+M19+P19+S19 -> 27 | E19: =SUM(F19:G19) -> 9 | F19: 4 | G19: 5 | H19: =SUM(I19:J19) -> 6 | I19: 1 | J19: 5 | K19: =SUM(L19:M19) -> 5 | L19: 3 | M19: 2 | N19: =SUM(O19:P19) -> 11 | O19: 3 | P19: 8 | Q19: =SUM(R19:S19) -> 13 | R19: 6 | S19: 7
A20: 75∼79세 | B20: =E20+H20+K20+N20+Q20 -> 27 | C20: =F20+I20+L20+O20+R20 -> 19 | D20: =G20+J20+M20+P20+S20 -> 8 | E20: =SUM(F20:G20) -> 11 | F20: 9 | G20: 2 | H20: =SUM(I20:J20) -> 3 | I20: 0 | J20: 3 | K20: =SUM(L20:M20) -> 3 | L20: 3 | M20: 0 | N20: =SUM(O20:P20) -> 9 | O20: 6 | P20: 3 | Q20: =SUM(R20:S20) -> 1 | R20: 1 | S20: 0
A21: 80∼84세 | B21: =E21+H21+K21+N21+Q21 -> 9 | C21: =F21+I21+L21+O21+R21 -> 3 | D21: =G21+J21+M21+P21+S21 -> 6 | E21: =SUM(F21:G21) -> 2 | F21: 1 | G21: 1 | H21: =SUM(I21:J21) -> 0 | I21: 0 | J21: 0 | K21: =SUM(L21:M21) -> 1 | L21: 1 | M21: 0 | N21: =SUM(O21:P21) -> 5 | O21: 0 | P21: 5 | Q21: =SUM(R21:S21) -> 1 | R21: 1 | S21: 0
A22: 85∼89세 | B22: =E22+H22+K22+N22+Q22 -> 3 | C22: =F22+I22+L22+O22+R22 -> 1 | D22: =G22+J22+M22+P22+S22 -> 2 | E22: =SUM(F22:G22) -> 0 | F22: 0 | G22: 0 | H22: =SUM(I22:J22) -> 0 | I22: 0 | J22: 0 | K22: =SUM(L22:M22) -> 1 | L22: 0 | M22: 1 | N22: =SUM(O22:P22) -> 2 | O22: 1 | P22: 1 | Q22: 0 | R22: 0 | S22: 0
A23: 90∼94세 | B23: =E23+H23+K23+N23+Q23 -> 1 | C23: =F23+I23+L23+O23+R23 -> 0 | D23: =G23+J23+M23+P23+S23 -> 1 | E23: =SUM(F23:G23) -> 0 | F23: 0 | G23: 0 | H23: =SUM(I23:J23) -> 0 | I23: 0 | J23: 0 | K23: =SUM(L23:M23) -> 0 | L23: 0 | M23: 0 | N23: =SUM(O23:P23) -> 1 | O23: 0 | P23: 1 | Q23: 0 | R23: 0 | S23: 0
A24: 95∼99세 | B24: =E24+H24+K24+N24+Q24 -> 0 | C24: =F24+I24+L24+O24+R24 -> 0 | D24: =G24+J24+M24+P24+S24 -> 0 | E24: =SUM(F24:G24) -> 0 | F24: 0 | G24: 0 | H24: =SUM(I24:J24) -> 0 | I24: 0 | J24: 0 | K24: =SUM(L24:M24) -> 0 | L24: 0 | M24: 0 | N24: =SUM(O24:P24) -> 0 | O24: 0 | P24: 0 | Q24: 0 | R24: 0 | S24: 0
A25: 100이상 | B25: =E25+H25+K25+N25+Q25 -> 0 | C25: =F25+I25+L25+O25+R25 -> 0 | D25: =G25+J25+M25+P25+S25 -> 0 | E25: =SUM(F25:G25) -> 0 | F25: 0 | G25: 0 | H25: =SUM(I25:J25) -> 0 | I25: 0 | J25: 0 | K25: =SUM(L25:M25) -> 0 | L25: 0 | M25: 0 | N25: =SUM(O25:P25) -> 0 | O25: 0 | P25: 0 | Q25: 0 | R25: 0 | S25: 0
A26: 65세이상 | B26: =SUM(B18:B25) -> 155 | C26: =SUM(C18:C25) -> 74 | D26: =SUM(D18:D25) -> 81 | E26: =SUM(E18:E25) -> 27 | F26: =SUM(F18:F25) -> 15 | G26: =SUM(G18:G25) -> 12 | H26: =SUM(H18:H25) -> 25 | I26: =SUM(I18:I25) -> 11 | ... S26: =SUM(S18:S25) -> 17
A27: 15-64세 | B27: =SUM(B8:B17) -> 11508 | C27: =SUM(C8:C17) -> 6102 | D27: =SUM(D8:D17) -> 5406 | E27: =SUM(E8:E17) -> 1145 | F27: =SUM(F8:F17) -> 519 | G27: =SUM(G8:G17) -> 626 | H27: =SUM(H8:H17) -> 1081 | I27: =SUM(I8:I17) -> 392 | ... S27: =SUM(S8:S17) -> 1735
A28: 14세이하 | B28: =SUM(B5:B7) -> 260 | C28: =SUM(C5:C7) -> 144 | D28: =SUM(D5:D7) -> 116 | E28: =SUM(E5:E7) -> 29 | F28: =SUM(F5:F7) -> 14 | G28: =SUM(G5:G7) -> 15 | H28: =SUM(H5:H7) -> 44 | I28: =SUM(I5:I7) -> 25 | ... S28: =SUM(S5:S7) -> 20

Sheet 2009년
A1: 5. 구별·연령별 외국인 현황
S2: 단위 : 명
A3: 구 분 | B3: 합 계 | E3: 동 구 | H3: 서 구 | K3: 남 구 | N3: 북 구 | Q3: 광 산 구
B4: 합계 | C4: 남 | D4: 여 | E4: 계 | F4: 남 | G4: 여 | H4: 계 | I4: 남 | J4: 여 | K4: 계 | L4: 남 | M4: 여 | N4: 계 | O4: 남 | P4: 여 | Q4: 계 | R4: 남 | S4: 여
A5: 2009 | B5: =SUM(C5:D5) -> 12188 | C5: =SUM(C6:C26) -> 6363 | D5: =SUM(D6:D26) -> 5825 | E5: =SUM(E6:E26) -> 1152 | F5: =SUM(F6:F26) -> 538 | G5: =SUM(G6:G26) -> 614 | H5: =SUM(H6:H26) -> 1174 | I5: =SUM(I6:I26) -> 443 | J5: =SUM(J6:J26) -> 731 | ... S5: =SUM(S6:S26) -> 2049
A6: 0∼ 4 세 | B6: =SUM(C6:D6) -> 75 | C6: =SUM(F6,I6,L6,O6,R6) -> 40 | D6: =SUM(G6,J6,M6,P6,S6) -> 35 | E6: =SUM(F6:G6) -> 4 | F6: 1 | G6: 3 | H6: =SUM(I6:J6) -> 14 | I6: 10 | J6: 4 | K6: =SUM(L6:M6) -> 9 | L6: 4 | M6: 5 | N6: =SUM(O6:P6) -> 33 | O6: 16 | P6: 17 | Q6: =SUM(R6:S6) -> 15 | R6: 9 | S6: 6
A7: 5∼ 9 세 | B7: =SUM(C7:D7) -> 104 | C7: =SUM(F7,I7,L7,O7,R7) -> 57 | D7: =SUM(G7,J7,M7,P7,S7) -> 47 | E7: =SUM(F7:G7) -> 11 | F7: 5 | G7: 6 | H7: =SUM(I7:J7) -> 15 | I7: 6 | J7: 9 | K7: =SUM(L7:M7) -> 13 | L7: 9 | M7: 4 | N7: =SUM(O7:P7) -> 44 | O7: 24 | P7: 20 | Q7: =SUM(R7:S7) -> 21 | R7: 13 | S7: 8
A8: 10∼14세 | B8: =SUM(C8:D8) -> 75 | C8: =SUM(F8,I8,L8,O8,R8) -> 46 | D8: =SUM(G8,J8,M8,P8,S8) -> 29 | E8: =SUM(F8:G8) -> 12 | F8: 5 | G8: 7 | H8: =SUM(I8:J8) -> 11 | I8: 8 | J8: 3 | K8: =SUM(L8:M8) -> 9 | L8: 7 | M8: 2 | N8: =SUM(O8:P8) -> 23 | O8: 13 | P8: 10 | Q8: =SUM(R8:S8) -> 20 | R8: 13 | S8: 7
A9: 15∼19세 | B9: =SUM(C9:D9) -> 154 | C9: =SUM(F9,I9,L9,O9,R9) -> 69 | D9: =SUM(G9,J9,M9,P9,S9) -> 85 | E9: =SUM(F9:G9) -> 13 | F9: 7 | G9: 6 | H9: =SUM(I9:J9) -> 24 | I9: 11 | J9: 13 | K9: =SUM(L9:M9) -> 27 | L9: 12 | M9: 15 | N9: =SUM(O9:P9) -> 62 | O9: 34 | P9: 28 | Q9: =SUM(R9:S9) -> 28 | R9: 5 | S9: 23
A10: 20∼24세 | B10: =SUM(C10:D10) -> 3258 | C10: =SUM(F10,I10,L10,O10,R10) -> 1353 | D10: =SUM(G10,J10,M10,P10,S10) -> 1905 | E10: =SUM(F10:G10) -> 339 | F10: 154 | G10: 185 | H10: =SUM(I10:J10) -> 220 | I10: 64 | J10: 156 | K10: =SUM(L10:M10) -> 278 | L10: 92 | M10: 186 | N10: =SUM(O10:P10) -> 981 | O10: 421 | P10: 560 | Q10: =SUM(R10:S10) -> 1440 | R10: 622 | S10: 818
A11: 25∼29세 | B11: =SUM(C11:D11) -> 2882 | C11: =SUM(F11,I11,L11,O11,R11) -> 1625 | D11: =SUM(G11,J11,M11,P11,S11) -> 1257 | E11: =SUM(F11:G11) -> 335 | F11: 160 | G11: 175 | H11: =SUM(I11:J11) -> 281 | I11: 104 | J11: 177 | K11: =SUM(L11:M11) -> 190 | L11: 58 | M11: 132 | N11: =SUM(O11:P11) -> 736 | O11: 341 | P11: 395 | Q11: =SUM(R11:S11) -> 1340 | R11: 962 | S11: 378
A12: 30∼34세 | B12: =SUM(C12:D12) -> 1805 | C12: =SUM(F12,I12,L12,O12,R12) -> 1140 | D12: =SUM(G12,J12,M12,P12,S12) -> 665 | E12: =SUM(F12:G12) -> 128 | F12: 69 | G12: 59 | H12: =SUM(I12:J12) -> 143 | I12: 57 | J12: 86 | K12: =SUM(L12:M12) -> 94 | L12: 31 | M12: 63 | N12: =SUM(O12:P12) -> 397 | O12: 191 | P12: 206 | Q12: =SUM(R12:S12) -> 1043 | R12: 792 | S12: 251
A13: 35∼39세 | B13: =SUM(C13:D13) -> 1251 | C13: =SUM(F13,I13,L13,O13,R13) -> 793 | D13: =SUM(G13,J13,M13,P13,S13) -> 458 | E13: =SUM(F13:G13) -> 70 | F13: 32 | G13: 38 | H13: =SUM(I13:J13) -> 120 | I13: 47 | J13: 73 | K13: =SUM(L13:M13) -> 68 | L13: 20 | M13: 48 | N13: =SUM(O13:P13) -> 286 | O13: 150 | P13: 136 | Q13: =SUM(R13:S13) -> 707 | R13: 544 | S13: 163
A14: 40∼44세 | B14: =SUM(C14:D14) -> 860 | C14: =SUM(F14,I14,L14,O14,R14) -> 485 | D14: =SUM(G14,J14,M14,P14,S14) -> 375 | E14: =SUM(F14:G14) -> 53 | F14: 22 | G14: 31 | H14: =SUM(I14:J14) -> 87 | I14: 36 | J14: 51 | K14: =SUM(L14:M14) -> 68 | L14: 25 | M14: 43 | N14: =SUM(O14:P14) -> 213 | O14: 93 | P14: 120 | Q14: =SUM(R14:S14) -> 439 | R14: 309 | S14: 130
A15: 45∼49세 | B15: =SUM(C15:D15) -> 603 | C15: =SUM(F15,I15,L15,O15,R15) -> 216 | D15: =SUM(G15,J15,M15,P15,S15) -> 387 | E15: =SUM(F15:G15) -> 57 | F15: 20 | G15: 37 | H15: =SUM(I15:J15) -> 98 | I15: 29 | J15: 69 | K15: =SUM(L15:M15) -> 66 | L15: 16 | M15: 50 | N15: =SUM(O15:P15) -> 184 | O15: 57 | P15: 127 | Q15: =SUM(R15:S15) -> 198 | R15: 94 | S15: 104
A16: 50∼54세 | B16: =SUM(C16:D16) -> 450 | C16: =SUM(F16,I16,L16,O16,R16) -> 206 | D16: =SUM(G16,J16,M16,P16,S16) -> 244 | E16: =SUM(F16:G16) -> 46 | F16: 18 | G16: 28 | H16: =SUM(I16:J16) -> 77 | I16: 33 | J16: 44 | K16: =SUM(L16:M16) -> 47 | L16: 21 | M16: 26 | N16: =SUM(O16:P16) -> 149 | O16: 66 | P16: 83 | Q16: =SUM(R16:S16) -> 131 | R16: 68 | S16: 63
A17: 55∼59세 | B17: =SUM(C17:D17) -> 322 | C17: =SUM(F17,I17,L17,O17,R17) -> 152 | D17: =SUM(G17,J17,M17,P17,S17) -> 170 | E17: =SUM(F17:G17) -> 30 | F17: 13 | G17: 17 | H17: =SUM(I17:J17) -> 33 | I17: 12 | J17: 21 | K17: =SUM(L17:M17) -> 38 | L17: 17 | M17: 21 | N17: =SUM(O17:P17) -> 110 | O17: 58 | P17: 52 | Q17: =SUM(R17:S17) -> 111 | R17: 52 | S17: 59
... A26: 100이상 | B26: =SUM(C26:D26) -> 0 | C26: =SUM(F26,I26,L26,O26,R26) -> 0 | D26: =SUM(G26,J26,M26,P26,S26) -> 0 | E26: =SUM(F26:G26) -> 0 | F26: 0 | G26: 0 | H26: =SUM(I26:J26) -> 0 | I26: 0 | J26: 0 | K26: =SUM(L26:M26) -> 0 | L26: 0 | M26: 0 | N26: =SUM(O26:P26) -> 0 | O26: 0 | P26: 0 | Q26: =SUM(R26:S26) -> 0 | R26: 0 | S26: 0
A27: 65세이상 | B27: =SUM(B19:B26) -> 145 | C27: =SUM(C19:C26) -> 71 | D27: =SUM(D19:D26) -> 74 | E27: =SUM(E19:E26) -> 32 | F27: =SUM(F19:F26) -> 16 | G27: =SUM(G19:G26) -> 16 | H27: =SUM(H19:H26) -> 20 | I27: =SUM(I19:I26) -> 10 | ... S27: =SUM(S19:S26) -> 16
A28: 15-64세 | B28: =SUM(B9:B18) -> 11789 | C28: =SUM(C9:C18) -> 6149 | D28: =SUM(D9:D18) -> 5640 | E28: =SUM(E9:E18) -> 1093 | F28: =SUM(F9:F18) -> 511 | G28: =SUM(G9:G18) -> 582 | H28: =SUM(H9:H18) -> 1114 | I28: =SUM(I9:I18) -> 409 | ... S28: =SUM(S9:S18) -> 2012
A29: 14세이하 | B29: =SUM(B6:B8) -> 254 | C29: =SUM(C6:C8) -> 143 | D29: =SUM(D6:D8) -> 111 | E29: =SUM(E6:E8) -> 27 | F29: =SUM(F6:F8) -> 11 | G29: =SUM(G6:G8) -> 16 | H29: =SUM(H6:H8) -> 40 | I29: =SUM(I6:I8) -> 24 | ... S29: =SUM(S6:S8) -> 21

Sheet 2010년
A1: 5. 구별·연령별 외국인 현황
S2: 단위 : 명
A3: =[6]외국인!A3 -> 구 분 | B3: 합 계 | E3: 동 구 | H3: 서 구 | K3: 남 구 | N3: 북 구 | Q3: 광 산 구
B4: 계 | C4: 남 | D4: 여 | E4: =[6]외국인!B4 -> 계 | F4: =[6]외국인!C4 -> 남 | G4: =[6]외국인!D4 -> 여 | H4: =[7]외국인!B4 -> 계 | I4: =[7]외국인!C4 -> 남 | J4: =[7]외국인!D4 -> 여 | K4: =[8]외국인!B4 -> 계 | L4: =[8]외국인!C4 -> 남 | M4: =[8]외국인!D4 -> 여 | N4: ='[9]외국인 '!B4 -> 계 | O4: ='[9]외국인 '!C4 -> 남 | P4: ='[9]외국인 '!D4 -> 여 | Q4: ='[10]외국인 '!B4 -> 계 | R4: ='[10]외국인 '!C4 -> 남 | S4: ='[10]외국인 '!D4 -> 여
A5: 2010 | B5: =SUM(E5,H5,K5,N5,Q5) -> 13360 | C5: =SUM(F5,I5,L5,O5,R5) -> 7112 | D5: =SUM(G5,J5,M5,P5,S5) -> 6248 | E5: =[6]외국인!B5 -> 1034 | F5: =[6]외국인!C5 -> 484 | G5: =[6]외국인!D5 -> 550 | H5: =[7]외국인!B5 -> 1198 | I5: =[7]외국인!C5 -> 447 | J5: =[7]외국인!D5 -> 751 | K5: =[8]외국인!B5 -> 981 | L5: =[8]외국인!C5 -> 318 | M5: =[8]외국인!D5 -> 663 | N5: ='[9]외국인 '!B5 -> 3541 | O5: ='[9]외국인 '!C5 -> 1604 | P5: ='[9]외국인 '!D5 -> 1937 | Q5: ='[10]외국인 '!B5 -> 6606 | R5: ='[10]외국인 '!C5 -> 4259 | S5: ='[10]외국인 '!D5 -> 2347
A6: =[6]외국인!A6 -> 0∼ 4 세 | B6: =SUM(E6,H6,K6,N6,Q6) -> 91 | C6: =SUM(F6,I6,L6,O6,R6) -> 41 | D6: =SUM(G6,J6,M6,P6,S6) -> 50 | E6: =[6]외국인!B6 -> 11 | F6: =[6]외국인!C6 -> 2 | G6: =[6]외국인!D6 -> 9 | H6: =[7]외국인!B6 -> 11 | I6: =[7]외국인!C6 -> 8 | J6: =[7]외국인!D6 -> 3 | K6: =[8]외국인!B6 -> 11 | L6: =[8]외국인!C6 -> 7 | M6: =[8]외국인!D6 -> 4 | N6: ='[9]외국인 '!B6 -> 35 | O6: ='[9]외국인 '!C6 -> 12 | P6: ='[9]외국인 '!D6 -> 23 | Q6: ='[10]외국인 '!B6 -> 23 | R6: ='[10]외국인 '!C6 -> 12 | S6: ='[10]외국인 '!D6 -> 11
A7: =[6]외국인!A7 -> 5∼ 9 세 | B7: =SUM(E7,H7,K7,N7,Q7) -> 89 | C7: =SUM(F7,I7,L7,O7,R7) -> 48 | D7: =SUM(G7,J7,M7,P7,S7) -> 41 | E7: =[6]외국인!B7 -> 8 | F7: =[6]외국인!C7 -> 4 | G7: =[6]외국인!D7 -> 4 | H7: =[7]외국인!B7 -> 17 | I7: =[7]외국인!C7 -> 7 | J7: =[7]외국인!D7 -> 10 | K7: =[8]외국인!B7 -> 9 | L7: =[8]외국인!C7 -> 5 | M7: =[8]외국인!D7 -> 4 | N7: ='[9]외국인 '!B7 -> 35 | O7: ='[9]외국인 '!C7 -> 20 | P7: ='[9]외국인 '!D7 -> 15 | Q7: ='[10]외국인 '!B7 -> 20 | R7: ='[10]외국인 '!C7 -> 12 | S7: ='[10]외국인 '!D7 -> 8
A8: =[6]외국인!A8 -> 10∼14세 | B8: =SUM(E8,H8,K8,N8,Q8) -> 63 | C8: =SUM(F8,I8,L8,O8,R8) -> 37 | D8: =SUM(G8,J8,M8,P8,S8) -> 26 | E8: =[6]외국인!B8 -> 12 | F8: =[6]외국인!C8 -> 5 | G8: =[6]외국인!D8 -> 7 | H8: =[7]외국인!B8 -> 13 | I8: =[7]외국인!C8 -> 10 | J8: =[7]외국인!D8 -> 3 | K8: =[8]외국인!B8 -> 7 | L8: =[8]외국인!C8 -> 5 | M8: =[8]외국인!D8 -> 2 | N8: ='[9]외국인 '!B8 -> 21 | O8: ='[9]외국인 '!C8 -> 13 | P8: ='[9]외국인 '!D8 -> 8 | Q8: ='[10]외국인 '!B8 -> 10 | R8: ='[10]외국인 '!C8 -> 4 | S8: ='[10]외국인 '!D8 -> 6
A9: =[6]외국인!A9 -> 15∼19세 | B9: =SUM(E9,H9,K9,N9,Q9) -> 308 | C9: =SUM(F9,I9,L9,O9,R9) -> 113 | D9: =SUM(G9,J9,M9,P9,S9) -> 195 | E9: =[6]외국인!B9 -> 22 | F9: =[6]외국인!C9 -> 7 | G9: =[6]외국인!D9 -> 15 | H9: =[7]외국인!B9 -> 31 | I9: =[7]외국인!C9 -> 10 | J9: =[7]외국인!D9 -> 21 | K9: =[8]외국인!B9 -> 39 | L9: =[8]외국인!C9 -> 13 | M9: =[8]외국인!D9 -> 26 | N9: ='[9]외국인 '!B9 -> 123 | O9: ='[9]외국인 '!C9 -> 64 | P9: ='[9]외국인 '!D9 -> 59 | Q9: ='[10]외국인 '!B9 -> 93 | R9: ='[10]외국인 '!C9 -> 19 | S9: ='[10]외국인 '!D9 -> 74
A10: =[6]외국인!A10 -> 20∼24세 | B10: =SUM(E10,H10,K10,N10,Q10) -> 3888 | C10: =SUM(F10,I10,L10,O10,R10) -> 1655 | D10: =SUM(G10,J10,M10,P10,S10) -> 2233 | E10: =[6]외국인!B10 -> 339 | F10: =[6]외국인!C10 -> 153 | G10: =[6]외국인!D10 -> 186 | H10: =[7]외국인!B10 -> 268 | I10: =[7]외국인!C10 -> 75 | J10: =[7]외국인!D10 -> 193 | K10: =[8]외국인!B10 -> 341 | L10: =[8]외국인!C10 -> 100 | M10: =[8]외국인!D10 -> 241 | N10: ='[9]외국인 '!B10 -> 1167 | O10: ='[9]외국인 '!C10 -> 497 | P10: ='[9]외국인 '!D10 -> 670 | Q10: ='[10]외국인 '!B10 -> 1773 | R10: ='[10]외국인 '!C10 -> 830 | S10: ='[10]외국인 '!D10 -> 943
A11: =[6]외국인!A11 -> 25∼29세 | B11: =SUM(E11,H11,K11,N11,Q11) -> 3018 | C11: =SUM(F11,I11,L11,O11,R11) -> 1795 | D11: =SUM(G11,J11,M11,P11,S11) -> 1223 | E11: =[6]외국인!B11 -> 253 | F11: =[6]외국인!C11 -> 121 | G11: =[6]외국인!D11 -> 132 | H11: =[7]외국인!B11 -> 253 | I11: =[7]외국인!C11 -> 97 | J11: =[7]외국인!D11 -> 156 | K11: =[8]외국인!B11 -> 167 | L11: =[8]외국인!C11 -> 46 | M11: =[8]외국인!D11 -> 121 | N11: ='[9]외국인 '!B11 -> 768 | O11: ='[9]외국인 '!C11 -> 357 | P11: ='[9]외국인 '!D11 -> 411 | Q11: ='[10]외국인 '!B11 -> 1577 | R11: ='[10]외국인 '!C11 -> 1174 | S11: ='[10]외국인 '!D11 -> 403
A12: =[6]외국인!A12 -> 30∼34세 | B12: =SUM(E12,H12,K12,N12,Q12) -> 1940 | C12: =SUM(F12,I12,L12,O12,R12) -> 1280 | D12: =SUM(G12,J12,M12,P12,S12) -> 660 | E12: =[6]외국인!B12 -> 121 | F12: =[6]외국인!C12 -> 65 | G12: =[6]외국인!D12 -> 56 | H12: =[7]외국인!B12 -> 128 | I12: =[7]외국인!C12 -> 54 | J12: =[7]외국인!D12 -> 74 | K12: =[8]외국인!B12 -> 96 | L12: =[8]외국인!C12 -> 29 | M12: =[8]외국인!D12 -> 67 | N12: ='[9]외국인 '!B12 -> 388 | O12: ='[9]외국인 '!C12 -> 191 | P12: ='[9]외국인 '!D12 -> 197 | Q12: ='[10]외국인 '!B12 -> 1207 | R12: ='[10]외국인 '!C12 -> 941 | S12: ='[10]외국인 '!D12 -> 266
A13: =[6]외국인!A13 -> 35∼39세 | B13: =SUM(E13,H13,K13,N13,Q13) -> 1294 | C13: =SUM(F13,I13,L13,O13,R13) -> 864 | D13: =SUM(G13,J13,M13,P13,S13) -> 430 | E13: =[6]외국인!B13 -> 54 | F13: =[6]외국인!C13 -> 27 | G13: =[6]외국인!D13 -> 27 | H13: =[7]외국인!B13 -> 121 | I13: =[7]외국인!C13 -> 49 | J13: =[7]외국인!D13 -> 72 | K13: =[8]외국인!B13 -> 66 | L13: =[8]외국인!C13 -> 17 | M13: =[8]외국인!D13 -> 49 | N13: ='[9]외국인 '!B13 -> 281 | O13: ='[9]외국인 '!C13 -> 154 | P13: ='[9]외국인 '!D13 -> 127 | Q13: ='[10]외국인 '!B13 -> 772 | R13: ='[10]외국인 '!C13 -> 617 | S13: ='[10]외국인 '!D13 -> 155
A14: =[6]외국인!A14 -> 40∼44세 | B14: =SUM(E14,H14,K14,N14,Q14) -> 899 | C14: =SUM(F14,I14,L14,O14,R14) -> 490 | D14: =SUM(G14,J14,M14,P14,S14) -> 409 | E14: =[6]외국인!B14 -> 51 | F14: =[6]외국인!C14 -> 26 | G14: =[6]외국인!D14 -> 25 | H14: =[7]외국인!B14 -> 100 | I14: =[7]외국인!C14 -> 40 | J14: =[7]외국인!D14 -> 60 | K14: =[8]외국인!B14 -> 60 | L14: =[8]외국인!C14 -> 20 | M14: =[8]외국인!D14 -> 40 | N14: ='[9]외국인 '!B14 -> 193 | O14: ='[9]외국인 '!C14 -> 75 | P14: ='[9]외국인 '!D14 -> 118 | Q14: ='[10]외국인 '!B14 -> 495 | R14: ='[10]외국인 '!C14 -> 329 | S14: ='[10]외국인 '!D14 -> 166
A15: =[6]외국인!A15 -> 45∼49세 | B15: =SUM(E15,H15,K15,N15,Q15) -> 667 | C15: =SUM(F15,I15,L15,O15,R15) -> 245 | D15: =SUM(G15,J15,M15,P15,S15) -> 422 | E15: =[6]외국인!B15 -> 53 | F15: =[6]외국인!C15 -> 17 | G15: =[6]외국인!D15 -> 36 | H15: =[7]외국인!B15 -> 99 | I15: =[7]외국인!C15 -> 32 | J15: =[7]외국인!D15 -> 67 | K15: =[8]외국인!B15 -> 67 | L15: =[8]외국인!C15 -> 19 | M15: =[8]외국인!D15 -> 48 | N15: ='[9]외국인 '!B15 -> 196 | O15: ='[9]외국인 '!C15 -> 61 | P15: ='[9]외국인 '!D15 -> 135 | Q15: ='[10]외국인 '!B15 -> 252 | R15: ='[10]외국인 '!C15 -> 116 | S15: ='[10]외국인 '!D15 -> 136
A16: =[6]외국인!A16 -> 50∼54세 | B16: =SUM(E16,H16,K16,N16,Q16) -> 470 | C16: =SUM(F16,I16,L16,O16,R16) -> 222 | D16: =SUM(G16,J16,M16,P16,S16) -> 248 | E16: =[6]외국인!B16 -> 46 | F16: =[6]외국인!C16 -> 20 | G16: =[6]외국인!D16 -> 26 | H16: =[7]외국인!B16 -> 74 | I16: =[7]외국인!C16 -> 31 | J16: =[7]외국인!D16 -> 43 | K16: =[8]외국인!B16 -> 48 | L16: =[8]외국인!C16 -> 22 | M16: =[8]외국인!D16 -> 26 | N16: ='[9]외국인 '!B16 -> 132 | O16: ='[9]외국인 '!C16 -> 60 | P16: ='[9]외국인 '!D16 -> 72 | Q16: ='[10]외국인 '!B16 -> 170 | R16: ='[10]외국인 '!C16 -> 89 | S16: ='[10]외국인 '!D16 -> 81
A17: =[6]외국인!A17 -> 55∼59세 | B17: =SUM(E17,H17,K17,N17,Q17) -> 335 | C17: =SUM(F17,I17,L17,O17,R17) -> 161 | D17: =SUM(G17,J17,M17,P17,S17) -> 174 | E17: =[6]외국인!B17 -> 23 | F17: =[6]외국인!C17 -> 12 | G17: =[6]외국인!D17 -> 11 | H17: =[7]외국인!B17 -> 42 | I17: =[7]외국인!C17 -> 14 | J17: =[7]외국인!D17 -> 28 | K17: =[8]외국인!B17 -> 40 | L17: =[8]외국인!C17 -> 19 | M17: =[8]외국인!D17 -> 21 | N17: ='[9]외국인 '!B17 -> 102 | O17: ='[9]외국인 '!C17 -> 50 | P17: ='[9]외국인 '!D17 -> 52 | Q17: ='[10]외국인 '!B17 -> 128 | R17: ='[10]외국인 '!C17 -> 66 | S17: ='[10]외국인 '!D17 -> 62
... A26: =[6]외국인!A26 -> 100이상 | B26: =SUM(E26,H26,K26,N26,Q26) -> 0 | C26: =SUM(F26,I26,L26,O26,R26) -> 0 | D26: =SUM(G26,J26,M26,P26,S26) -> 0 | E26: =[6]외국인!B26 -> 0 | F26: =[6]외국인!C26 -> 0 | G26: =[6]외국인!D26 -> 0 | H26: =[7]외국인!B26 -> 0 | I26: =[7]외국인!C26 -> 0 | J26: =[7]외국인!D26 -> 0 | K26: =[8]외국인!B26 -> 0 | L26: =[8]외국인!C26 -> 0 | M26: =[8]외국인!D26 -> 0 | N26: ='[9]외국인 '!B26 -> 0 | O26: ='[9]외국인 '!C26 -> 0 | P26: ='[9]외국인 '!D26 -> 0 | Q26: ='[10]외국인 '!B26 -> 0 | R26: ='[10]외국인 '!C26 -> 0 | S26: ='[10]외국인 '!D26 -> 0
A27: 65세이상 | B27: =SUM(B19:B26) -> 105 | C27: =SUM(C19:C26) -> 53 | D27: =SUM(D19:D26) -> 52 | E27: =SUM(E19:E26) -> 25 | F27: =SUM(F19:F26) -> 14 | G27: =SUM(G19:G26) -> 11 | H27: =SUM(H19:H26) -> 12 | I27: =SUM(I19:I26) -> 5 | ... S27: =SUM(S19:S26) -> 11
A28: 15-64세 | B28: =SUM(B9:B18) -> 13012 | C28: =SUM(C9:C18) -> 6933 | D28: =SUM(D9:D18) -> 6079 | E28: =SUM(E9:E18) -> 978 | F28: =SUM(F9:F18) -> 459 | G28: =SUM(G9:G18) -> 519 | H28: =SUM(H9:H18) -> 1145 | I28: =SUM(I9:I18) -> 417 | ... S28: =SUM(S9:S18) -> 2311
A29: 14세이하 | B29: =SUM(B6:B8) -> 243 | C29: =SUM(C6:C8) -> 126 | D29: =SUM(D6:D8) -> 117 | E29: =SUM(E6:E8) -> 31 | F29: =SUM(F6:F8) -> 11 | G29: =SUM(G6:G8) -> 20 | H29: =SUM(H6:H8) -> 41 | I29: =SUM(I6:I8) -> 25 | ... S29: =SUM(S6:S8) -> 25

Sheet 2011년
A1: 5. 구별·연령별 외국인 현황
S2: 단위 : 명
A3: =[6]외국인!A3 -> 구 분 | B3: 합 계 | E3: 동 구 | H3: 서 구 | K3: 남 구 | N3: 북 구 | Q3: 광 산 구
B4: 계 | C4: 남 | D4: 여 | E4: =[6]외국인!B4 -> 계 | F4: =[6]외국인!C4 -> 남 | G4: =[6]외국인!D4 -> 여 | H4: =[7]외국인!B4 -> 계 | I4: =[7]외국인!C4 -> 남 | J4: =[7]외국인!D4 -> 여 | K4: =[8]외국인!B4 -> 계 | L4: =[8]외국인!C4 -> 남 | M4: =[8]외국인!D4 -> 여 | N4: ='[9]외국인 '!B4 -> 계 | O4: ='[9]외국인 '!C4 -> 남 | P4: ='[9]외국인 '!D4 -> 여 | Q4: ='[10]외국인 '!B4 -> 계 | R4: ='[10]외국인 '!C4 -> 남 | S4: ='[10]외국인 '!D4 -> 여
A5: 2011 | B5: =SUM(E5,H5,K5,N5,Q5) -> 14106 | C5: =SUM(F5,I5,L5,O5,R5) -> 7488 | D5: =SUM(G5,J5,M5,P5,S5) -> 6618 | E5: =SUM(F5:G5) -> 1064 | F5: =SUM(F6:F26) -> 496 | G5: =SUM(G6:G26) -> 568 | H5: =SUM(H6:H26) -> 1394 | I5: =SUM(I6:I26) -> 561 | J5: =SUM(J6:J26) -> 833 | K5: =SUM(K6:K26) -> 1062 | L5: =SUM(L6:L26) -> 357 | M5: =SUM(M6:M26) -> 705 | ... S5: =SUM(S6:S26) -> 2479
A6: =[6]외국인!A6 -> 0∼ 4 세 | B6: =SUM(E6,H6,K6,N6,Q6) -> 97 | C6: =SUM(F6,I6,L6,O6,R6) -> 44 | D6: =SUM(G6,J6,M6,P6,S6) -> 53 | E6: =SUM(F6:G6) -> 8 | F6: 2 | G6: 6 | H6: =SUM(I6:J6) -> 9 | I6: 6 | J6: 3 | K6: =SUM(L6:M6) -> 9 | L6: 5 | M6: 4 | N6: =SUM(O6:P6) -> 49 | O6: 19 | P6: 30 | Q6: 22 | R6: 12 | S6: 10
A7: =[6]외국인!A7 -> 5∼ 9 세 | B7: =SUM(E7,H7,K7,N7,Q7) -> 77 | C7: =SUM(F7,I7,L7,O7,R7) -> 45 | D7: =SUM(G7,J7,M7,P7,S7) -> 32 | E7: =SUM(F7:G7) -> 6 | F7: 3 | G7: 3 | H7: =SUM(I7:J7) -> 13 | I7: 9 | J7: 4 | K7: =SUM(L7:M7) -> 7 | L7: 5 | M7: 2 | N7: =SUM(O7:P7) -> 26 | O7: 12 | P7: 14 | Q7: 25 | R7: 16 | S7: 9
A8: =[6]외국인!A8 -> 10∼14세 | B8: =SUM(E8,H8,K8,N8,Q8) -> 54 | C8: =SUM(F8,I8,L8,O8,R8) -> 30 | D8: =SUM(G8,J8,M8,P8,S8) -> 24 | E8: =SUM(F8:G8) -> 8 | F8: 4 | G8: 4 | H8: =SUM(I8:J8) -> 8 | I8: 5 | J8: 3 | K8: =SUM(L8:M8) -> 8 | L8: 4 | M8: 4 | N8: =SUM(O8:P8) -> 15 | O8: 10 | P8: 5 | Q8: 15 | R8: 7 | S8: 8
A9: =[6]외국인!A9 -> 15∼19세 | B9: =SUM(E9,H9,K9,N9,Q9) -> 437 | C9: =SUM(F9,I9,L9,O9,R9) -> 251 | D9: =SUM(G9,J9,M9,P9,S9) -> 186 | E9: =SUM(F9:G9) -> 22 | F9: 3 | G9: 19 | H9: =SUM(I9:J9) -> 35 | I9: 14 | J9: 21 | K9: =SUM(L9:M9) -> 44 | L9: 22 | M9: 22 | N9: =SUM(O9:P9) -> 127 | O9: 64 | P9: 63 | Q9: 209 | R9: 148 | S9: 61
A10: =[6]외국인!A10 -> 20∼24세 | B10: =SUM(E10,H10,K10,N10,Q10) -> 3777 | C10: =SUM(F10,I10,L10,O10,R10) -> 1664 | D10: =SUM(G10,J10,M10,P10,S10) -> 2113 | E10: =SUM(F10:G10) -> 266 | F10: 108 | G10: 158 | H10: =SUM(I10:J10) -> 270 | I10: 69 | J10: 201 | K10: =SUM(L10:M10) -> 312 | L10: 93 | M10: 219 | N10: =SUM(O10:P10) -> 1174 | O10: 486 | P10: 688 | Q10: 1755 | R10: 908 | S10: 847
A11: =[6]외국인!A11 -> 25∼29세 | B11: =SUM(E11,H11,K11,N11,Q11) -> 3291 | C11: =SUM(F11,I11,L11,O11,R11) -> 1902 | D11: =SUM(G11,J11,M11,P11,S11) -> 1389 | E11: =SUM(F11:G11) -> 308 | F11: 152 | G11: 156 | H11: =SUM(I11:J11) -> 324 | I11: 151 | J11: 173 | K11: =SUM(L11:M11) -> 217 | L11: 69 | M11: 148 | N11: =SUM(O11:P11) -> 852 | O11: 401 | P11: 451 | Q11: 1590 | R11: 1129 | S11: 461
A12: =[6]외국인!A12 -> 30∼34세 | B12: =SUM(E12,H12,K12,N12,Q12) -> 2015 | C12: =SUM(F12,I12,L12,O12,R12) -> 1291 | D12: =SUM(G12,J12,M12,P12,S12) -> 724 | E12: =SUM(F12:G12) -> 141 | F12: 78 | G12: 63 | H12: =SUM(I12:J12) -> 173 | I12: 76 | J12: 97 | K12: =SUM(L12:M12) -> 101 | L12: 34 | M12: 67 | N12: =SUM(O12:P12) -> 409 | O12: 207 | P12: 202 | Q12: 1191 | R12: 896 | S12: 295
A13: =[6]외국인!A13 -> 35∼39세 | B13: =SUM(E13,H13,K13,N13,Q13) -> 1289 | C13: =SUM(F13,I13,L13,O13,R13) -> 820 | D13: =SUM(G13,J13,M13,P13,S13) -> 469 | E13: =SUM(F13:G13) -> 59 | F13: 35 | G13: 24 | H13: =SUM(I13:J13) -> 125 | I13: 60 | J13: 65 | K13: =SUM(L13:M13) -> 73 | L13: 22 | M13: 51 | N13: =SUM(O13:P13) -> 277 | O13: 129 | P13: 148 | Q13: 755 | R13: 574 | S13: 181
A14: =[6]외국인!A14 -> 40∼44세 | B14: =SUM(E14,H14,K14,N14,Q14) -> 918 | C14: =SUM(F14,I14,L14,O14,R14) -> 493 | D14: =SUM(G14,J14,M14,P14,S14) -> 425 | E14: =SUM(F14:G14) -> 51 | F14: 21 | G14: 30 | H14: =SUM(I14:J14) -> 121 | I14: 41 | J14: 80 | K14: =SUM(L14:M14) -> 61 | L14: 23 | M14: 38 | N14: =SUM(O14:P14) -> 207 | O14: 102 | P14: 105 | Q14: 478 | R14: 306 | S14: 172
A15: =[6]외국인!A15 -> 45∼49세 | B15: =SUM(E15,H15,K15,N15,Q15) -> 829 | C15: =SUM(F15,I15,L15,O15,R15) -> 331 | D15: =SUM(G15,J15,M15,P15,S15) -> 498 | E15: =SUM(F15:G15) -> 67 | F15: 28 | G15: 39 | H15: =SUM(I15:J15) -> 114 | I15: 40 | J15: 74 | K15: =SUM(L15:M15) -> 92 | L15: 23 | M15: 69 | N15: =SUM(O15:P15) -> 226 | O15: 87 | P15: 139 | Q15: 330 | R15: 153 | S15: 177
A16: =[6]외국인!A16 -> 50∼54세 | B16: =SUM(E16,H16,K16,N16,Q16) -> 575 | C16: =SUM(F16,I16,L16,O16,R16) -> 265 | D16: =SUM(G16,J16,M16,P16,S16) -> 310 | E16: =SUM(F16:G16) -> 56 | F16: 26 | G16: 30 | H16: =SUM(I16:J16) -> 90 | I16: 37 | J16: 53 | K16: =SUM(L16:M16) -> 62 | L16: 23 | M16: 39 | N16: =SUM(O16:P16) -> 149 | O16: 71 | P16: 78 | Q16: 218 | R16: 108 | S16: 110
A17: =[6]외국인!A17 -> 55∼59세 | B17: =SUM(E17,H17,K17,N17,Q17) -> 399 | C17: =SUM(F17,I17,L17,O17,R17) -> 172 | D17: =SUM(G17,J17,M17,P17,S17) -> 227 | E17: =SUM(F17:G17) -> 31 | F17: 15 | G17: 16 | H17: =SUM(I17:J17) -> 66 | I17: 26 | J17: 40 | K17: =SUM(L17:M17) -> 43 | L17: 16 | M17: 27 | N17: =SUM(O17:P17) -> 100 | O17: 44 | P17: 56 | Q17: 159 | R17: 71 | S17: 88
... A26: =[6]외국인!A26 -> 100이상 | B26: =SUM(E26,H26,K26,N26,Q26) -> 0 | C26: =SUM(F26,I26,L26,O26,R26) -> 0 | D26: =SUM(G26,J26,M26,P26,S26) -> 0 | E26: =SUM(F26:G26) -> 0 | F26: 0 | G26: 0 | H26: =SUM(I26:J26) -> 0 | I26: 0 | J26: 0 | K26: =SUM(L26:M26) -> 0 | L26: 0 | M26: 0 | N26: =SUM(O26:P26) -> 0 | O26: 0 | P26: 0 | Q26: 0 | R26: 0 | S26: 0
A27: 65세이상 | B27: =SUM(B19:B26) -> 138 | C27: =SUM(C19:C26) -> 72 | D27: =SUM(D19:D26) -> 66 | E27: =SUM(E19:E26) -> 27 | F27: =SUM(F19:F26) -> 12 | G27: =SUM(G19:G26) -> 15 | H27: =SUM(H19:H26) -> 13 | I27: =SUM(I19:I26) -> 8 | ... S27: =SUM(S19:S26) -> 19
A28: 15-64세 | B28: =SUM(B9:B18) -> 13740 | C28: =SUM(C9:C18) -> 7297 | D28: =SUM(D9:D18) -> 6443 | E28: =SUM(E9:E18) -> 1015 | F28: =SUM(F9:F18) -> 475 | G28: =SUM(G9:G18) -> 540 | H28: =SUM(H9:H18) -> 1351 | I28: =SUM(I9:I18) -> 533 | ... S28: =SUM(S9:S18) -> 2433
A29: 14세이하 | B29: =SUM(B6:B8) -> 228 | C29: =SUM(C6:C8) -> 119 | D29: =SUM(D6:D8) -> 109 | E29: =SUM(E6:E8) -> 22 | F29: =SUM(F6:F8) -> 9 | G29: =SUM(G6:G8) -> 13 | H29: =SUM(H6:H8) -> 30 | I29: =SUM(I6:I8) -> 20 | ... S29: =SUM(S6:S8) -> 27

Sheet 2012년
A1: 5. 구별·연령별 외국인 현황
S2: 단위 : 명
A3: =[6]외국인!A3 -> 구 분 | B3: 합 계 | E3: 동 구 | H3: 서 구 | K3: 남 구 | N3: 북 구 | Q3: 광 산 구
B4: 계 | C4: 남 | D4: 여 | E4: =[6]외국인!B4 -> 계 | F4: =[6]외국인!C4 -> 남 | G4: =[6]외국인!D4 -> 여 | H4: =[7]외국인!B4 -> 계 | I4: =[7]외국인!C4 -> 남 | J4: =[7]외국인!D4 -> 여 | K4: =[8]외국인!B4 -> 계 | L4: =[8]외국인!C4 -> 남 | M4: =[8]외국인!D4 -> 여 | N4: ='[9]외국인 '!B4 -> 계 | O4: ='[9]외국인 '!C4 -> 남 | P4: ='[9]외국인 '!D4 -> 여 | Q4: ='[10]외국인 '!B4 -> 계 | R4: ='[10]외국인 '!C4 -> 남 | S4: ='[10]외국인 '!D4 -> 여
A5: 2012 | B5: =SUM(E5,H5,K5,N5,Q5) -> 14492 | C5: =SUM(F5,I5,L5,O5,R5) -> 7589 | D5: =SUM(G5,J5,M5,P5,S5) -> 6903 | E5: =SUM(F5:G5) -> 1078 | F5: =SUM(F6:F26) -> 499 | G5: =SUM(G6:G26) -> 579 | H5: =SUM(H6:H26) -> 1378 | I5: =SUM(I6:I26) -> 532 | J5: =SUM(J6:J26) -> 846 | K5: =SUM(K6:K26) -> 1072 | L5: =SUM(L6:L26) -> 347 | M5: =SUM(M6:M26) -> 725 | ... S5: =SUM(S6:S26) -> 2620
A6: 0∼ 4 세 | B6: =SUM(E6,H6,K6,N6,Q6) -> 116 | C6: =SUM(F6,I6,L6,O6,R6) -> 56 | D6: =SUM(G6,J6,M6,P6,S6) -> 60 | E6: 9 | F6: 3 | G6: 6 | H6: 11 | I6: 5 | J6: 6 | K6: 8 | L6: 6 | M6: 2 | N6: 59 | O6: 27 | P6: 32 | Q6: 29 | R6: 15 | S6: 14
A7: 5∼ 9 세 | B7: =SUM(E7,H7,K7,N7,Q7) -> 66 | C7: =SUM(F7,I7,L7,O7,R7) -> 41 | D7: =SUM(G7,J7,M7,P7,S7) -> 25 | E7: 3 | F7: 0 | G7: 3 | H7: 7 | I7: 6 | J7: 1 | K7: 6 | L7: 5 | M7: 1 | N7: 24 | O7: 15 | P7: 9 | Q7: 26 | R7: 15 | S7: 11
A8: 10∼14세 | B8: =SUM(E8,H8,K8,N8,Q8) -> 48 | C8: =SUM(F8,I8,L8,O8,R8) -> 26 | D8: =SUM(G8,J8,M8,P8,S8) -> 22 | E8: 8 | F8: 5 | G8: 3 | H8: 5 | I8: 3 | J8: 2 | K8: 3 | L8: 3 | M8: 0 | N8: 16 | O8: 6 | P8: 10 | Q8: 16 | R8: 9 | S8: 7
A9: 15∼19세 | B9: =SUM(E9,H9,K9,N9,Q9) -> 430 | C9: =SUM(F9,I9,L9,O9,R9) -> 197 | D9: =SUM(G9,J9,M9,P9,S9) -> 233 | E9: 31 | F9: 12 | G9: 19 | H9: 36 | I9: 15 | J9: 21 | K9: 64 | L9: 28 | M9: 36 | N9: 149 | O9: 84 | P9: 65 | Q9: 150 | R9: 58 | S9: 92
A10: 20∼24세 | B10: =SUM(E10,H10,K10,N10,Q10) -> 3525 | C10: =SUM(F10,I10,L10,O10,R10) -> 1516 | D10: =SUM(G10,J10,M10,P10,S10) -> 2009 | E10: 272 | F10: 103 | G10: 169 | H10: 261 | I10: 63 | J10: 198 | K10: 322 | L10: 94 | M10: 228 | N10: 1075 | O10: 437 | P10: 638 | Q10: 1595 | R10: 819 | S10: 776
A11: 25∼29세 | B11: =SUM(E11,H11,K11,N11,Q11) -> 3484 | C11: =SUM(F11,I11,L11,O11,R11) -> 1951 | D11: =SUM(G11,J11,M11,P11,S11) -> 1533 | E11: 291 | F11: 144 | G11: 147 | H11: 322 | I11: 139 | J11: 183 | K11: 209 | L11: 64 | M11: 145 | N11: 1011 | O11: 475 | P11: 536 | Q11: 1651 | R11: 1129 | S11: 522
A12: 30∼34세 | B12: =SUM(E12,H12,K12,N12,Q12) -> 2224 | C12: =SUM(F12,I12,L12,O12,R12) -> 1403 | D12: =SUM(G12,J12,M12,P12,S12) -> 821 | E12: 152 | F12: 84 | G12: 68 | H12: 185 | I12: 79 | J12: 106 | K12: 100 | L12: 30 | M12: 70 | N12: 474 | O12: 233 | P12: 241 | Q12: 1313 | R12: 977 | S12: 336
A13: 35∼39세 | B13: =SUM(E13,H13,K13,N13,Q13) -> 1416 | C13: =SUM(F13,I13,L13,O13,R13) -> 940 | D13: =SUM(G13,J13,M13,P13,S13) -> 476 | E13: 66 | F13: 35 | G13: 31 | H13: 120 | I13: 51 | J13: 69 | K13: 67 | L13: 24 | M13: 43 | N13: 274 | O13: 144 | P13: 130 | Q13: 889 | R13: 686 | S13: 203
A14: 40∼44세 | B14: =SUM(E14,H14,K14,N14,Q14) -> 942 | C14: =SUM(F14,I14,L14,O14,R14) -> 519 | D14: =SUM(G14,J14,M14,P14,S14) -> 423 | E14: 54 | F14: 29 | G14: 25 | H14: 120 | I14: 51 | J14: 69 | K14: 65 | L14: 19 | M14: 46 | N14: 190 | O14: 93 | P14: 97 | Q14: 513 | R14: 327 | S14: 186
A15: 45∼49세 | B15: =SUM(E15,H15,K15,N15,Q15) -> 830 | C15: =SUM(F15,I15,L15,O15,R15) -> 296 | D15: =SUM(G15,J15,M15,P15,S15) -> 534 | E15: 65 | F15: 25 | G15: 40 | H15: 114 | I15: 33 | J15: 81 | K15: 90 | L15: 22 | M15: 68 | N15: 230 | O15: 73 | P15: 157 | Q15: 331 | R15: 143 | S15: 188
A16: 50∼54세 | B16: =SUM(E16,H16,K16,N16,Q16) -> 628 | C16: =SUM(F16,I16,L16,O16,R16) -> 261 | D16: =SUM(G16,J16,M16,P16,S16) -> 367 | E16: 55 | F16: 24 | G16: 31 | H16: 91 | I16: 39 | J16: 52 | K16: 65 | L16: 22 | M16: 43 | N16: 166 | O16: 68 | P16: 98 | Q16: 251 | R16: 108 | S16: 143
A17: 55∼59세 | B17: =SUM(E17,H17,K17,N17,Q17) -> 423 | C17: =SUM(F17,I17,L17,O17,R17) -> 198 | D17: =SUM(G17,J17,M17,P17,S17) -> 225 | E17: 29 | F17: 13 | G17: 16 | H17: 58 | I17: 22 | J17: 36 | K17: 31 | L17: 10 | M17: 21 | N17: 124 | O17: 58 | P17: 66 | Q17: 181 | R17: 95 | S17: 86
... A26: 100이상 | B26: =SUM(E26,H26,K26,N26,Q26) -> 0 | C26: =SUM(F26,I26,L26,O26,R26) -> 0 | D26: =SUM(G26,J26,M26,P26,S26) -> 0 | E26: 0 | F26: 0 | G26: 0 | H26: 0 | I26: 0 | J26: 0 | K26: 0 | L26: 0 | M26: 0 | N26: 0 | O26: 0 | P26: 0 | Q26: 0 | R26: 0 | S26: 0

Sheet 2013년
A1: 5. 구별·연령별 외국인 현황
S2: 단위 : 명
A3: =[6]외국인!A3 -> 구 분 | B3: 합 계 | E3: 동 구 | H3: 서 구 | K3: 남 구 | N3: 북 구 | Q3: 광 산 구
B4: 계 | C4: 남 | D4: 여 | E4: =[6]외국인!B4 -> 계 | F4: =[6]외국인!C4 -> 남 | G4: =[6]외국인!D4 -> 여 | H4: =[7]외국인!B4 -> 계 | I4: =[7]외국인!C4 -> 남 | J4: =[7]외국인!D4 -> 여 | K4: =[8]외국인!B4 -> 계 | L4: =[8]외국인!C4 -> 남 | M4: =[8]외국인!D4 -> 여 | N4: ='[9]외국인 '!B4 -> 계 | O4: ='[9]외국인 '!C4 -> 남 | P4: ='[9]외국인 '!D4 -> 여 | Q4: ='[10]외국인 '!B4 -> 계 | R4: ='[10]외국인 '!C4 -> 남 | S4: ='[10]외국인 '!D4 -> 여
A5: 2013 | B5: =SUM(E5,H5,K5,N5,Q5) -> 15557 | C5: =SUM(F5,I5,L5,O5,R5) -> 8237 | D5: =SUM(G5,J5,M5,P5,S5) -> 7320 | E5: =SUM(F5:G5) -> 1016 | F5: =SUM(F6:F26) -> 500 | G5: =SUM(G6:G26) -> 516 | H5: =SUM(H6:H26) -> 1449 | I5: =SUM(I6:I26) -> 601 | J5: =SUM(J6:J26) -> 848 | K5: =SUM(K6:K26) -> 1191 | L5: =SUM(L6:L26) -> 417 | M5: =SUM(M6:M26) -> 774 | ... S5: =SUM(S6:S26) -> 2867
A6: 0∼ 4 세 | B6: =SUM(E6,H6,K6,N6,Q6) -> 168 | C6: =SUM(F6,I6,L6,O6,R6) -> 88 | D6: =SUM(G6,J6,M6,P6,S6) -> 80 | E6: 8 | F6: 6 | G6: 2 | H6: 12 | I6: 7 | J6: 5 | K6: 10 | L6: 6 | M6: 4 | N6: 86 | O6: 39 | P6: 47 | Q6: 52 | R6: 30 | S6: 22
A7: 5∼ 9 세 | B7: =SUM(E7,H7,K7,N7,Q7) -> 77 | C7: =SUM(F7,I7,L7,O7,R7) -> 40 | D7: =SUM(G7,J7,M7,P7,S7) -> 37 | E7: 1 | F7: 0 | G7: 1 | H7: 7 | I7: 5 | J7: 2 | K7: 9 | L7: 6 | M7: 3 | N7: 31 | O7: 16 | P7: 15 | Q7: 29 | R7: 13 | S7: 16
A8: 10∼14세 | B8: =SUM(E8,H8,K8,N8,Q8) -> 66 | C8: =SUM(F8,I8,L8,O8,R8) -> 36 | D8: =SUM(G8,J8,M8,P8,S8) -> 30 | E8: 8 | F8: 5 | G8: 3 | H8: 5 | I8: 4 | J8: 1 | K8: 9 | L8: 6 | M8: 3 | N8: 18 | O8: 6 | P8: 12 | Q8: 26 | R8: 15 | S8: 11
A9: 15∼19세 | B9: =SUM(E9,H9,K9,N9,Q9) -> 525 | C9: =SUM(F9,I9,L9,O9,R9) -> 231 | D9: =SUM(G9,J9,M9,P9,S9) -> 294 | E9: 36 | F9: 14 | G9: 22 | H9: 30 | I9: 7 | J9: 23 | K9: 71 | L9: 38 | M9: 33 | N9: 153 | O9: 70 | P9: 83 | Q9: 235 | R9: 102 | S9: 133
A10: 20∼24세 | B10: =SUM(E10,H10,K10,N10,Q10) -> 3550 | C10: =SUM(F10,I10,L10,O10,R10) -> 1610 | D10: =SUM(G10,J10,M10,P10,S10) -> 1940 | E10: 224 | F10: 94 | G10: 130 | H10: 252 | I10: 80 | J10: 172 | K10: 355 | L10: 117 | M10: 238 | N10: 1099 | O10: 454 | P10: 645 | Q10: 1620 | R10: 865 | S10: 755
A11: 25∼29세 | B11: =SUM(E11,H11,K11,N11,Q11) -> 3808 | C11: =SUM(F11,I11,L11,O11,R11) -> 2134 | D11: =SUM(G11,J11,M11,P11,S11) -> 1674 | E11: 281 | F11: 140 | G11: 141 | H11: 363 | I11: 168 | J11: 195 | K11: 228 | L11: 64 | M11: 164 | N11: 1105 | O11: 522 | P11: 583 | Q11: 1831 | R11: 1240 | S11: 591
A12: 30∼34세 | B12: =SUM(E12,H12,K12,N12,Q12) -> 2360 | C12: =SUM(F12,I12,L12,O12,R12) -> 1518 | D12: =SUM(G12,J12,M12,P12,S12) -> 842 | E12: 124 | F12: 72 | G12: 52 | H12: 216 | I12: 102 | J12: 114 | K12: 114 | L12: 42 | M12: 72 | N12: 530 | O12: 268 | P12: 262 | Q12: 1376 | R12: 1034 | S12: 342
A13: 35∼39세 | B13: =SUM(E13,H13,K13,N13,Q13) -> 1510 | C13: =SUM(F13,I13,L13,O13,R13) -> 983 | D13: =SUM(G13,J13,M13,P13,S13) -> 527 | E13: 62 | F13: 32 | G13: 30 | H13: 136 | I13: 67 | J13: 69 | K13: 78 | L13: 32 | M13: 46 | N13: 266 | O13: 121 | P13: 145 | Q13: 968 | R13: 731 | S13: 237
A14: 40∼44세 | B14: =SUM(E14,H14,K14,N14,Q14) -> 1074 | C14: =SUM(F14,I14,L14,O14,R14) -> 615 | D14: =SUM(G14,J14,M14,P14,S14) -> 459 | E14: 62 | F14: 37 | G14: 25 | H14: 104 | I14: 44 | J14: 60 | K14: 72 | L14: 30 | M14: 42 | N14: 214 | O14: 103 | P14: 111 | Q14: 622 | R14: 401 | S14: 221
A15: 45∼49세 | B15: =SUM(E15,H15,K15,N15,Q15) -> 878 | C15: =SUM(F15,I15,L15,O15,R15) -> 328 | D15: =SUM(G15,J15,M15,P15,S15) -> 550 | E15: 64 | F15: 30 | G15: 34 | H15: 113 | I15: 36 | J15: 77 | K15: 90 | L15: 27 | M15: 63 | N15: 244 | O15: 74 | P15: 170 | Q15: 367 | R15: 161 | S15: 206
A16: 50∼54세 | B16: =SUM(E16,H16,K16,N16,Q16) -> 713 | C16: =SUM(F16,I16,L16,O16,R16) -> 269 | D16: =SUM(G16,J16,M16,P16,S16) -> 444 | E16: 63 | F16: 30 | G16: 33 | H16: 96 | I16: 30 | J16: 66 | K16: 72 | L16: 16 | M16: 56 | N16: 184 | O16: 61 | P16: 123 | Q16: 298 | R16: 132 | S16: 166
A17: 55∼59세 | B17: =SUM(E17,H17,K17,N17,Q17) -> 470 | C17: =SUM(F17,I17,L17,O17,R17) -> 203 | D17: =SUM(G17,J17,M17,P17,S17) -> 267 | E17: 43 | F17: 20 | G17: 23 | H17: 68 | I17: 29 | J17: 39 | K17: 45 | L17: 15 | M17: 30 | N17: 119 | O17: 57 | P17: 62 | Q17: 195 | R17: 82 | S17: 113
... A26: 100이상 | B26: =SUM(E26,H26,K26,N26,Q26) -> 0 | C26: =SUM(F26,I26,L26,O26,R26) -> 0 | D26: =SUM(G26,J26,M26,P26,S26) -> 0 | E26: 0 | F26: 0 | G26: 0 | H26: 0 | I26: 0 | J26: 0 | K26: 0 | L26: 0 | M26: 0 | N26: 0 | O26: 0 | P26: 0 | Q26: 0 | R26: 0 | S26: 0

Sheet 2014년
A1: 5. 구별·연령별 외국인 현황
S2: 단위 : 명
A3: =[6]외국인!A3 -> 구 분 | B3: 합 계 | E3: 동 구 | H3: 서 구 | K3: 남 구 | N3: 북 구 | Q3: 광 산 구
B4: 계 | C4: 남 | D4: 여 | E4: =[6]외국인!B4 -> 계 | F4: =[6]외국인!C4 -> 남 | G4: =[6]외국인!D4 -> 여 | H4: =[7]외국인!B4 -> 계 | I4: =[7]외국인!C4 -> 남 | J4: =[7]외국인!D4 -> 여 | K4: =[8]외국인!B4 -> 계 | L4: =[8]외국인!C4 -> 남 | M4: =[8]외국인!D4 -> 여 | N4: ='[9]외국인 '!B4 -> 계 | O4: ='[9]외국인 '!C4 -> 남 | P4: ='[9]외국인 '!D4 -> 여 | Q4: ='[10]외국인 '!B4 -> 계 | R4: ='[10]외국인 '!C4 -> 남 | S4: ='[10]외국인 '!D4 -> 여
A5: 2014 | B5: =SUM(E5,H5,K5,N5,Q5) -> 17064 | C5: =SUM(F5,I5,L5,O5,R5) -> 9212 | D5: =SUM(G5,J5,M5,P5,S5) -> 7852 | E5: =SUM(E6:E26) -> 1047 | F5: =SUM(F6:F26) -> 478 | G5: =SUM(G6:G26) -> 569 | H5: =SUM(H6:H26) -> 1668 | I5: =SUM(I6:I26) -> 754 | J5: =SUM(J6:J26) -> 914 | K5: =SUM(K6:K26) -> 1305 | L5: =SUM(L6:L26) -> 480 | ... S5: =SUM(S6:S26) -> 3196
A6: 0∼ 4 세 | B6: =SUM(E6,H6,K6,N6,Q6) -> 203 | C6: =SUM(F6,I6,L6,O6,R6) -> 103 | D6: =SUM(G6,J6,M6,P6,S6) -> 100 | E6: =SUM(F6:G6) -> 13 | F6: 6 | G6: 7 | H6: =SUM(I6:J6) -> 15 | I6: 10 | J6: 5 | K6: =SUM(L6:M6) -> 10 | L6: 5 | M6: 5 | N6: =SUM(O6:P6) -> 75 | O6: 30 | P6: 45 | Q6: =SUM(R6:S6) -> 90 | R6: 52 | S6: 38
A7: 5∼ 9 세 | B7: =SUM(E7,H7,K7,N7,Q7) -> 98 | C7: =SUM(F7,I7,L7,O7,R7) -> 55 | D7: =SUM(G7,J7,M7,P7,S7) -> 43 | E7: =SUM(F7:G7) -> 1 | F7: 1 | G7: 0 | H7: =SUM(I7:J7) -> 6 | I7: 3 | J7: 3 | K7: =SUM(L7:M7) -> 11 | L7: 8 | M7: 3 | N7: =SUM(O7:P7) -> 30 | O7: 17 | P7: 13 | Q7: =SUM(R7:S7) -> 50 | R7: 26 | S7: 24
A8: 10∼14세 | B8: =SUM(E8,H8,K8,N8,Q8) -> 77 | C8: =SUM(F8,I8,L8,O8,R8) -> 36 | D8: =SUM(G8,J8,M8,P8,S8) -> 41 | E8: =SUM(F8:G8) -> 3 | F8: 0 | G8: 3 | H8: =SUM(I8:J8) -> 7 | I8: 4 | J8: 3 | K8: =SUM(L8:M8) -> 8 | L8: 5 | M8: 3 | N8: =SUM(O8:P8) -> 16 | O8: 3 | P8: 13 | Q8: =SUM(R8:S8) -> 43 | R8: 24 | S8: 19
A9: 15∼19세 | B9: =SUM(E9,H9,K9,N9,Q9) -> 473 | C9: =SUM(F9,I9,L9,O9,R9) -> 200 | D9: =SUM(G9,J9,M9,P9,S9) -> 273 | E9: =SUM(F9:G9) -> 54 | F9: 20 | G9: 34 | H9: =SUM(I9:J9) -> 17 | I9: 12 | J9: 5 | K9: =SUM(L9:M9) -> 66 | L9: 25 | M9: 41 | N9: =SUM(O9:P9) -> 117 | O9: 49 | P9: 68 | Q9: =SUM(R9:S9) -> 219 | R9: 94 | S9: 125
A10: 20∼24세 | B10: =SUM(E10,H10,K10,N10,Q10) -> 3731 | C10: =SUM(F10,I10,L10,O10,R10) -> 1810 | D10: =SUM(G10,J10,M10,P10,S10) -> 1921 | E10: =SUM(F10:G10) -> 243 | F10: 79 | G10: 164 | H10: =SUM(I10:J10) -> 257 | I10: 101 | J10: 156 | K10: =SUM(L10:M10) -> 386 | L10: 136 | M10: 250 | N10: =SUM(O10:P10) -> 1028 | O10: 448 | P10: 580 | Q10: =SUM(R10:S10) -> 1817 | R10: 1046 | S10: 771
A11: 25∼29세 | B11: =SUM(E11,H11,K11,N11,Q11) -> 4067 | C11: =SUM(F11,I11,L11,O11,R11) -> 2345 | D11: =SUM(G11,J11,M11,P11,S11) -> 1722 | E11: =SUM(F11:G11) -> 259 | F11: 128 | G11: 131 | H11: =SUM(I11:J11) -> 421 | I11: 215 | J11: 206 | K11: =SUM(L11:M11) -> 206 | L11: 56 | M11: 150 | N11: =SUM(O11:P11) -> 1119 | O11: 523 | P11: 596 | Q11: =SUM(R11:S11) -> 2062 | R11: 1423 | S11: 639
A12: 30∼34세 | B12: =SUM(E12,H12,K12,N12,Q12) -> 2642 | C12: =SUM(F12,I12,L12,O12,R12) -> 1670 | D12: =SUM(G12,J12,M12,P12,S12) -> 972 | E12: =SUM(F12:G12) -> 149 | F12: 83 | G12: 66 | H12: =SUM(I12:J12) -> 258 | I12: 124 | J12: 134 | K12: =SUM(L12:M12) -> 133 | L12: 47 | M12: 86 | N12: =SUM(O12:P12) -> 579 | O12: 288 | P12: 291 | Q12: =SUM(R12:S12) -> 1523 | R12: 1128 | S12: 395
A13: 35∼39세 | B13: =SUM(E13,H13,K13,N13,Q13) -> 1649 | C13: =SUM(F13,I13,L13,O13,R13) -> 1057 | D13: =SUM(G13,J13,M13,P13,S13) -> 592 | E13: =SUM(F13:G13) -> 77 | F13: 47 | G13: 30 | H13: =SUM(I13:J13) -> 151 | I13: 75 | J13: 76 | K13: =SUM(L13:M13) -> 88 | L13: 42 | M13: 46 | N13: =SUM(O13:P13) -> 305 | O13: 145 | P13: 160 | Q13: =SUM(R13:S13) -> 1028 | R13: 748 | S13: 280
A14: 40∼44세 | B14: =SUM(E14,H14,K14,N14,Q14) -> 1149 | C14: =SUM(F14,I14,L14,O14,R14) -> 642 | D14: =SUM(G14,J14,M14,P14,S14) -> 507 | E14: =SUM(F14:G14) -> 48 | F14: 25 | G14: 23 | H14: =SUM(I14:J14) -> 129 | I14: 44 | J14: 85 | K14: =SUM(L14:M14) -> 82 | L14: 30 | M14: 52 | N14: =SUM(O14:P14) -> 225 | O14: 94 | P14: 131 | Q14: =SUM(R14:S14) -> 665 | R14: 449 | S14: 216
A15: 45∼49세 | B15: =SUM(E15,H15,K15,N15,Q15) -> 985 | C15: =SUM(F15,I15,L15,O15,R15) -> 426 | D15: =SUM(G15,J15,M15,P15,S15) -> 559 | E15: =SUM(F15:G15) -> 52 | F15: 18 | G15: 34 | H15: =SUM(I15:J15) -> 132 | I15: 52 | J15: 80 | K15: =SUM(L15:M15) -> 104 | L15: 37 | M15: 67 | N15: =SUM(O15:P15) -> 243 | O15: 86 | P15: 157 | Q15: =SUM(R15:S15) -> 454 | R15: 233 | S15: 221
A16: 50∼54세 | B16: =SUM(E16,H16,K16,N16,Q16) -> 925 | C16: =SUM(F16,I16,L16,O16,R16) -> 346 | D16: =SUM(G16,J16,M16,P16,S16) -> 579 | E16: =SUM(F16:G16) -> 66 | F16: 30 | G16: 36 | H16: =SUM(I16:J16) -> 134 | I16: 45 | J16: 89 | K16: =SUM(L16:M16) -> 99 | L16: 32 | M16: 67 | N16: =SUM(O16:P16) -> 223 | O16: 77 | P16: 146 | Q16: =SUM(R16:S16) -> 403 | R16: 162 | S16: 241
A17: 55∼59세 | B17: =SUM(E17,H17,K17,N17,Q17) -> 650 | C17: =SUM(F17,I17,L17,O17,R17) -> 305 | D17: =SUM(G17,J17,M17,P17,S17) -> 345 | E17: =SUM(F17:G17) -> 45 | F17: 21 | G17: 24 | H17: =SUM(I17:J17) -> 83 | I17: 40 | J17: 43 | K17: =SUM(L17:M17) -> 74 | L17: 34 | M17: 40 | N17: =SUM(O17:P17) -> 154 | O17: 69 | P17: 85 | Q17: =SUM(R17:S17) -> 294 | R17: 141 | S17: 153
... A26: 100이상 | B26: =SUM(E26,H26,K26,N26,Q26) -> 0 | C26: =SUM(F26,I26,L26,O26,R26) -> 0 | D26: =SUM(G26,J26,M26,P26,S26) -> 0 | E26: =SUM(F26:G26) -> 0 | F26: 0 | G26: 0 | H26: =SUM(I26:J26) -> 0 | I26: 0 | J26: 0 | K26: =SUM(L26:M26) -> 0 | L26: 0 | M26: 0 | N26: =SUM(O26:P26) -> 0 | O26: 0 | P26: 0 | Q26: =SUM(R26:S26) -> 0 | R26: 0 | S26: 0

Sheet 2015년
A1: 5. 구별·연령별 외국인 현황
A3: 구 분 | B3: 합 계 | E3: 동 구 | H3: 서 구 | K3: 남 구 | N3: 북 구 | Q3: 광 산 구
B4: 계 | C4: 남 | D4: 여 | E4: 계 | F4: 남 | G4: 여 | H4: 계 | I4: 남 | J4: 여 | K4: 계 | L4: 남 | M4: 여 | N4: 계 | O4: 남 | P4: 여 | Q4: 계 | R4: 남 | S4: 여
A5: 2015 | B5: =SUM(E5,H5,K5,N5,Q5) -> 18448 | C5: =SUM(F5,I5,L5,O5,R5) -> 10014 | D5: =SUM(G5,J5,M5,P5,S5) -> 8434 | E5: =SUM(F5:G5) -> 1099 | F5: =SUM(F6:F26) -> 526 | G5: =SUM(G6:G26) -> 573 | H5: =SUM(H6:H26) -> 1689 | I5: =SUM(I6:I26) -> 772 | J5: =SUM(J6:J26) -> 917 | K5: =SUM(K6:K26) -> 1423 | L5: =SUM(L6:L26) -> 540 | M5: =SUM(M6:M26) -> 883 | ... S5: =SUM(S6:S26) -> 3647
A6: 0∼ 4 세 | B6: =SUM(C6:D6) -> 261 | C6: =SUM(F6,I6,L6,O6,R6) -> 132 | D6: =SUM(G6,J6,M6,P6,S6) -> 129 | E6: =SUM(F6:G6) -> 10 | F6: 4 | G6: 6 | H6: =SUM(I6:J6) -> 23 | I6: 13 | J6: 10 | K6: =SUM(L6:M6) -> 8 | L6: 3 | M6: 5 | N6: =SUM(O6:P6) -> 85 | O6: 37 | P6: 48 | Q6: =SUM(R6:S6) -> 135 | R6: 75 | S6: 60
A7: 5∼ 9 세 | B7: =SUM(C7:D7) -> 145 | C7: =SUM(F7,I7,L7,O7,R7) -> 77 | D7: =SUM(G7,J7,M7,P7,S7) -> 68 | E7: =SUM(F7:G7) -> 2 | F7: 1 | G7: 1 | H7: =SUM(I7:J7) -> 8 | I7: 6 | J7: 2 | K7: =SUM(L7:M7) -> 8 | L7: 6 | M7: 2 | N7: =SUM(O7:P7) -> 31 | O7: 14 | P7: 17 | Q7: =SUM(R7:S7) -> 96 | R7: 50 | S7: 46
A8: 10∼14세 | B8: =SUM(C8:D8) -> 119 | C8: =SUM(F8,I8,L8,O8,R8) -> 60 | D8: =SUM(G8,J8,M8,P8,S8) -> 59 | E8: =SUM(F8:G8) -> 3 | F8: 0 | G8: 3 | H8: =SUM(I8:J8) -> 9 | I8: 5 | J8: 4 | K8: =SUM(L8:M8) -> 9 | L8: 5 | M8: 4 | N8: =SUM(O8:P8) -> 26 | O8: 12 | P8: 14 | Q8: =SUM(R8:S8) -> 72 | R8: 38 | S8: 34
A9: 15∼19세 | B9: =SUM(C9:D9) -> 466 | C9: =SUM(F9,I9,L9,O9,R9) -> 236 | D9: =SUM(G9,J9,M9,P9,S9) -> 230 | E9: =SUM(F9:G9) -> 40 | F9: 22 | G9: 18 | H9: =SUM(I9:J9) -> 15 | I9: 9 | J9: 6 | K9: =SUM(L9:M9) -> 66 | L9: 34 | M9: 32 | N9: =SUM(O9:P9) -> 158 | O9: 77 | P9: 81 | Q9: =SUM(R9:S9) -> 187 | R9: 94 | S9: 93
A10: 20∼24세 | B10: =SUM(C10:D10) -> 3897 | C10: =SUM(F10,I10,L10,O10,R10) -> 1918 | D10: =SUM(G10,J10,M10,P10,S10) -> 1979 | E10: =SUM(F10:G10) -> 283 | F10: 100 | G10: 183 | H10: =SUM(I10:J10) -> 243 | I10: 95 | J10: 148 | K10: =SUM(L10:M10) -> 395 | L10: 135 | M10: 260 | N10: =SUM(O10:P10) -> 1009 | O10: 465 | P10: 544 | Q10: =SUM(R10:S10) -> 1967 | R10: 1123 | S10: 844
A11: 25∼29세 | B11: =SUM(C11:D11) -> 4280 | C11: =SUM(F11,I11,L11,O11,R11) -> 2460 | D11: =SUM(G11,J11,M11,P11,S11) -> 1820 | E11: =SUM(F11:G11) -> 245 | F11: 133 | G11: 112 | H11: =SUM(I11:J11) -> 363 | I11: 171 | J11: 192 | K11: =SUM(L11:M11) -> 234 | L11: 77 | M11: 157 | N11: =SUM(O11:P11) -> 1166 | O11: 543 | P11: 623 | Q11: =SUM(R11:S11) -> 2272 | R11: 1536 | S11: 736
A12: 30∼34세 | B12: =SUM(C12:D12) -> 2865 | C12: =SUM(F12,I12,L12,O12,R12) -> 1794 | D12: =SUM(G12,J12,M12,P12,S12) -> 1071 | E12: =SUM(F12:G12) -> 148 | F12: 81 | G12: 67 | H12: =SUM(I12:J12) -> 275 | I12: 141 | J12: 134 | K12: =SUM(L12:M12) -> 148 | L12: 54 | M12: 94 | N12: =SUM(O12:P12) -> 607 | O12: 301 | P12: 306 | Q12: =SUM(R12:S12) -> 1687 | R12: 1217 | S12: 470
A13: 35∼39세 | B13: =SUM(C13:D13) -> 1742 | C13: =SUM(F13,I13,L13,O13,R13) -> 1089 | D13: =SUM(G13,J13,M13,P13,S13) -> 653 | E13: =SUM(F13:G13) -> 94 | F13: 59 | G13: 35 | H13: =SUM(I13:J13) -> 153 | I13: 72 | J13: 81 | K13: =SUM(L13:M13) -> 100 | L13: 40 | M13: 60 | N13: =SUM(O13:P13) -> 332 | O13: 157 | P13: 175 | Q13: =SUM(R13:S13) -> 1063 | R13: 761 | S13: 302
A14: 40∼44세 | B14: =SUM(C14:D14) -> 1329 | C14: =SUM(F14,I14,L14,O14,R14) -> 769 | D14: =SUM(G14,J14,M14,P14,S14) -> 560 | E14: =SUM(F14:G14) -> 57 | F14: 32 | G14: 25 | H14: =SUM(I14:J14) -> 137 | I14: 56 | J14: 81 | K14: =SUM(L14:M14) -> 98 | L14: 42 | M14: 56 | N14: =SUM(O14:P14) -> 232 | O14: 107 | P14: 125 | Q14: =SUM(R14:S14) -> 805 | R14: 532 | S14: 273
A15: 45∼49세 | B15: =SUM(C15:D15) -> 1069 | C15: =SUM(F15,I15,L15,O15,R15) -> 492 | D15: =SUM(G15,J15,M15,P15,S15) -> 577 | E15: =SUM(F15:G15) -> 50 | F15: 18 | G15: 32 | H15: =SUM(I15:J15) -> 142 | I15: 62 | J15: 80 | K15: =SUM(L15:M15) -> 109 | L15: 35 | M15: 74 | N15: =SUM(O15:P15) -> 225 | O15: 91 | P15: 134 | Q15: =SUM(R15:S15) -> 543 | R15: 286 | S15: 257
A16: 50∼54세 | B16: =SUM(C16:D16) -> 1043 | C16: =SUM(F16,I16,L16,O16,R16) -> 394 | D16: =SUM(G16,J16,M16,P16,S16) -> 649 | E16: =SUM(F16:G16) -> 66 | F16: 28 | G16: 38 | H16: =SUM(I16:J16) -> 156 | I16: 61 | J16: 95 | K16: =SUM(L16:M16) -> 102 | L16: 32 | M16: 70 | N16: =SUM(O16:P16) -> 257 | O16: 79 | P16: 178 | Q16: =SUM(R16:S16) -> 462 | R16: 194 | S16: 268
A17: 55∼59세 | B17: =SUM(C17:D17) -> 781 | C17: =SUM(F17,I17,L17,O17,R17) -> 359 | D17: =SUM(G17,J17,M17,P17,S17) -> 422 | E17: =SUM(F17:G17) -> 58 | F17: 26 | G17: 32 | H17: =SUM(I17:J17) -> 99 | I17: 47 | J17: 52 | K17: =SUM(L17:M17) -> 87 | L17: 43 | M17: 44 | N17: =SUM(O17:P17) -> 180 | O17: 76 | P17: 104 | Q17: =SUM(R17:S17) -> 357 | R17: 167 | S17: 190
... A25: 95∼99세 | B25: =SUM(C25:D25) -> 1 | C25: =SUM(F25,I25,L25,O25,R25) -> 0 | D25: =SUM(G25,J25,M25,P25,S25) -> 1 | E25: =SUM(F25:G25) -> 0 | F25: 0 | G25: 0 | H25: =SUM(I25:J25) -> 0 | I25: 0 | J25: 0 | K25: =SUM(L25:M25) -> 0 | L25: 0 | M25: 0 | N25: =SUM(O25:P25) -> 1 | O25: 0 | P25: 1 | Q25: =SUM(R25:S25) -> 0 | R25: 0 | S25: 0
A26: 100이상 | B26: =SUM(C26:D26) -> 0 | C26: =SUM(F26,I26,L26,O26,R26) -> 0 | D26: =SUM(G26,J26,M26,P26,S26) -> 0 | E26: =SUM(F26:G26) -> 0 | F26: 0 | G26: 0 | H26: =SUM(I26:J26) -> 0 | I26: 0 | J26: 0 | K26: =SUM(L26:M26) -> 0 | L26: 0 | M26: 0 | N26: =SUM(O26:P26) -> 0 | O26: =SUM(Q26,T26,W26,Z26,AC26,AF26,AI26,AL26,AO26,AR26,AU26,AX26,BA26,BD26,BG26,BJ26,BM26,BP26,BS26,BV26,BY26,CB26,CE26,CH26,CK26,CN26,CQ26) -> 0 | P26: =SUM(R26,U26,X26,AA26,AD26,AG26,AJ26,AM26,AP26,AS26,AV26,AY26,BB26,BE26,BH26,BK26,BN26,BQ26,BT26,BW26,BZ26,CC26,CF26,CI26,CL26,CO26,CR26) -> 0 | Q26: =SUM(R26:S26) -> 0 | R26: 0 | S26: 0

Sheet 2016년
A1: 5. 구별·연령별 외국인 현황
A3: 구 분 | B3: 합 계 | E3: 동 구 | H3: 서 구 | K3: 남 구 | N3: 북 구 | Q3: 광 산 구
B4: 계 | C4: 남 | D4: 여 | E4: 계 | F4: 남 | G4: 여 | H4: 계 | I4: 남 | J4: 여 | K4: 계 | L4: 남 | M4: 여 | N4: 계 | O4: 남 | P4: 여 | Q4: 계 | R4: 남 | S4: 여
A5: 2016 | B5: =SUM(E5,H5,K5,N5,Q5) -> 19920 | C5: =SUM(F5,I5,L5,O5,R5) -> 10688 | D5: =SUM(G5,J5,M5,P5,S5) -> 9232 | E5: 1254 | F5: 592 | G5: 662 | H5: 1702 | I5: 763 | J5: 939 | K5: 1460 | L5: 541 | M5: 919 | N5: 4597 | O5: 2065 | P5: 2532 | Q5: 10907 | R5: 6727 | S5: 4180
A6: 0∼ 4 세 | B6: =SUM(C6:D6) -> 376 | C6: =SUM(F6,I6,L6,O6,R6) -> 186 | D6: =SUM(G6,J6,M6,P6,S6) -> 190 | E6: 15 | F6: 7 | G6: 8 | H6: 31 | I6: 19 | J6: 12 | K6: 16 | L6: 8 | M6: 8 | N6: 87 | O6: 36 | P6: 51 | Q6: 227 | R6: 116 | S6: 111
A7: 5∼ 9 세 | B7: =SUM(C7:D7) -> 198 | C7: =SUM(F7,I7,L7,O7,R7) -> 99 | D7: =SUM(G7,J7,M7,P7,S7) -> 99 | E7: 4 | F7: 3 | G7: 1 | H7: 10 | I7: 6 | J7: 4 | K7: 7 | L7: 4 | M7: 3 | N7: 37 | O7: 16 | P7: 21 | Q7: 140 | R7: 70 | S7: 70
A8: 10∼14세 | B8: =SUM(C8:D8) -> 156 | C8: =SUM(F8,I8,L8,O8,R8) -> 78 | D8: =SUM(G8,J8,M8,P8,S8) -> 78 | E8: 6 | F8: 2 | G8: 4 | H8: 11 | I8: 7 | J8: 4 | K8: 6 | L8: 4 | M8: 2 | N8: 18 | O8: 6 | P8: 12 | Q8: 115 | R8: 59 | S8: 56
A9: 15∼19세 | B9: =SUM(C9:D9) -> 609 | C9: =SUM(F9,I9,L9,O9,R9) -> 309 | D9: =SUM(G9,J9,M9,P9,S9) -> 300 | E9: 63 | F9: 44 | G9: 19 | H9: 16 | I9: 12 | J9: 4 | K9: 65 | L9: 31 | M9: 34 | N9: 225 | O9: 100 | P9: 125 | Q9: 240 | R9: 122 | S9: 118
A10: 20∼24세 | B10: =SUM(C10:D10) -> 4139 | C10: =SUM(F10,I10,L10,O10,R10) -> 2077 | D10: =SUM(G10,J10,M10,P10,S10) -> 2062 | E10: 395 | F10: 143 | G10: 252 | H10: 237 | I10: 86 | J10: 151 | K10: 361 | L10: 126 | M10: 235 | N10: 1057 | O10: 465 | P10: 592 | Q10: 2089 | R10: 1257 | S10: 832
A11: 25∼29세 | B11: =SUM(C11:D11) -> 4469 | C11: =SUM(F11,I11,L11,O11,R11) -> 2571 | D11: =SUM(G11,J11,M11,P11,S11) -> 1898 | E11: 248 | F11: 120 | G11: 128 | H11: 359 | I11: 150 | J11: 209 | K11: 239 | L11: 80 | M11: 159 | N11: 1126 | O11: 546 | P11: 580 | Q11: 2497 | R11: 1675 | S11: 822
A12: 30∼34세 | B12: =SUM(C12:D12) -> 3008 | C12: =SUM(F12,I12,L12,O12,R12) -> 1799 | D12: =SUM(G12,J12,M12,P12,S12) -> 1209 | E12: 160 | F12: 85 | G12: 75 | H12: 250 | I12: 120 | J12: 130 | K12: 163 | L12: 55 | M12: 108 | N12: 629 | O12: 304 | P12: 325 | Q12: 1806 | R12: 1235 | S12: 571
A13: 35∼39세 | B13: =SUM(C13:D13) -> 1900 | C13: =SUM(F13,I13,L13,O13,R13) -> 1167 | D13: =SUM(G13,J13,M13,P13,S13) -> 733 | E13: 96 | F13: 60 | G13: 36 | H13: 182 | I13: 95 | J13: 87 | K13: 102 | L13: 30 | M13: 72 | N13: 346 | O13: 172 | P13: 174 | Q13: 1174 | R13: 810 | S13: 364
A14: 40∼44세 | B14: =SUM(C14:D14) -> 1406 | C14: =SUM(F14,I14,L14,O14,R14) -> 783 | D14: =SUM(G14,J14,M14,P14,S14) -> 623 | E14: 49 | F14: 26 | G14: 23 | H14: 128 | I14: 53 | J14: 75 | K14: 106 | L14: 48 | M14: 58 | N14: 232 | O14: 96 | P14: 136 | Q14: 891 | R14: 560 | S14: 331
A15: 45∼49세 | B15: =SUM(C15:D15) -> 1158 | C15: =SUM(F15,I15,L15,O15,R15) -> 547 | D15: =SUM(G15,J15,M15,P15,S15) -> 611 | E15: 55 | F15: 23 | G15: 32 | H15: 165 | I15: 70 | J15: 95 | K15: 84 | L15: 31 | M15: 53 | N15: 222 | O15: 81 | P15: 141 | Q15: 632 | R15: 342 | S15: 290
A16: 50∼54세 | B16: =SUM(C16:D16) -> 1157 | C16: =SUM(F16,I16,L16,O16,R16) -> 457 | D16: =SUM(G16,J16,M16,P16,S16) -> 700 | E16: 69 | F16: 28 | G16: 41 | H16: 149 | I16: 67 | J16: 82 | K16: 138 | L16: 47 | M16: 91 | N16: 291 | O16: 103 | P16: 188 | Q16: 510 | R16: 212 | S16: 298
A17: 55∼59세 | B17: =SUM(C17:D17) -> 826 | C17: =SUM(F17,I17,L17,O17,R17) -> 361 | D17: =SUM(G17,J17,M17,P17,S17) -> 465 | E17: 52 | F17: 25 | G17: 27 | H17: 103 | I17: 45 | J17: 58 | K17: 96 | L17: 39 | M17: 57 | N17: 192 | O17: 84 | P17: 108 | Q17: 383 | R17: 168 | S17: 215
... A26: 100이상 | B26: =SUM(C26:D26) -> 0 | C26: =SUM(F26,I26,L26,O26,R26) -> 0 | D26: =SUM(G26,J26,M26,P26,S26) -> 0 | E26: 0 | F26: 0 | G26: 0 | H26: 0 | I26: 0 | J26: 0 | K26: 0 | L26: 0 | M26: 0 | N26: 0 | O26: 0 | P26: 0 | Q26: 0 | R26: 0 | S26: 0

Sheet 2017년
A1: 5. 구별·연령별 외국인(2017년 12월말 기준)
A3: 구 분 | B3: 합 계 | E3: 동 구 | H3: 서 구 | K3: 남 구 | N3: 북 구 | Q3: 광 산 구
B4: 계 | C4: 남 | D4: 여 | E4: 계 | F4: 남 | G4: 여 | H4: 계 | I4: 남 | J4: 여 | K4: 계 | L4: 남 | M4: 여 | N4: 계 | O4: 남 | P4: 여 | Q4: 계 | R4: 남 | S4: 여
A5: 2017 | B5: 21279 | C5: 11655 | D5: 9624 | E5: 1338 | F5: 685 | G5: 653 | H5: 1634 | I5: 732 | J5: 902 | K5: 1401 | L5: 531 | M5: 870 | N5: 4752 | O5: 2206 | P5: 2546 | Q5: 12154 | R5: 7501 | S5: 4653
A6: 0~4세 | B6: 482 | C6: 253 | D6: 229 | E6: 12 | F6: 4 | G6: 8 | H6: 26 | I6: 15 | J6: 11 | K6: 19 | L6: 10 | M6: 9 | N6: 93 | O6: 44 | P6: 49 | Q6: 332 | R6: 180 | S6: 152
A7: 5~9세 | B7: 295 | C7: 150 | D7: 145 | E7: 6 | F7: 5 | G7: 1 | H7: 20 | I7: 13 | J7: 7 | K7: 7 | L7: 3 | M7: 4 | N7: 48 | O7: 21 | P7: 27 | Q7: 214 | R7: 108 | S7: 106
A8: 10~14세 | B8: 200 | C8: 106 | D8: 94 | E8: 4 | F8: 1 | G8: 3 | H8: 8 | I8: 4 | J8: 4 | K8: 10 | L8: 8 | M8: 2 | N8: 17 | O8: 6 | P8: 11 | Q8: 161 | R8: 87 | S8: 74
A9: 15~19세 | B9: 690 | C9: 371 | D9: 319 | E9: 64 | F9: 33 | G9: 31 | H9: 17 | I9: 9 | J9: 8 | K9: 64 | L9: 32 | M9: 32 | N9: 227 | O9: 126 | P9: 101 | Q9: 318 | R9: 171 | S9: 147
A10: 20~24세 | B10: 4465 | C10: 2340 | D10: 2125 | E10: 393 | F10: 178 | G10: 215 | H10: 223 | I10: 88 | J10: 135 | K10: 333 | L10: 108 | M10: 225 | N10: 1181 | O10: 558 | P10: 623 | Q10: 2335 | R10: 1408 | S10: 927
A11: 25~29세 | B11: 4541 | C11: 2730 | D11: 1811 | E11: 318 | F11: 181 | G11: 137 | H11: 340 | I11: 147 | J11: 193 | K11: 203 | L11: 63 | M11: 140 | N11: 1059 | O11: 525 | P11: 534 | Q11: 2621 | R11: 1814 | S11: 807
A12: 30~34세 | B12: 3261 | C12: 1909 | D12: 1352 | E12: 169 | F12: 93 | G12: 76 | H12: 245 | I12: 114 | J12: 131 | K12: 161 | L12: 53 | M12: 108 | N12: 684 | O12: 320 | P12: 364 | Q12: 2002 | R12: 1329 | S12: 673
A13: 35~39세 | B13: 2067 | C13: 1250 | D13: 817 | E13: 101 | F13: 59 | G13: 42 | H13: 177 | I13: 88 | J13: 89 | K13: 109 | L13: 39 | M13: 70 | N13: 355 | O13: 173 | P13: 182 | Q13: 1325 | R13: 891 | S13: 434
A14: 40~44세 | B14: 1391 | C14: 766 | D14: 625 | E14: 43 | F14: 24 | G14: 19 | H14: 109 | I14: 52 | J14: 57 | K14: 93 | L14: 42 | M14: 51 | N14: 214 | O14: 80 | P14: 134 | Q14: 932 | R14: 568 | S14: 364
A15: 45~49세 | B15: 1303 | C15: 647 | D15: 656 | E15: 45 | F15: 25 | G15: 20 | H15: 159 | I15: 64 | J15: 95 | K15: 110 | L15: 45 | M15: 65 | N15: 231 | O15: 89 | P15: 142 | Q15: 758 | R15: 424 | S15: 334
A16: 50~54세 | B16: 1166 | C16: 473 | D16: 693 | E16: 72 | F16: 26 | G16: 46 | H16: 136 | I16: 61 | J16: 75 | K16: 147 | L16: 55 | M16: 92 | N16: 283 | O16: 102 | P16: 181 | Q16: 528 | R16: 229 | S16: 299
A17: 55~59세 | B17: 878 | C17: 383 | D17: 495 | E17: 61 | F17: 25 | G17: 36 | H17: 115 | I17: 45 | J17: 70 | K17: 77 | L17: 35 | M17: 42 | N17: 215 | O17: 90 | P17: 125 | Q17: 410 | R17: 188 | S17: 222
... A22: 80세이상 | B22: 24 | C22: 16 | D22: 8 | E22: 4 | F22: 3 | G22: 1 | H22: 4 | I22: 2 | J22: 2 | K22: 4 | L22: 2 | M22: 2 | N22: 8 | O22: 5 | P22: 3 | Q22: 4 | R22: 4 | S22: 0

Sheet 2018년
A1: ■ 구별·연령별 등록외국인(2018. 12. 31. 기준)
A2: 구 분 | B2: 합 계 | E2: 동구 | H2: 서구 | K2: 남구 | N2: 북구 | Q2: 광산구
B3: 계 | C3: 남 | D3: 여 | E3: 계 | F3: 남 | G3: 여 | H3: 계 | I3: 남 | J3: 여 | K3: 계 | L3: 남 | M3: 여 | N3: 계 | O3: 남 | P3: 여 | Q3: 계 | R3: 남 | S3: 여
A4: 총계 | B4: 22815 | C4: 12545 | D4: 10270 | E4: 1872 | F4: 991 | G4: 881 | H4: 1698 | I4: 795 | J4: 903 | K4: 1418 | L4: 545 | M4: 873 | N4: 4873 | O4: 2287 | P4: 2586 | Q4: 12954 | R4: 7927 | S4: 5027
A5: 0~4세 | B5: 531 | C5: 283 | D5: 248 | E5: 21 | F5: 11 | G5: 10 | H5: 26 | I5: 16 | J5: 10 | K5: 22 | L5: 8 | M5: 14 | N5: 106 | O5: 56 | P5: 50 | Q5: 356 | R5: 192 | S5: 164
A6: 5~9세 | B6: 360 | C6: 177 | D6: 183 | E6: 10 | F6: 3 | G6: 7 | H6: 22 | I6: 14 | J6: 8 | K6: 10 | L6: 3 | M6: 7 | N6: 61 | O6: 27 | P6: 34 | Q6: 257 | R6: 130 | S6: 127
A7: 10~14세 | B7: 247 | C7: 134 | D7: 113 | E7: 4 | F7: 2 | G7: 2 | H7: 8 | I7: 5 | J7: 3 | K7: 11 | L7: 8 | M7: 3 | N7: 19 | O7: 8 | P7: 11 | Q7: 205 | R7: 111 | S7: 94
A8: 15~19세 | B8: 1147 | C8: 608 | D8: 539 | E8: 323 | F8: 185 | G8: 138 | H8: 34 | I8: 17 | J8: 17 | K8: 85 | L8: 46 | M8: 39 | N8: 200 | O8: 102 | P8: 98 | Q8: 505 | R8: 258 | S8: 247
A9: 20~24세 | B9: 4984 | C9: 2781 | D9: 2203 | E9: 611 | F9: 321 | G9: 290 | H9: 228 | I9: 109 | J9: 119 | K9: 296 | L9: 116 | M9: 180 | N9: 1184 | O9: 597 | P9: 587 | Q9: 2665 | R9: 1638 | S9: 1027
A10: 25~29세 | B10: 4602 | C10: 2740 | D10: 1862 | E10: 325 | F10: 174 | G10: 151 | H10: 349 | I10: 162 | J10: 187 | K10: 208 | L10: 67 | M10: 141 | N10: 1085 | O10: 525 | P10: 560 | Q10: 2635 | R10: 1812 | S10: 823
A11: 30~34세 | B11: 3338 | C11: 1936 | D11: 1402 | E11: 173 | F11: 92 | G11: 81 | H11: 240 | I11: 110 | J11: 130 | K11: 169 | L11: 53 | M11: 116 | N11: 712 | O11: 342 | P11: 370 | Q11: 2044 | R11: 1339 | S11: 705
A12: 35~39세 | B12: 2165 | C12: 1270 | D12: 895 | E12: 120 | F12: 65 | G12: 55 | H12: 191 | I12: 94 | J12: 97 | K12: 105 | L12: 32 | M12: 73 | N12: 384 | O12: 180 | P12: 204 | Q12: 1365 | R12: 899 | S12: 466
A13: 40~44세 | B13: 1448 | C13: 789 | D13: 659 | E13: 57 | F13: 34 | G13: 23 | H13: 122 | I13: 58 | J13: 64 | K13: 102 | L13: 42 | M13: 60 | N13: 224 | O13: 91 | P13: 133 | Q13: 943 | R13: 564 | S13: 379
A14: 45~49세 | B14: 1330 | C14: 675 | D14: 655 | E14: 46 | F14: 26 | G14: 20 | H14: 147 | I14: 62 | J14: 85 | K14: 121 | L14: 53 | M14: 68 | N14: 244 | O14: 92 | P14: 152 | Q14: 772 | R14: 442 | S14: 330
A15: 50~54세 | B15: 1199 | C15: 492 | D15: 707 | E15: 60 | F15: 21 | G15: 39 | H15: 160 | I15: 77 | J15: 83 | K15: 139 | L15: 57 | M15: 82 | N15: 285 | O15: 94 | P15: 191 | Q15: 555 | R15: 243 | S15: 312
... A21: 80세이상 | B21: 28 | C21: 17 | D21: 11 | E21: 6 | F21: 3 | G21: 3 | H21: 6 | I21: 3 | J21: 3 | K21: 2 | L21: 1 | M21: 1 | N21: 8 | O21: 5 | P21: 3 | Q21: 6 | R21: 5 | S21: 1

Sheet 2019년
A1: ■ 구별·연령별 등록외국인 (2019. 12. 31. 기준)
S2: (단위 : 명)
A3: 구 분 | B3: 합 계 | E3: 동 구 | H3: 서 구 | K3: 남 구 | N3: 북 구 | Q3: 광 산 구
B4: 계 | C4: 남 | D4: 여 | E4: 계 | F4: 남 | G4: 여 | H4: 계 | I4: 남 | J4: 여 | K4: 계 | L4: 남 | M4: 여 | N4: 계 | O4: 남 | P4: 여 | Q4: 계 | R4: 남 | S4: 여
A5: 2019 | B5: 23825 | C5: 13020 | D5: 10805 | E5: 1919 | F5: 988 | G5: 931 | H5: 1691 | I5: 758 | J5: 933 | K5: 1553 | L5: 626 | M5: 927 | N5: 5201 | O5: 2527 | P5: 2674 | Q5: 13461 | R5: 8121 | S5: 5340
A6: 0~4세 | B6: 570 | C6: 296 | D6: 274 | E6: 22 | F6: 10 | G6: 12 | H6: 28 | I6: 18 | J6: 10 | K6: 17 | L6: 9 | M6: 8 | N6: 108 | O6: 60 | P6: 48 | Q6: 395 | R6: 199 | S6: 196
A7: 5~9세 | B7: 453 | C7: 224 | D7: 229 | E7: 15 | F7: 5 | G7: 10 | H7: 31 | I7: 16 | J7: 15 | K7: 18 | L7: 6 | M7: 12 | N7: 67 | O7: 31 | P7: 36 | Q7: 322 | R7: 166 | S7: 156
A8: 10~14세 | B8: 286 | C8: 135 | D8: 151 | E8: 3 | F8: 2 | G8: 1 | H8: 13 | I8: 5 | J8: 8 | K8: 9 | L8: 4 | M8: 5 | N8: 28 | O8: 10 | P8: 18 | Q8: 233 | R8: 114 | S8: 119
A9: 15~19세 | B9: 1229 | C9: 611 | D9: 618 | E9: 260 | F9: 124 | G9: 136 | H9: 33 | I9: 13 | J9: 20 | K9: 163 | L9: 90 | M9: 73 | N9: 198 | O9: 100 | P9: 98 | Q9: 575 | R9: 284 | S9: 291
A10: 20~24세 | B10: 5669 | C10: 3244 | D10: 2425 | E10: 689 | F10: 376 | G10: 313 | H10: 221 | I10: 95 | J10: 126 | K10: 373 | L10: 155 | M10: 218 | N10: 1390 | O10: 748 | P10: 642 | Q10: 2996 | R10: 1870 | S10: 1126
A11: 25~29세 | B11: 4584 | C11: 2740 | D11: 1844 | E11: 333 | F11: 166 | G11: 167 | H11: 308 | I11: 142 | J11: 166 | K11: 226 | L11: 80 | M11: 146 | N11: 1143 | O11: 576 | P11: 567 | Q11: 2574 | R11: 1776 | S11: 798
A12: 30~34세 | B12: 3383 | C12: 1922 | D12: 1461 | E12: 190 | F12: 100 | G12: 90 | H12: 262 | I12: 121 | J12: 141 | K12: 159 | L12: 51 | M12: 108 | N12: 746 | O12: 362 | P12: 384 | Q12: 2026 | R12: 1288 | S12: 738
A13: 35~39세 | B13: 2208 | C13: 1227 | D13: 981 | E13: 132 | F13: 71 | G13: 61 | H13: 175 | I13: 80 | J13: 95 | K13: 119 | L13: 31 | M13: 88 | N13: 410 | O13: 181 | P13: 229 | Q13: 1372 | R13: 864 | S13: 508
A14: 40~44세 | B14: 1476 | C14: 791 | D14: 685 | E14: 63 | F14: 37 | G14: 26 | H14: 135 | I14: 64 | J14: 71 | K14: 95 | L14: 43 | M14: 52 | N14: 259 | O14: 113 | P14: 146 | Q14: 924 | R14: 534 | S14: 390
A15: 45~49세 | B15: 1305 | C15: 649 | D15: 656 | E15: 47 | F15: 26 | G15: 21 | H15: 147 | I15: 49 | J15: 98 | K15: 115 | L15: 54 | M15: 61 | N15: 232 | O15: 85 | P15: 147 | Q15: 764 | R15: 435 | S15: 329
A16: 50~54세 | B16: 1121 | C16: 494 | D16: 627 | E16: 45 | F16: 17 | G16: 28 | H16: 150 | I16: 73 | J16: 77 | K16: 107 | L16: 38 | M16: 69 | N16: 249 | O16: 92 | P16: 157 | Q16: 570 | R16: 274 | S16: 296
A17: 55~59세 | B17: 1005 | C17: 424 | D17: 581 | E17: 67 | F17: 25 | G17: 42 | H17: 126 | I17: 55 | J17: 71 | K17: 84 | L17: 29 | M17: 55 | N17: 230 | O17: 97 | P17: 133 | Q17: 498 | R17: 218 | S17: 280
... A22: 80세이상 | B22: 26 | C22: 14 | D22: 12 | E22: 5 | F22: 2 | G22: 3 | H22: 5 | I22: 2 | J22: 3 | K22: 3 | L22: 2 | M22: 1 | N22: 7 | O22: 3 | P22: 4 | Q22: 6 | R22: 5 | S22: 1
A24: 구 분 | B24: 합 계 | E24: 동 구 | H24: 서 구 | K24: 남 구 | N24: 북 구 | Q24: 광 산 구
B25: 계 | C25: 남 | D25: 여 | E25: 계 | F25: 남 | G25: 여 | H25: 계 | I25: 남 | J25: 여 | K25: 계 | L25: 남 | M25: 여 | N25: 계 | O25: 남 | P25: 여 | Q25: 계 | R25: 남 | S25: 여
A26: 합계 | B26: 23825 | C26: 13020 | D26: 10805 | E26: 1919 | F26: 988 | G26: 931 | H26: 1691 | I26: 758 | J26: 933 | K26: 1553 | L26: 626 | M26: 927 | N26: 5201 | O26: 2527 | P26: 2674 | Q26: 13461 | R26: 8121 | S26: 5340
A27: 0~9세 | B27: 1023 | C27: 520 | D27: 503 | E27: 37 | F27: 15 | G27: 22 | H27: 59 | I27: 34 | J27: 25 | K27: 35 | L27: 15 | M27: 20 | N27: 175 | O27: 91 | P27: 84 | Q27: 717 | R27: 365 | S27: 352
A28: 10~19세 | B28: 1515 | C28: 746 | D28: 769 | E28: 263 | F28: 126 | G28: 137 | H28: 46 | I28: 18 | J28: 28 | K28: 172 | L28: 94 | M28: 78 | N28: 226 | O28: 110 | P28: 116 | Q28: 808 | R28: 398 | S28: 410
A29: 20~29세 | B29: 10253 | C29: 5984 | D29: 4269 | E29: 1022 | F29: 542 | G29: 480 | H29: 529 | I29: 237 | J29: 292 | K29: 599 | L29: 235 | M29: 364 | N29: 2533 | O29: 1324 | P29: 1209 | Q29: 5570 | R29: 3646 | S29: 1924
A30: 30~39세 | B30: 5591 | C30: 3149 | D30: 2442 | E30: 322 | F30: 171 | G30: 151 | H30: 437 | I30: 201 | J30: 236 | K30: 278 | L30: 82 | M30: 196 | N30: 1156 | O30: 543 | P30: 613 | Q30: 3398 | R30: 2152 | S30: 1246
A31: 40~49세 | B31: 2781 | C31: 1440 | D31: 1341 | E31: 110 | F31: 63 | G31: 47 | H31: 282 | I31: 113 | J31: 169 | K31: 210 | L31: 97 | M31: 113 | N31: 491 | O31: 198 | P31: 293 | Q31: 1688 | R31: 969 | S31: 719
A32: 50~59세 | B32: 2126 | C32: 918 | D32: 1208 | E32: 112 | F32: 42 | G32: 70 | H32: 276 | I32: 128 | J32: 148 | K32: 191 | L32: 67 | M32: 124 | N32: 479 | O32: 189 | P32: 290 | Q32: 1068 | R32: 492 | S32: 576
A33: 60~69세 | B33: 448 | C33: 216 | D33: 232 | E33: 40 | F33: 22 | G33: 18 | H33: 45 | I33: 16 | J33: 29 | K33: 57 | L33: 30 | M33: 27 | N33: 115 | O33: 62 | P33: 53 | Q33: 191 | R33: 86 | S33: 105
A34: 70~79세 | B34: 62 | C34: 33 | D34: 29 | E34: 8 | F34: 5 | G34: 3 | H34: 12 | I34: 9 | J34: 3 | K34: 8 | L34: 4 | M34: 4 | N34: 19 | O34: 7 | P34: 12 | Q34: 15 | R34: 8 | S34: 7
A35: 80세이상 | B35: 26 | C35: 14 | D35: 12 | E35: 5 | F35: 2 | G35: 3 | H35: 5 | I35: 2 | J35: 3 | K35: 3 | L35: 2 | M35: 1 | N35: 7 | O35: 3 | P35: 4 | Q35: 6 | R35: 5 | S35: 1

Sheet 2020년
A1: ■ 구별·연령별 등록외국인 (2020. 12. 31. 기준)
S2: (단위 : 명)
A3: 구 분 | B3: 합 계 | E3: 동 구 | H3: 서 구 | K3: 남 구 | N3: 북 구 | Q3: 광 산 구
B4: 계 | C4: 남 | D4: 여 | E4: 계 | F4: 남 | G4: 여 | H4: 계 | I4: 남 | J4: 여 | K4: 계 | L4: 남 | M4: 여 | N4: 계 | O4: 남 | P4: 여 | Q4: 계 | R4: 남 | S4: 여
A5: 2020 | B5: =SUM(B6:B22) -> 21323 | C5: =SUM(C6:C22) -> 11508 | D5: =SUM(D6:D22) -> 9815 | E5: =SUM(E6:E22) -> 1613 | F5: =SUM(F6:F22) -> 858 | G5: =SUM(G6:G22) -> 755 | H5: =SUM(H6:H22) -> 1647 | I5: =SUM(I6:I22) -> 744 | ... S5: =SUM(S6:S22) -> 4899
A6: 0~4세 | B6: =SUM(C6:D6) -> 513 | C6: =F6+I6+L6+O6+R6 -> 269 | D6: =G6+J6+M6+P6+S6 -> 244 | E6: 20 | F6: 9 | G6: 11 | H6: 22 | I6: 16 | J6: 6 | K6: 8 | L6: 4 | M6: 4 | N6: 91 | O6: 48 | P6: 43 | Q6: 372 | R6: 192 | S6: 180
A7: 5~9세 | B7: =SUM(C7:D7) -> 436 | C7: =F7+I7+L7+O7+R7 -> 203 | D7: =G7+J7+M7+P7+S7 -> 233 | E7: 18 | F7: 5 | G7: 13 | H7: 31 | I7: 16 | J7: 15 | K7: 19 | L7: 7 | M7: 12 | N7: 61 | O7: 24 | P7: 37 | Q7: 307 | R7: 151 | S7: 156
A8: 10~14세 | B8: =SUM(C8:D8) -> 292 | C8: =F8+I8+L8+O8+R8 -> 136 | D8: =G8+J8+M8+P8+S8 -> 156 | E8: 1 | F8: 1 | G8: 0 | H8: 17 | I8: 9 | J8: 8 | K8: 7 | L8: 4 | M8: 3 | N8: 23 | O8: 9 | P8: 14 | Q8: 244 | R8: 113 | S8: 131
A9: 15~19세 | B9: =SUM(C9:D9) -> 700 | C9: =F9+I9+L9+O9+R9 -> 314 | D9: =G9+J9+M9+P9+S9 -> 386 | E9: 51 | F9: 28 | G9: 23 | H9: 23 | I9: 9 | J9: 14 | K9: 109 | L9: 51 | M9: 58 | N9: 118 | O9: 58 | P9: 60 | Q9: 399 | R9: 168 | S9: 231
A10: 20~24세 | B10: =SUM(C10:D10) -> 4855 | C10: =F10+I10+L10+O10+R10 -> 2760 | D10: =G10+J10+M10+P10+S10 -> 2095 | E10: 663 | F10: 378 | G10: 285 | H10: 231 | I10: 103 | J10: 128 | K10: 385 | L10: 180 | M10: 205 | N10: 1087 | O10: 604 | P10: 483 | Q10: 2489 | R10: 1495 | S10: 994
A11: 25~29세 | B11: =SUM(C11:D11) -> 4146 | C11: =F11+I11+L11+O11+R11 -> 2461 | D11: =G11+J11+M11+P11+S11 -> 1685 | E11: 313 | F11: 154 | G11: 159 | H11: 296 | I11: 145 | J11: 151 | K11: 206 | L11: 80 | M11: 126 | N11: 1019 | O11: 506 | P11: 513 | Q11: 2312 | R11: 1576 | S11: 736
A12: 30~34세 | B12: =SUM(C12:D12) -> 3187 | C12: =F12+I12+L12+O12+R12 -> 1788 | D12: =G12+J12+M12+P12+S12 -> 1399 | E12: 176 | F12: 91 | G12: 85 | H12: 258 | I12: 115 | J12: 143 | K12: 169 | L12: 57 | M12: 112 | N12: 742 | O12: 351 | P12: 391 | Q12: 1842 | R12: 1174 | S12: 668
A13: 35~39세 | B13: =SUM(C13:D13) -> 2184 | C13: =F13+I13+L13+O13+R13 -> 1199 | D13: =G13+J13+M13+P13+S13 -> 985 | E13: 132 | F13: 72 | G13: 60 | H13: 173 | I13: 77 | J13: 96 | K13: 129 | L13: 32 | M13: 97 | N13: 456 | O13: 212 | P13: 244 | Q13: 1294 | R13: 806 | S13: 488
A14: 40~44세 | B14: =SUM(C14:D14) -> 1377 | C14: =F14+I14+L14+O14+R14 -> 737 | D14: =G14+J14+M14+P14+S14 -> 640 | E14: 51 | F14: 30 | G14: 21 | H14: 126 | I14: 53 | J14: 73 | K14: 92 | L14: 38 | M14: 54 | N14: 228 | O14: 97 | P14: 131 | Q14: 880 | R14: 519 | S14: 361
A15: 45~49세 | B15: =SUM(C15:D15) -> 1208 | C15: =F15+I15+L15+O15+R15 -> 600 | D15: =G15+J15+M15+P15+S15 -> 608 | E15: 46 | F15: 28 | G15: 18 | H15: 131 | I15: 52 | J15: 79 | K15: 97 | L15: 45 | M15: 52 | N15: 236 | O15: 95 | P15: 141 | Q15: 698 | R15: 380 | S15: 318
A16: 50~54세 | B16: =SUM(C16:D16) -> 1001 | C16: =F16+I16+L16+O16+R16 -> 439 | D16: =G16+J16+M16+P16+S16 -> 562 | E16: 43 | F16: 18 | G16: 25 | H16: 149 | I16: 60 | J16: 89 | K16: 88 | L16: 30 | M16: 58 | N16: 195 | O16: 74 | P16: 121 | Q16: 526 | R16: 257 | S16: 269
A17: 55~59세 | B17: =SUM(C17:D17) -> 896 | C17: =F17+I17+L17+O17+R17 -> 355 | D17: =G17+J17+M17+P17+S17 -> 541 | E17: 50 | F17: 19 | G17: 31 | H17: 116 | I17: 54 | J17: 62 | K17: 81 | L17: 25 | M17: 56 | N17: 227 | O17: 89 | P17: 138 | Q17: 422 | R17: 168 | S17: 254
... A22: 80세이상 | B22: =SUM(C22:D22) -> 21 | C22: =F22+I22+L22+O22+R22 -> 11 | D22: =G22+J22+M22+P22+S22 -> 10 | E22: 4 | F22: 1 | G22: 3 | H22: 6 | I22: 3 | J22: 3 | K22: 0 | L22: 0 | M22: 0 | N22: 6 | O22: 3 | P22: 3 | Q22: 5 | R22: 4 | S22: 1
A24: 구 분 | B24: 합 계 | E24: 동 구 | H24: 서 구 | K24: 남 구 | N24: 북 구 | Q24: 광 산 구
B25: 계 | C25: 남 | D25: 여 | E25: 계 | F25: 남 | G25: 여 | H25: 계 | I25: 남 | J25: 여 | K25: 계 | L25: 남 | M25: 여 | N25: 계 | O25: 남 | P25: 여 | Q25: 계 | R25: 남 | S25: 여
A26: 합계 | B26: =SUM(B27:B35) -> 21323 | C26: =SUM(C27:C35) -> 11508 | D26: =SUM(D27:D35) -> 9815 | E26: =SUM(E27:E35) -> 1613 | F26: =SUM(F27:F35) -> 858 | G26: =SUM(G27:G35) -> 755 | H26: =SUM(H27:H35) -> 1647 | I26: =SUM(I27:I35) -> 744 | ... S26: =SUM(S27:S35) -> 4899
A27: 0~9세 | B27: =B6+B7 -> 949 | C27: =C6+C7 -> 472 | D27: =D6+D7 -> 477 | E27: =E6+E7 -> 38 | F27: =F6+F7 -> 14 | G27: =G6+G7 -> 24 | H27: =H6+H7 -> 53 | I27: =I6+I7 -> 32 | ... S27: =S6+S7 -> 336
A28: 10~19세 | B28: =B8+B9 -> 992 | C28: =C8+C9 -> 450 | D28: =D8+D9 -> 542 | E28: =E8+E9 -> 52 | F28: =F8+F9 -> 29 | G28: =G8+G9 -> 23 | H28: =H8+H9 -> 40 | I28: =I8+I9 -> 18 | ... S28: =S8+S9 -> 362
A29: 20~29세 | B29: =B10+B11 -> 9001 | C29: =C10+C11 -> 5221 | D29: =D10+D11 -> 3780 | E29: =E10+E11 -> 976 | F29: =F10+F11 -> 532 | G29: =G10+G11 -> 444 | H29: =H10+H11 -> 527 | I29: =I10+I11 -> 248 | ... S29: =S10+S11 -> 1730
A30: 30~39세 | B30: =B12+B13 -> 5371 | C30: =C12+C13 -> 2987 | D30: =D12+D13 -> 2384 | E30: =E12+E13 -> 308 | F30: =F12+F13 -> 163 | G30: =G12+G13 -> 145 | H30: =H12+H13 -> 431 | I30: =I12+I13 -> 192 | ... S30: =S12+S13 -> 1156
A31: 40~49세 | B31: =B14+B15 -> 2585 | C31: =C14+C15 -> 1337 | D31: =D14+D15 -> 1248 | E31: =E14+E15 -> 97 | F31: =F14+F15 -> 58 | G31: =G14+G15 -> 39 | H31: =H14+H15 -> 257 | I31: =I14+I15 -> 105 | ... S31: =S14+S15 -> 679
A32: 50~59세 | B32: =B16+B17 -> 1897 | C32: =C16+C17 -> 794 | D32: =D16+D17 -> 1103 | E32: =E16+E17 -> 93 | F32: =F16+F17 -> 37 | G32: =G16+G17 -> 56 | H32: =H16+H17 -> 265 | I32: =I16+I17 -> 114 | ... S32: =S16+S17 -> 523
A33: 60~69세 | B33: =B18+B19 -> 445 | C33: =C18+C19 -> 205 | D33: =D18+D19 -> 240 | E33: =E18+E19 -> 35 | F33: =F18+F19 -> 18 | G33: =G18+G19 -> 17 | H33: =H18+H19 -> 54 | I33: =I18+I19 -> 24 | ... S33: =S18+S19 -> 105
A34: 70~79세 | B34: =B20+B21 -> 62 | C34: =C20+C21 -> 31 | D34: =D20+D21 -> 31 | E34: =E20+E21 -> 10 | F34: =F20+F21 -> 6 | G34: =G20+G21 -> 4 | H34: =H20+H21 -> 14 | I34: =I20+I21 -> 8 | ... S34: =S20+S21 -> 7
A35: 80세이상 | B35: =B22 -> 21 | C35: =C22 -> 11 | D35: =D22 -> 10 | E35: =E22 -> 4 | F35: =F22 -> 1 | G35: =G22 -> 3 | H35: =H22 -> 6 | I35: =I22 -> 3 | ... S35: =S22 -> 1

Sheet 2021년
A1: ■ 구별·연령별 등록외국인 (2021. 12. 31. 기준)
S2: (단위 : 명)
A3: 구 분 | B3: 합 계 | E3: 동 구 | H3: 서 구 | K3: 남 구 | N3: 북 구 | Q3: 광 산 구
B4: 계 | C4: 남 | D4: 여 | E4: 계 | F4: 남 | G4: 여 | H4: 계 | I4: 남 | J4: 여 | K4: 계 | L4: 남 | M4: 여 | N4: 계 | O4: 남 | P4: 여 | Q4: 계 | R4: 남 | S4: 여
A5: 2021 | B5: =SUM(B6:B22) -> 20934 | C5: =SUM(C6:C22) -> 11163 | D5: =SUM(D6:D22) -> 9771 | E5: =SUM(E6:E22) -> 1607 | F5: =SUM(F6:F22) -> 865 | G5: =SUM(G6:G22) -> 742 | H5: =SUM(H6:H22) -> 1606 | I5: =SUM(I6:I22) -> 727 | ... S5: =SUM(S6:S22) -> 4891
A6: 0~4세 | B6: =SUM(C6:D6) -> 596 | C6: =F6+I6+L6+O6+R6 -> 314 | D6: =G6+J6+M6+P6+S6 -> 282 | E6: =SUM(F6:G6) -> 21 | F6: 12 | G6: 9 | H6: =SUM(I6:J6) -> 31 | I6: 21 | J6: 10 | K6: =SUM(L6:M6) -> 15 | L6: 9 | M6: 6 | N6: =SUM(O6:P6) -> 99 | O6: 53 | P6: 46 | Q6: =SUM(R6:S6) -> 430 | R6: 219 | S6: 211
A7: 5~9세 | B7: =SUM(C7:D7) -> 515 | C7: =F7+I7+L7+O7+R7 -> 243 | D7: =G7+J7+M7+P7+S7 -> 272 | E7: =SUM(F7:G7) -> 22 | F7: 6 | G7: 16 | H7: =SUM(I7:J7) -> 28 | I7: 15 | J7: 13 | K7: =SUM(L7:M7) -> 23 | L7: 9 | M7: 14 | N7: =SUM(O7:P7) -> 75 | O7: 30 | P7: 45 | Q7: =SUM(R7:S7) -> 367 | R7: 183 | S7: 184
A8: 10~14세 | B8: =SUM(C8:D8) -> 326 | C8: =F8+I8+L8+O8+R8 -> 166 | D8: =G8+J8+M8+P8+S8 -> 160 | E8: =SUM(F8:G8) -> 4 | F8: 2 | G8: 2 | H8: =SUM(I8:J8) -> 13 | I8: 10 | J8: 3 | K8: =SUM(L8:M8) -> 5 | L8: 3 | M8: 2 | N8: =SUM(O8:P8) -> 31 | O8: 14 | P8: 17 | Q8: =SUM(R8:S8) -> 273 | R8: 137 | S8: 136
A9: 15~19세 | B9: =SUM(C9:D9) -> 556 | C9: =F9+I9+L9+O9+R9 -> 262 | D9: =G9+J9+M9+P9+S9 -> 294 | E9: =SUM(F9:G9) -> 24 | F9: 13 | G9: 11 | H9: =SUM(I9:J9) -> 22 | I9: 7 | J9: 15 | K9: =SUM(L9:M9) -> 121 | L9: 54 | M9: 67 | N9: =SUM(O9:P9) -> 55 | O9: 24 | P9: 31 | Q9: =SUM(R9:S9) -> 334 | R9: 164 | S9: 170
A10: 20~24세 | B10: =SUM(C10:D10) -> 4837 | C10: =F10+I10+L10+O10+R10 -> 2611 | D10: =G10+J10+M10+P10+S10 -> 2226 | E10: =SUM(F10:G10) -> 596 | F10: 320 | G10: 276 | H10: =SUM(I10:J10) -> 256 | I10: 114 | J10: 142 | K10: =SUM(L10:M10) -> 405 | L10: 178 | M10: 227 | N10: =SUM(O10:P10) -> 976 | O10: 508 | P10: 468 | Q10: =SUM(R10:S10) -> 2604 | R10: 1491 | S10: 1113
A11: 25~29세 | B11: =SUM(C11:D11) -> 4079 | C11: =F11+I11+L11+O11+R11 -> 2384 | D11: =G11+J11+M11+P11+S11 -> 1695 | E11: =SUM(F11:G11) -> 346 | F11: 193 | G11: 153 | H11: =SUM(I11:J11) -> 298 | I11: 151 | J11: 147 | K11: =SUM(L11:M11) -> 208 | L11: 81 | M11: 127 | N11: =SUM(O11:P11) -> 1067 | O11: 510 | P11: 557 | Q11: =SUM(R11:S11) -> 2160 | R11: 1449 | S11: 711
A12: 30~34세 | B12: =SUM(C12:D12) -> 3088 | C12: =F12+I12+L12+O12+R12 -> 1748 | D12: =G12+J12+M12+P12+S12 -> 1340 | E12: =SUM(F12:G12) -> 196 | F12: 105 | G12: 91 | H12: =SUM(I12:J12) -> 250 | I12: 120 | J12: 130 | K12: =SUM(L12:M12) -> 154 | L12: 55 | M12: 99 | N12: =SUM(O12:P12) -> 684 | O12: 327 | P12: 357 | Q12: =SUM(R12:S12) -> 1804 | R12: 1141 | S12: 663
A13: 35~39세 | B13: =SUM(C13:D13) -> 2172 | C13: =F13+I13+L13+O13+R13 -> 1187 | D13: =G13+J13+M13+P13+S13 -> 985 | E13: =SUM(F13:G13) -> 132 | F13: 77 | G13: 55 | H13: =SUM(I13:J13) -> 169 | I13: 72 | J13: 97 | K13: =SUM(L13:M13) -> 134 | L13: 30 | M13: 104 | N13: =SUM(O13:P13) -> 487 | O13: 223 | P13: 264 | Q13: =SUM(R13:S13) -> 1250 | R13: 785 | S13: 465
A14: 40~44세 | B14: =SUM(C14:D14) -> 1375 | C14: =F14+I14+L14+O14+R14 -> 743 | D14: =G14+J14+M14+P14+S14 -> 632 | E14: =SUM(F14:G14) -> 69 | F14: 40 | G14: 29 | H14: =SUM(I14:J14) -> 139 | I14: 59 | J14: 80 | K14: =SUM(L14:M14) -> 97 | L14: 36 | M14: 61 | N14: =SUM(O14:P14) -> 225 | O14: 96 | P14: 129 | Q14: =SUM(R14:S14) -> 845 | R14: 512 | S14: 333
A15: 45~49세 | B15: =SUM(C15:D15) -> 1076 | C15: =F15+I15+L15+O15+R15 -> 520 | D15: =G15+J15+M15+P15+S15 -> 556 | E15: =SUM(F15:G15) -> 49 | F15: 29 | G15: 20 | H15: =SUM(I15:J15) -> 107 | I15: 38 | J15: 69 | K15: =SUM(L15:M15) -> 84 | L15: 39 | M15: 45 | N15: =SUM(O15:P15) -> 201 | O15: 75 | P15: 126 | Q15: =SUM(R15:S15) -> 635 | R15: 339 | S15: 296
A16: 50~54세 | B16: =SUM(C16:D16) -> 950 | C16: =F16+I16+L16+O16+R16 -> 432 | D16: =G16+J16+M16+P16+S16 -> 518 | E16: =SUM(F16:G16) -> 47 | F16: 19 | G16: 28 | H16: =SUM(I16:J16) -> 134 | I16: 56 | J16: 78 | K16: =SUM(L16:M16) -> 76 | L16: 27 | M16: 49 | N16: =SUM(O16:P16) -> 209 | O16: 79 | P16: 130 | Q16: =SUM(R16:S16) -> 484 | R16: 251 | S16: 233
A17: 55~59세 | B17: =SUM(C17:D17) -> 842 | C17: =F17+I17+L17+O17+R17 -> 316 | D17: =G17+J17+M17+P17+S17 -> 526 | E17: =SUM(F17:G17) -> 51 | F17: 26 | G17: 25 | H17: =SUM(I17:J17) -> 95 | I17: 38 | J17: 57 | K17: =SUM(L17:M17) -> 81 | L17: 29 | M17: 52 | N17: =SUM(O17:P17) -> 209 | O17: 78 | P17: 131 | Q17: =SUM(R17:S17) -> 406 | R17: 145 | S17: 261
... A22: 80세이상 | B22: =SUM(C22:D22) -> 25 | C22: =F22+I22+L22+O22+R22 -> 13 | D22: =G22+J22+M22+P22+S22 -> 12 | E22: =SUM(F22:G22) -> 4 | F22: 1 | G22: 3 | H22: =SUM(I22:J22) -> 7 | I22: 4 | J22: 3 | K22: =SUM(L22:M22) -> 2 | L22: 0 | M22: 2 | N22: =SUM(O22:P22) -> 8 | O22: 5 | P22: 3 | Q22: =SUM(R22:S22) -> 4 | R22: 3 | S22: 1
A24: 구 분 | B24: 합 계 | E24: 동 구 | H24: 서 구 | K24: 남 구 | N24: 북 구 | Q24: 광 산 구
B25: 계 | C25: 남 | D25: 여 | E25: 계 | F25: 남 | G25: 여 | H25: 계 | I25: 남 | J25: 여 | K25: 계 | L25: 남 | M25: 여 | N25: 계 | O25: 남 | P25: 여 | Q25: 계 | R25: 남 | S25: 여
A26: 합계 | B26: =SUM(B27:B35) -> 20934 | C26: =SUM(C27:C35) -> 11163 | D26: =SUM(D27:D35) -> 9771 | E26: =SUM(E27:E35) -> 1607 | F26: =SUM(F27:F35) -> 865 | G26: =SUM(G27:G35) -> 742 | H26: =SUM(H27:H35) -> 1606 | I26: =SUM(I27:I35) -> 727 | ... S26: =SUM(S27:S35) -> 4891
A27: 0~9세 | B27: =B6+B7 -> 1111 | C27: =C6+C7 -> 557 | D27: =D6+D7 -> 554 | E27: =E6+E7 -> 43 | F27: =F6+F7 -> 18 | G27: =G6+G7 -> 25 | H27: =H6+H7 -> 59 | I27: =I6+I7 -> 36 | ... S27: =S6+S7 -> 395
A28: 10~19세 | B28: =B8+B9 -> 882 | C28: =C8+C9 -> 428 | D28: =D8+D9 -> 454 | E28: =E8+E9 -> 28 | F28: =F8+F9 -> 15 | G28: =G8+G9 -> 13 | H28: =H8+H9 -> 35 | I28: =I8+I9 -> 17 | ... S28: =S8+S9 -> 306
A29: 20~29세 | B29: =B10+B11 -> 8916 | C29: =C10+C11 -> 4995 | D29: =D10+D11 -> 3921 | E29: =E10+E11 -> 942 | F29: =F10+F11 -> 513 | G29: =G10+G11 -> 429 | H29: =H10+H11 -> 554 | I29: =I10+I11 -> 265 | ... S29: =S10+S11 -> 1824
A30: 30~39세 | B30: =B12+B13 -> 5260 | C30: =C12+C13 -> 2935 | D30: =D12+D13 -> 2325 | E30: =E12+E13 -> 328 | F30: =F12+F13 -> 182 | G30: =G12+G13 -> 146 | H30: =H12+H13 -> 419 | I30: =I12+I13 -> 192 | ... S30: =S12+S13 -> 1128
A31: 40~49세 | B31: =B14+B15 -> 2451 | C31: =C14+C15 -> 1263 | D31: =D14+D15 -> 1188 | E31: =E14+E15 -> 118 | F31: =F14+F15 -> 69 | G31: =G14+G15 -> 49 | H31: =H14+H15 -> 246 | I31: =I14+I15 -> 97 | ... S31: =S14+S15 -> 629
A32: 50~59세 | B32: =B16+B17 -> 1792 | C32: =C16+C17 -> 748 | D32: =D16+D17 -> 1044 | E32: =E16+E17 -> 98 | F32: =F16+F17 -> 45 | G32: =G16+G17 -> 53 | H32: =H16+H17 -> 229 | I32: =I16+I17 -> 94 | ... S32: =S16+S17 -> 494
A33: 60~69세 | B33: =B18+B19 -> 437 | C33: =C18+C19 -> 194 | D33: =D18+D19 -> 243 | E33: =E18+E19 -> 33 | F33: =F18+F19 -> 15 | G33: =G18+G19 -> 18 | H33: =H18+H19 -> 42 | I33: =I18+I19 -> 15 | ... S33: =S18+S19 -> 108
A34: 70~79세 | B34: =B20+B21 -> 60 | C34: =C20+C21 -> 30 | D34: =D20+D21 -> 30 | E34: =E20+E21 -> 13 | F34: =F20+F21 -> 7 | G34: =G20+G21 -> 6 | H34: =H20+H21 -> 15 | I34: =I20+I21 -> 7 | ... S34: =S20+S21 -> 6
A35: 80세이상 | B35: =B22 -> 25 | C35: =C22 -> 13 | D35: =D22 -> 12 | E35: =E22 -> 4 | F35: =F22 -> 1 | G35: =G22 -> 3 | H35: =H22 -> 7 | I35: =I22 -> 4 | ... S35: =S22 -> 1

Sheet 2022.하반기
A1: ■ 구별·연령별 등록외국인 (2022. 12. 31. 기준)
S2: (단위 : 명)
A3: 구 분 | B3: 합 계 | E3: 동 구 | H3: 서 구 | K3: 남 구 | N3: 북 구 | Q3: 광 산 구
B4: 계 | C4: 남 | D4: 여 | E4: 계 | F4: 남 | G4: 여 | H4: 계 | I4: 남 | J4: 여 | K4: 계 | L4: 남 | M4: 여 | N4: 계 | O4: 남 | P4: 여 | Q4: 계 | R4: 남 | S4: 여
A5: 2022.2/2 | B5: =SUM(B6:B22) -> 22967 | C5: =SUM(C6:C22) -> 12483 | D5: =SUM(D6:D22) -> 10484 | E5: =SUM(E6:E22) -> 1641 | F5: =SUM(F6:F22) -> 898 | G5: =SUM(G6:G22) -> 743 | H5: =SUM(H6:H22) -> 1881 | I5: =SUM(I6:I22) -> 933 | ... S5: =SUM(S6:S22) -> 5370
A6: 0~4세 | B6: 698 | C6: 371 | D6: 327 | E6: 23 | F6: 11 | G6: 12 | H6: 39 | I6: 27 | J6: 12 | K6: 14 | L6: 8 | M6: 6 | N6: 116 | O6: 64 | P6: 52 | Q6: 506 | R6: 261 | S6: 245
A7: 5~9세 | B7: 572 | C7: 291 | D7: 281 | E7: 11 | F7: 6 | G7: 5 | H7: 22 | I7: 11 | J7: 11 | K7: 15 | L7: 7 | M7: 8 | N7: 74 | O7: 34 | P7: 40 | Q7: 450 | R7: 233 | S7: 217
A8: 10~14세 | B8: 374 | C8: 184 | D8: 190 | E8: 5 | F8: 0 | G8: 5 | H8: 21 | I8: 13 | J8: 8 | K8: 12 | L8: 6 | M8: 6 | N8: 40 | O8: 15 | P8: 25 | Q8: 296 | R8: 150 | S8: 146
A9: 15~19세 | B9: 722 | C9: 333 | D9: 389 | E9: 50 | F9: 30 | G9: 20 | H9: 37 | I9: 18 | J9: 19 | K9: 83 | L9: 29 | M9: 54 | N9: 112 | O9: 55 | P9: 57 | Q9: 440 | R9: 201 | S9: 239
A10: 20~24세 | B10: 5089 | C10: 2764 | D10: 2325 | E10: 560 | F10: 303 | G10: 257 | H10: 334 | I10: 157 | J10: 177 | K10: 385 | L10: 163 | M10: 222 | N10: 914 | O10: 462 | P10: 452 | Q10: 2896 | R10: 1679 | S10: 1217
A11: 25~29세 | B11: 4650 | C11: 2812 | D11: 1838 | E11: 408 | F11: 234 | G11: 174 | H11: 383 | I11: 223 | J11: 160 | K11: 215 | L11: 90 | M11: 125 | N11: 1233 | O11: 621 | P11: 612 | Q11: 2411 | R11: 1644 | S11: 767
A12: 30~34세 | B12: 3289 | C12: 1947 | D12: 1342 | E12: 176 | F12: 98 | G12: 78 | H12: 276 | I12: 148 | J12: 128 | K12: 149 | L12: 53 | M12: 96 | N12: 758 | O12: 385 | P12: 373 | Q12: 1930 | R12: 1263 | S12: 667
A13: 35~39세 | B13: 2387 | C13: 1335 | D13: 1052 | E13: 126 | F13: 72 | G13: 54 | H13: 211 | I13: 105 | J13: 106 | K13: 140 | L13: 42 | M13: 98 | N13: 525 | O13: 243 | P13: 282 | Q13: 1385 | R13: 873 | S13: 512
A14: 40~44세 | B14: 1506 | C14: 804 | D14: 702 | E14: 86 | F14: 49 | G14: 37 | H14: 145 | I14: 66 | J14: 79 | K14: 104 | L14: 32 | M14: 72 | N14: 264 | O14: 123 | P14: 141 | Q14: 907 | R14: 534 | S14: 373
A15: 45~49세 | B15: 1075 | C15: 524 | D15: 551 | E15: 40 | F15: 23 | G15: 17 | H15: 103 | I15: 37 | J15: 66 | K15: 76 | L15: 35 | M15: 41 | N15: 213 | O15: 77 | P15: 136 | Q15: 643 | R15: 352 | S15: 291
A16: 50~54세 | B16: 1061 | C16: 486 | D16: 575 | E16: 46 | F16: 22 | G16: 24 | H16: 131 | I16: 52 | J16: 79 | K16: 92 | L16: 30 | M16: 62 | N16: 209 | O16: 78 | P16: 131 | Q16: 583 | R16: 304 | S16: 279
A17: 55~59세 | B17: 893 | C17: 330 | D17: 563 | E17: 58 | F17: 23 | G17: 35 | H17: 99 | I17: 39 | J17: 60 | K17: 87 | L17: 30 | M17: 57 | N17: 230 | O17: 83 | P17: 147 | Q17: 419 | R17: 155 | S17: 264
... A22: 80세이상 | B22: 25 | C22: 13 | D22: 12 | E22: 5 | F22: 2 | G22: 3 | H22: 2 | I22: 1 | J22: 1 | K22: 3 | L22: 0 | M22: 3 | N22: 10 | O22: 6 | P22: 4 | Q22: 5 | R22: 4 | S22: 1
A24: 구 분 | B24: 합 계 | E24: 동 구 | H24: 서 구 | K24: 남 구 | N24: 북 구 | Q24: 광 산 구
B25: 계 | C25: 남 | D25: 여 | E25: 계 | F25: 남 | G25: 여 | H25: 계 | I25: 남 | J25: 여 | K25: 계 | L25: 남 | M25: 여 | N25: 계 | O25: 남 | P25: 여 | Q25: 계 | R25: 남 | S25: 여
A26: 합계 | B26: =SUM(B27:B35) -> 22967 | C26: =SUM(C27:C35) -> 12483 | D26: =SUM(D27:D35) -> 10484 | E26: =SUM(E27:E35) -> 1641 | F26: =SUM(F27:F35) -> 898 | G26: =SUM(G27:G35) -> 743 | H26: =SUM(H27:H35) -> 1881 | I26: =SUM(I27:I35) -> 933 | ... S26: =SUM(S27:S35) -> 5370
A27: 0~9세 | B27: =B6+B7 -> 1270 | C27: =C6+C7 -> 662 | D27: =D6+D7 -> 608 | E27: =E6+E7 -> 34 | F27: =F6+F7 -> 17 | G27: =G6+G7 -> 17 | H27: =H6+H7 -> 61 | I27: =I6+I7 -> 38 | ... S27: =S6+S7 -> 462
A28: 10~19세 | B28: =B8+B9 -> 1096 | C28: =C8+C9 -> 517 | D28: =D8+D9 -> 579 | E28: =E8+E9 -> 55 | F28: =F8+F9 -> 30 | G28: =G8+G9 -> 25 | H28: =H8+H9 -> 58 | I28: =I8+I9 -> 31 | ... S28: =S8+S9 -> 385
A29: 20~29세 | B29: =B10+B11 -> 9739 | C29: =C10+C11 -> 5576 | D29: =D10+D11 -> 4163 | E29: =E10+E11 -> 968 | F29: =F10+F11 -> 537 | G29: =G10+G11 -> 431 | H29: =H10+H11 -> 717 | I29: =I10+I11 -> 380 | ... S29: =S10+S11 -> 1984
A30: 30~39세 | B30: =B12+B13 -> 5676 | C30: =C12+C13 -> 3282 | D30: =D12+D13 -> 2394 | E30: =E12+E13 -> 302 | F30: =F12+F13 -> 170 | G30: =G12+G13 -> 132 | H30: =H12+H13 -> 487 | I30: =I12+I13 -> 253 | ... S30: =S12+S13 -> 1179
A31: 40~49세 | B31: =B14+B15 -> 2581 | C31: =C14+C15 -> 1328 | D31: =D14+D15 -> 1253 | E31: =E14+E15 -> 126 | F31: =F14+F15 -> 72 | G31: =G14+G15 -> 54 | H31: =H14+H15 -> 248 | I31: =I14+I15 -> 103 | ... S31: =S14+S15 -> 664
A32: 50~59세 | B32: =B16+B17 -> 1954 | C32: =C16+C17 -> 816 | D32: =D16+D17 -> 1138 | E32: =E16+E17 -> 104 | F32: =F16+F17 -> 45 | G32: =G16+G17 -> 59 | H32: =H16+H17 -> 230 | I32: =I16+I17 -> 91 | ... S32: =S16+S17 -> 543
A33: 60~69세 | B33: =B18+B19 -> 548 | C33: =C18+C19 -> 246 | D33: =D18+D19 -> 302 | E33: =E18+E19 -> 33 | F33: =F18+F19 -> 15 | G33: =G18+G19 -> 18 | H33: =H18+H19 -> 60 | I33: =I18+I19 -> 26 | ... S33: =S18+S19 -> 144
A34: 70~79세 | B34: =B20+B21 -> 78 | C34: =C20+C21 -> 43 | D34: =D20+D21 -> 35 | E34: =E20+E21 -> 14 | F34: =F20+F21 -> 10 | G34: =G20+G21 -> 4 | H34: =H20+H21 -> 18 | I34: =I20+I21 -> 10 | ... S34: =S20+S21 -> 8
A35: 80세이상 | B35: =B22 -> 25 | C35: =C22 -> 13 | D35: =D22 -> 12 | E35: =E22 -> 5 | F35: =F22 -> 2 | G35: =G22 -> 3 | H35: =H22 -> 2 | I35: =I22 -> 1 | ... S35: =S22 -> 1

Sheet 2023.상반기
A1: ■ 구별·연령별 등록외국인 (2023. 6. 30. 기준)
S2: (단위 : 명)
A3: 구 분 | B3: 합 계 | E3: 동 구 | H3: 서 구 | K3: 남 구 | N3: 북 구 | Q3: 광 산 구
B4: 계 | C4: 남 | D4: 여 | E4: 계 | F4: 남 | G4: 여 | H4: 계 | I4: 남 | J4: 여 | K4: 계 | L4: 남 | M4: 여 | N4: 계 | O4: 남 | P4: 여 | Q4: 계 | R4: 남 | S4: 여
A5: 2023.1/2 | B5: 24011 | C5: 13130 | D5: 10881 | E5: 1643 | F5: 896 | G5: 747 | H5: 2018 | I5: 1027 | J5: 991 | K5: 1602 | L5: 638 | M5: 964 | N5: 4918 | O5: 2345 | P5: 2573 | Q5: 13830 | R5: 8224 | S5: 5606
A6: 0~4세 | B6: 647 | C6: 339 | D6: 308 | E6: 25 | F6: 10 | G6: 15 | H6: 27 | I6: 19 | J6: 8 | K6: 10 | L6: 6 | M6: 4 | N6: 109 | O6: 58 | P6: 51 | Q6: 476 | R6: 246 | S6: 230
A7: 5~9세 | B7: 629 | C7: 327 | D7: 302 | E7: 12 | F7: 8 | G7: 4 | H7: 20 | I7: 14 | J7: 6 | K7: 19 | L7: 8 | M7: 11 | N7: 83 | O7: 37 | P7: 46 | Q7: 495 | R7: 260 | S7: 235
A8: 10~14세 | B8: 413 | C8: 202 | D8: 211 | E8: 6 | F8: 1 | G8: 5 | H8: 19 | I8: 11 | J8: 8 | K8: 11 | L8: 6 | M8: 5 | N8: 51 | O8: 18 | P8: 33 | Q8: 326 | R8: 166 | S8: 160
A9: 15~19세 | B9: 689 | C9: 315 | D9: 374 | E9: 31 | F9: 15 | G9: 16 | H9: 32 | I9: 12 | J9: 20 | K9: 147 | L9: 58 | M9: 89 | N9: 74 | O9: 37 | P9: 37 | Q9: 405 | R9: 193 | S9: 212
A10: 20~24세 | B10: 4925 | C10: 2664 | D10: 2261 | E10: 510 | F10: 278 | G10: 232 | H10: 329 | I10: 161 | J10: 168 | K10: 403 | L10: 168 | M10: 235 | N10: 748 | O10: 355 | P10: 393 | Q10: 2935 | R10: 1702 | S10: 1233
A11: 25~29세 | B11: 4973 | C11: 3039 | D11: 1934 | E11: 431 | F11: 245 | G11: 186 | H11: 405 | I11: 232 | J11: 173 | K11: 238 | L11: 104 | M11: 134 | N11: 1276 | O11: 679 | P11: 597 | Q11: 2623 | R11: 1779 | S11: 844
A12: 30~34세 | B12: 3550 | C12: 2135 | D12: 1415 | E12: 214 | F12: 125 | G12: 89 | H12: 326 | I12: 190 | J12: 136 | K12: 157 | L12: 57 | M12: 100 | N12: 806 | O12: 403 | P12: 403 | Q12: 2047 | R12: 1360 | S12: 687
A13: 35~39세 | B13: 2624 | C13: 1466 | D13: 1158 | E13: 122 | F13: 62 | G13: 60 | H13: 253 | I13: 123 | J13: 130 | K13: 157 | L13: 57 | M13: 100 | N13: 570 | O13: 269 | P13: 301 | Q13: 1522 | R13: 955 | S13: 567
A14: 40~44세 | B14: 1618 | C14: 864 | D14: 754 | E14: 89 | F14: 49 | G14: 40 | H14: 154 | I14: 77 | J14: 77 | K14: 108 | L14: 27 | M14: 81 | N14: 302 | O14: 138 | P14: 164 | Q14: 965 | R14: 573 | S14: 392
A15: 45~49세 | B15: 1123 | C15: 565 | D15: 558 | E15: 46 | F15: 30 | G15: 16 | H15: 105 | I15: 39 | J15: 66 | K15: 82 | L15: 37 | M15: 45 | N15: 219 | O15: 86 | P15: 133 | Q15: 671 | R15: 373 | S15: 298
A16: 50~54세 | B16: 1081 | C16: 488 | D16: 593 | E16: 44 | F16: 23 | G16: 21 | H16: 134 | I16: 53 | J16: 81 | K16: 93 | L16: 37 | M16: 56 | N16: 224 | O16: 78 | P16: 146 | Q16: 586 | R16: 297 | S16: 289
... A22: 80세이상 | B22: 28 | C22: 13 | D22: 15 | E22: 5 | F22: 2 | G22: 3 | H22: 3 | I22: 1 | J22: 2 | K22: 3 | L22: 0 | M22: 3 | N22: 10 | O22: 5 | P22: 5 | Q22: 7 | R22: 5 | S22: 2
A24: 구 분 | B24: 합 계 | E24: 동 구 | H24: 서 구 | K24: 남 구 | N24: 북 구 | Q24: 광 산 구
B25: 계 | C25: 남 | D25: 여 | E25: 계 | F25: 남 | G25: 여 | H25: 계 | I25: 남 | J25: 여 | K25: 계 | L25: 남 | M25: 여 | N25: 계 | O25: 남 | P25: 여 | Q25: 계 | R25: 남 | S25: 여
A26: 합계 | B26: =SUM(B27:B35) -> 24011 | C26: =SUM(C27:C35) -> 13130 | D26: =SUM(D27:D35) -> 10881 | E26: =SUM(E27:E35) -> 1643 | F26: =SUM(F27:F35) -> 896 | G26: =SUM(G27:G35) -> 747 | H26: =SUM(H27:H35) -> 2018 | I26: =SUM(I27:I35) -> 1027 | ... S26: =SUM(S27:S35) -> 5606
A27: 0~9세 | B27: =B6+B7 -> 1276 | C27: =C6+C7 -> 666 | D27: =D6+D7 -> 610 | E27: =E6+E7 -> 37 | F27: =F6+F7 -> 18 | G27: =G6+G7 -> 19 | H27: =H6+H7 -> 47 | I27: =I6+I7 -> 33 | ... S27: =S6+S7 -> 465
A28: 10~19세 | B28: =B8+B9 -> 1102 | C28: =C8+C9 -> 517 | D28: =D8+D9 -> 585 | E28: =E8+E9 -> 37 | F28: =F8+F9 -> 16 | G28: =G8+G9 -> 21 | H28: =H8+H9 -> 51 | I28: =I8+I9 -> 23 | ... S28: =S8+S9 -> 372
A29: 20~29세 | B29: =B10+B11 -> 9898 | C29: =C10+C11 -> 5703 | D29: =D10+D11 -> 4195 | E29: =E10+E11 -> 941 | F29: =F10+F11 -> 523 | G29: =G10+G11 -> 418 | H29: =H10+H11 -> 734 | I29: =I10+I11 -> 393 | ... S29: =S10+S11 -> 2077
A30: 30~39세 | B30: =B12+B13 -> 6174 | C30: =C12+C13 -> 3601 | D30: =D12+D13 -> 2573 | E30: =E12+E13 -> 336 | F30: =F12+F13 -> 187 | G30: =G12+G13 -> 149 | H30: =H12+H13 -> 579 | I30: =I12+I13 -> 313 | ... S30: =S12+S13 -> 1254
A31: 40~49세 | B31: =B14+B15 -> 2741 | C31: =C14+C15 -> 1429 | D31: =D14+D15 -> 1312 | E31: =E14+E15 -> 135 | F31: =F14+F15 -> 79 | G31: =G14+G15 -> 56 | H31: =H14+H15 -> 259 | I31: =I14+I15 -> 116 | ... S31: =S14+S15 -> 690
A32: 50~59세 | B32: =B16+B17 -> 1996 | C32: =C16+C17 -> 846 | D32: =D16+D17 -> 1150 | E32: =E16+E17 -> 97 | F32: =F16+F17 -> 46 | G32: =G16+G17 -> 51 | H32: =H16+H17 -> 243 | I32: =I16+I17 -> 102 | ... S32: =S16+S17 -> 551
A33: 60~69세 | B33: =B18+B19 -> 706 | C33: =C18+C19 -> 304 | D33: =D18+D19 -> 402 | E33: =E18+E19 -> 41 | F33: =F18+F19 -> 15 | G33: =G18+G19 -> 26 | H33: =H18+H19 -> 84 | I33: =I18+I19 -> 36 | ... S33: =S18+S19 -> 184
A34: 70~79세 | B34: =B20+B21 -> 90 | C34: =C20+C21 -> 51 | D34: =D20+D21 -> 39 | E34: =E20+E21 -> 14 | F34: =F20+F21 -> 10 | G34: =G20+G21 -> 4 | H34: =H20+H21 -> 18 | I34: =I20+I21 -> 10 | ... S34: =S20+S21 -> 11
A35: 80세이상 | B35: =B22 -> 28 | C35: =C22 -> 13 | D35: =D22 -> 15 | E35: =E22 -> 5 | F35: =F22 -> 2 | G35: =G22 -> 3 | H35: =H22 -> 3 | I35: =I22 -> 1 | ... S35: =S22 -> 2

Sheet 2023.하반기
A1: ■ 구별·연령별 등록외국인 (2023. 12. 31. 기준)
S2: (단위 : 명)
A3: 구 분 | B3: 합 계 | E3: 동 구 | H3: 서 구 | K3: 남 구 | N3: 북 구 | Q3: 광 산 구
B4: 계 | C4: 남 | D4: 여 | E4: 계 | F4: 남 | G4: 여 | H4: 계 | I4: 남 | J4: 여 | K4: 계 | L4: 남 | M4: 여 | N4: 계 | O4: 남 | P4: 여 | Q4: 계 | R4: 남 | S4: 여
A5: 2023.2/2 | B5: 25348 | C5: 13895 | D5: 11453 | E5: 1717 | F5: 920 | G5: 797 | H5: 2325 | I5: 1214 | J5: 1111 | K5: 1581 | L5: 626 | M5: 955 | N5: 5184 | O5: 2481 | P5: 2703 | Q5: 14541 | R5: 8654 | S5: 5887
A6: 0~4세 | B6: 751 | C6: 388 | D6: 363 | E6: 28 | F6: 11 | G6: 17 | H6: 37 | I6: 21 | J6: 16 | K6: 11 | L6: 8 | M6: 3 | N6: 123 | O6: 61 | P6: 62 | Q6: 552 | R6: 287 | S6: 265
A7: 5~9세 | B7: 620 | C7: 316 | D7: 304 | E7: 10 | F7: 7 | G7: 3 | H7: 17 | I7: 12 | J7: 5 | K7: 17 | L7: 6 | M7: 11 | N7: 78 | O7: 35 | P7: 43 | Q7: 498 | R7: 256 | S7: 242
A8: 10~14세 | B8: 414 | C8: 201 | D8: 213 | E8: 7 | F8: 2 | G8: 5 | H8: 15 | I8: 9 | J8: 6 | K8: 9 | L8: 5 | M8: 4 | N8: 50 | O8: 19 | P8: 31 | Q8: 333 | R8: 166 | S8: 167
A9: 15~19세 | B9: 1036 | C9: 513 | D9: 523 | E9: 90 | F9: 46 | G9: 44 | H9: 73 | I9: 31 | J9: 42 | K9: 158 | L9: 65 | M9: 93 | N9: 170 | O9: 93 | P9: 77 | Q9: 545 | R9: 278 | S9: 267
A10: 20~24세 | B10: 5896 | C10: 3226 | D10: 2670 | E10: 555 | F10: 290 | G10: 265 | H10: 543 | I10: 264 | J10: 279 | K10: 389 | L10: 158 | M10: 231 | N10: 936 | O10: 441 | P10: 495 | Q10: 3473 | R10: 2073 | S10: 1400
A11: 25~29세 | B11: 4965 | C11: 3054 | D11: 1911 | E11: 420 | F11: 237 | G11: 183 | H11: 429 | I11: 266 | J11: 163 | K11: 222 | L11: 99 | M11: 123 | N11: 1269 | O11: 679 | P11: 590 | Q11: 2625 | R11: 1773 | S11: 852
A12: 30~34세 | B12: 3516 | C12: 2127 | D12: 1389 | E12: 211 | F12: 123 | G12: 88 | H12: 346 | I12: 215 | J12: 131 | K12: 160 | L12: 58 | M12: 102 | N12: 785 | O12: 399 | P12: 386 | Q12: 2014 | R12: 1332 | S12: 682
A13: 35~39세 | B13: 2585 | C13: 1447 | D13: 1138 | E13: 110 | F13: 56 | G13: 54 | H13: 249 | I13: 126 | J13: 123 | K13: 149 | L13: 55 | M13: 94 | N13: 556 | O13: 262 | P13: 294 | Q13: 1521 | R13: 948 | S13: 573
A14: 40~44세 | B14: 1609 | C14: 862 | D14: 747 | E14: 83 | F14: 45 | G14: 38 | H14: 158 | I14: 83 | J14: 75 | K14: 109 | L14: 28 | M14: 81 | N14: 302 | O14: 140 | P14: 162 | Q14: 957 | R14: 566 | S14: 391
A15: 45~49세 | B15: 1098 | C15: 532 | D15: 566 | E15: 42 | F15: 27 | G15: 15 | H15: 108 | I15: 40 | J15: 68 | K15: 83 | L15: 32 | M15: 51 | N15: 218 | O15: 79 | P15: 139 | Q15: 647 | R15: 354 | S15: 293
A16: 50~54세 | B16: 1097 | C16: 489 | D16: 608 | E16: 43 | F16: 22 | G16: 21 | H16: 135 | I16: 54 | J16: 81 | K16: 96 | L16: 38 | M16: 58 | N16: 229 | O16: 83 | P16: 146 | Q16: 594 | R16: 292 | S16: 302
... A22: 80세이상 | B22: 29 | C22: 13 | D22: 16 | E22: 6 | F22: 2 | G22: 4 | H22: 3 | I22: 1 | J22: 2 | K22: 3 | L22: 0 | M22: 3 | N22: 10 | O22: 5 | P22: 5 | Q22: 7 | R22: 5 | S22: 2
A24: 구 분 | B24: 합 계 | E24: 동 구 | H24: 서 구 | K24: 남 구 | N24: 북 구 | Q24: 광 산 구
B25: 계 | C25: 남 | D25: 여 | E25: 계 | F25: 남 | G25: 여 | H25: 계 | I25: 남 | J25: 여 | K25: 계 | L25: 남 | M25: 여 | N25: 계 | O25: 남 | P25: 여 | Q25: 계 | R25: 남 | S25: 여
A26: 합계 | B26: =SUM(B27:B35) -> 25348 | C26: =SUM(C27:C35) -> 13895 | D26: =SUM(D27:D35) -> 11453 | E26: =SUM(E27:E35) -> 1717 | F26: =SUM(F27:F35) -> 920 | G26: =SUM(G27:G35) -> 797 | H26: =SUM(H27:H35) -> 2325 | I26: =SUM(I27:I35) -> 1214 | ... S26: =SUM(S27:S35) -> 5887
A27: 0~9세 | B27: =B6+B7 -> 1371 | C27: =C6+C7 -> 704 | D27: =D6+D7 -> 667 | E27: =E6+E7 -> 38 | F27: =F6+F7 -> 18 | G27: =G6+G7 -> 20 | H27: =H6+H7 -> 54 | I27: =I6+I7 -> 33 | ... S27: =S6+S7 -> 507
A28: 10~19세 | B28: =B8+B9 -> 1450 | C28: =C8+C9 -> 714 | D28: =D8+D9 -> 736 | E28: =E8+E9 -> 97 | F28: =F8+F9 -> 48 | G28: =G8+G9 -> 49 | H28: =H8+H9 -> 88 | I28: =I8+I9 -> 40 | ... S28: =S8+S9 -> 434
A29: 20~29세 | B29: =B10+B11 -> 10861 | C29: =C10+C11 -> 6280 | D29: =D10+D11 -> 4581 | E29: =E10+E11 -> 975 | F29: =F10+F11 -> 527 | G29: =G10+G11 -> 448 | H29: =H10+H11 -> 972 | I29: =I10+I11 -> 530 | ... S29: =S10+S11 -> 2252
A30: 30~39세 | B30: =B12+B13 -> 6101 | C30: =C12+C13 -> 3574 | D30: =D12+D13 -> 2527 | E30: =E12+E13 -> 321 | F30: =F12+F13 -> 179 | G30: =G12+G13 -> 142 | H30: =H12+H13 -> 595 | I30: =I12+I13 -> 341 | ... S30: =S12+S13 -> 1255
A31: 40~49세 | B31: =B14+B15 -> 2707 | C31: =C14+C15 -> 1394 | D31: =D14+D15 -> 1313 | E31: =E14+E15 -> 125 | F31: =F14+F15 -> 72 | G31: =G14+G15 -> 53 | H31: =H14+H15 -> 266 | I31: =I14+I15 -> 123 | ... S31: =S14+S15 -> 684
A32: 50~59세 | B32: =B16+B17 -> 2045 | C32: =C16+C17 -> 867 | D32: =D16+D17 -> 1178 | E32: =E16+E17 -> 101 | F32: =F16+F17 -> 50 | G32: =G16+G17 -> 51 | H32: =H16+H17 -> 246 | I32: =I16+I17 -> 103 | ... S32: =S16+S17 -> 564
A33: 60~69세 | B33: =B18+B19 -> 690 | C33: =C18+C19 -> 294 | D33: =D18+D19 -> 396 | E33: =E18+E19 -> 40 | F33: =F18+F19 -> 14 | G33: =G18+G19 -> 26 | H33: =H18+H19 -> 83 | I33: =I18+I19 -> 33 | ... S33: =S18+S19 -> 176
A34: 70~79세 | B34: =B20+B21 -> 94 | C34: =C20+C21 -> 55 | D34: =D20+D21 -> 39 | E34: =E20+E21 -> 14 | F34: =F20+F21 -> 10 | G34: =G20+G21 -> 4 | H34: =H20+H21 -> 18 | I34: =I20+I21 -> 10 | ... S34: =S20+S21 -> 13
A35: 80세이상 | B35: =B22 -> 29 | C35: =C22 -> 13 | D35: =D22 -> 16 | E35: =E22 -> 6 | F35: =F22 -> 2 | G35: =G22 -> 4 | H35: =H22 -> 3 | I35: =I22 -> 1 | ... S35: =S22 -> 2

Sheet 2024.상반기
A1: ■ 구별·연령별 등록외국인 (2024. 6. 30. 기준)
S2: (단위 : 명)
A3: 구 분 | B3: 합 계 | E3: 동 구 | H3: 서 구 | K3: 남 구 | N3: 북 구 | Q3: 광 산 구
B4: 계 | C4: 남 | D4: 여 | E4: 계 | F4: 남 | G4: 여 | H4: 계 | I4: 남 | J4: 여 | K4: 계 | L4: 남 | M4: 여 | N4: 계 | O4: 남 | P4: 여 | Q4: 계 | R4: 남 | S4: 여
A5: 2024.1/2 | B5: 25935 | C5: 14389 | D5: 11546 | E5: 1733 | F5: 969 | G5: 764 | H5: 2543 | I5: 1369 | J5: 1174 | K5: 1638 | L5: 656 | M5: 982 | N5: 5127 | O5: 2491 | P5: 2636 | Q5: 14894 | R5: 8904 | S5: 5990
A6: 0~4세 | B6: 674 | C6: 344 | D6: 330 | E6: 29 | F6: 14 | G6: 15 | H6: 29 | I6: 16 | J6: 13 | K6: 11 | L6: 7 | M6: 4 | N6: 111 | O6: 52 | P6: 59 | Q6: 494 | R6: 255 | S6: 239
A7: 5~9세 | B7: 629 | C7: 336 | D7: 293 | E7: 9 | F7: 6 | G7: 3 | H7: 15 | I7: 11 | J7: 4 | K7: 15 | L7: 7 | M7: 8 | N7: 77 | O7: 37 | P7: 40 | Q7: 513 | R7: 275 | S7: 238
A8: 10~14세 | B8: 440 | C8: 203 | D8: 237 | E8: 7 | F8: 4 | G8: 3 | H8: 20 | I8: 10 | J8: 10 | K8: 11 | L8: 5 | M8: 6 | N8: 58 | O8: 21 | P8: 37 | Q8: 344 | R8: 163 | S8: 181
A9: 15~19세 | B9: 865 | C9: 428 | D9: 437 | E9: 95 | F9: 45 | G9: 50 | H9: 41 | I9: 18 | J9: 23 | K9: 119 | L9: 49 | M9: 70 | N9: 165 | O9: 84 | P9: 81 | Q9: 445 | R9: 232 | S9: 213
A10: 20~24세 | B10: 5686 | C10: 3090 | D10: 2596 | E10: 447 | F10: 225 | G10: 222 | H10: 648 | I10: 319 | J10: 329 | K10: 439 | L10: 175 | M10: 264 | N10: 841 | O10: 425 | P10: 416 | Q10: 3311 | R10: 1946 | S10: 1365
A11: 25~29세 | B11: 5363 | C11: 3339 | D11: 2024 | E11: 497 | F11: 304 | G11: 193 | H11: 498 | I11: 314 | J11: 184 | K11: 264 | L11: 121 | M11: 143 | N11: 1233 | O11: 647 | P11: 586 | Q11: 2871 | R11: 1953 | S11: 918
A12: 30~34세 | B12: 3702 | C12: 2321 | D12: 1381 | E12: 232 | F12: 144 | G12: 88 | H12: 374 | I12: 242 | J12: 132 | K12: 162 | L12: 74 | M12: 88 | N12: 820 | O12: 430 | P12: 390 | Q12: 2114 | R12: 1431 | S12: 683
A13: 35~39세 | B13: 2778 | C13: 1575 | D13: 1203 | E13: 127 | F13: 74 | G13: 53 | H13: 279 | I13: 152 | J13: 127 | K13: 142 | L13: 49 | M13: 93 | N13: 589 | O13: 284 | P13: 305 | Q13: 1641 | R13: 1016 | S13: 625
A14: 40~44세 | B14: 1756 | C14: 958 | D14: 798 | E14: 87 | F14: 48 | G14: 39 | H14: 183 | I14: 98 | J14: 85 | K14: 115 | L14: 35 | M14: 80 | N14: 315 | O14: 155 | P14: 160 | Q14: 1056 | R14: 622 | S14: 434
A15: 45~49세 | B15: 1186 | C15: 572 | D15: 614 | E15: 44 | F15: 26 | G15: 18 | H15: 114 | I15: 50 | J15: 64 | K15: 89 | L15: 29 | M15: 60 | N15: 242 | O15: 94 | P15: 148 | Q15: 697 | R15: 373 | S15: 324
A16: 50~54세 | B16: 1023 | C16: 443 | D16: 580 | E16: 41 | F16: 26 | G16: 15 | H16: 113 | I16: 35 | J16: 78 | K16: 84 | L16: 30 | M16: 54 | N16: 219 | O16: 74 | P16: 145 | Q16: 566 | R16: 278 | S16: 288
... A22: 80세이상 | B22: 33 | C22: 19 | D22: 14 | E22: 6 | F22: 2 | G22: 4 | H22: 8 | I22: 6 | J22: 2 | K22: 5 | L22: 1 | M22: 4 | N22: 8 | O22: 5 | P22: 3 | Q22: 6 | R22: 5 | S22: 1
A24: 구 분 | B24: 합 계 | E24: 동 구 | H24: 서 구 | K24: 남 구 | N24: 북 구 | Q24: 광 산 구
B25: 계 | C25: 남 | D25: 여 | E25: 계 | F25: 남 | G25: 여 | H25: 계 | I25: 남 | J25: 여 | K25: 계 | L25: 남 | M25: 여 | N25: 계 | O25: 남 | P25: 여 | Q25: 계 | R25: 남 | S25: 여
A26: 합계 | B26: =SUM(B27:B35) -> 25935 | C26: =SUM(C27:C35) -> 14389 | D26: =SUM(D27:D35) -> 11546 | E26: =SUM(E27:E35) -> 1733 | F26: =SUM(F27:F35) -> 969 | G26: =SUM(G27:G35) -> 764 | H26: =SUM(H27:H35) -> 2543 | I26: =SUM(I27:I35) -> 1369 | ... S26: =SUM(S27:S35) -> 5990
A27: 0~9세 | B27: =B6+B7 -> 1303 | C27: =C6+C7 -> 680 | D27: =D6+D7 -> 623 | E27: =E6+E7 -> 38 | F27: =F6+F7 -> 20 | G27: =G6+G7 -> 18 | H27: =H6+H7 -> 44 | I27: =I6+I7 -> 27 | ... S27: =S6+S7 -> 477
A28: 10~19세 | B28: =B8+B9 -> 1305 | C28: =C8+C9 -> 631 | D28: =D8+D9 -> 674 | E28: =E8+E9 -> 102 | F28: =F8+F9 -> 49 | G28: =G8+G9 -> 53 | H28: =H8+H9 -> 61 | I28: =I8+I9 -> 28 | ... S28: =S8+S9 -> 394
A29: 20~29세 | B29: =B10+B11 -> 11049 | C29: =C10+C11 -> 6429 | D29: =D10+D11 -> 4620 | E29: =E10+E11 -> 944 | F29: =F10+F11 -> 529 | G29: =G10+G11 -> 415 | H29: =H10+H11 -> 1146 | I29: =I10+I11 -> 633 | ... S29: =S10+S11 -> 2283
A30: 30~39세 | B30: =B12+B13 -> 6480 | C30: =C12+C13 -> 3896 | D30: =D12+D13 -> 2584 | E30: =E12+E13 -> 359 | F30: =F12+F13 -> 218 | G30: =G12+G13 -> 141 | H30: =H12+H13 -> 653 | I30: =I12+I13 -> 394 | ... S30: =S12+S13 -> 1308
A31: 40~49세 | B31: =B14+B15 -> 2942 | C31: =C14+C15 -> 1530 | D31: =D14+D15 -> 1412 | E31: =E14+E15 -> 131 | F31: =F14+F15 -> 74 | G31: =G14+G15 -> 57 | H31: =H14+H15 -> 297 | I31: =I14+I15 -> 148 | ... S31: =S14+S15 -> 758
A32: 50~59세 | B32: =B16+B17 -> 1949 | C32: =C16+C17 -> 830 | D32: =D16+D17 -> 1119 | E32: =E16+E17 -> 90 | F32: =F16+F17 -> 47 | G32: =G16+G17 -> 43 | H32: =H16+H17 -> 232 | I32: =I16+I17 -> 92 | ... S32: =S16+S17 -> 549
A33: 60~69세 | B33: =B18+B19 -> 774 | C33: =C18+C19 -> 318 | D33: =D18+D19 -> 456 | E33: =E18+E19 -> 48 | F33: =F18+F19 -> 21 | G33: =G18+G19 -> 27 | H33: =H18+H19 -> 85 | I33: =I18+I19 -> 33 | ... S33: =S18+S19 -> 206
A34: 70~79세 | B34: =B20+B21 -> 100 | C34: =C20+C21 -> 56 | D34: =D20+D21 -> 44 | E34: =E20+E21 -> 15 | F34: =F20+F21 -> 9 | G34: =G20+G21 -> 6 | H34: =H20+H21 -> 17 | I34: =I20+I21 -> 8 | ... S34: =S20+S21 -> 14
A35: 80세이상 | B35: =B22 -> 33 | C35: =C22 -> 19 | D35: =D22 -> 14 | E35: =E22 -> 6 | F35: =F22 -> 2 | G35: =G22 -> 4 | H35: =H22 -> 8 | I35: =I22 -> 6 | ... S35: =S22 -> 1

Sheet 2024.하반기
A1: ■ 구별·연령별 등록외국인 (2024. 12. 31. 기준)
S2: (단위 : 명)
A3: 구 분 | B3: 합 계 | E3: 동 구 | H3: 서 구 | K3: 남 구 | N3: 북 구 | Q3: 광 산 구
B4: 계 | C4: 남 | D4: 여 | E4: 계 | F4: 남 | G4: 여 | H4: 계 | I4: 남 | J4: 여 | K4: 계 | L4: 남 | M4: 여 | N4: 계 | O4: 남 | P4: 여 | Q4: 계 | R4: 남 | S4: 여
A5: 2024.2/2 | B5: 26557 | C5: 14750 | D5: 11807 | E5: 1879 | F5: 1074 | G5: 805 | H5: 2714 | I5: 1481 | J5: 1233 | K5: 1712 | L5: 710 | M5: 1002 | N5: 5295 | O5: 2559 | P5: 2736 | Q5: 14957 | R5: 8926 | S5: 6031
A6: 0~4세 | B6: 757 | C6: 387 | D6: 370 | E6: 35 | F6: 15 | G6: 20 | H6: 32 | I6: 17 | J6: 15 | K6: 14 | L6: 9 | M6: 5 | N6: 135 | O6: 65 | P6: 70 | Q6: 541 | R6: 281 | S6: 260
A7: 5~9세 | B7: 632 | C7: 340 | D7: 292 | E7: 13 | F7: 6 | G7: 7 | H7: 15 | I7: 11 | J7: 4 | K7: 14 | L7: 7 | M7: 7 | N7: 71 | O7: 38 | P7: 33 | Q7: 519 | R7: 278 | S7: 241
A8: 10~14세 | B8: 437 | C8: 196 | D8: 241 | E8: 9 | F8: 4 | G8: 5 | H8: 21 | I8: 10 | J8: 11 | K8: 12 | L8: 5 | M8: 7 | N8: 54 | O8: 19 | P8: 35 | Q8: 341 | R8: 158 | S8: 183
A9: 15~19세 | B9: 1334 | C9: 689 | D9: 645 | E9: 182 | F9: 110 | G9: 72 | H9: 76 | I9: 36 | J9: 40 | K9: 205 | L9: 83 | M9: 122 | N9: 274 | O9: 138 | P9: 136 | Q9: 597 | R9: 322 | S9: 275
A10: 20~24세 | B10: 5987 | C10: 3335 | D10: 2652 | E10: 492 | F10: 244 | G10: 248 | H10: 701 | I10: 374 | J10: 327 | K10: 428 | L10: 182 | M10: 246 | N10: 982 | O10: 492 | P10: 490 | Q10: 3384 | R10: 2043 | S10: 1341
A11: 25~29세 | B11: 5265 | C11: 3282 | D11: 1983 | E11: 484 | F11: 304 | G11: 180 | H11: 534 | I11: 336 | J11: 198 | K11: 254 | L11: 121 | M11: 133 | N11: 1200 | O11: 628 | P11: 572 | Q11: 2793 | R11: 1893 | S11: 900
A12: 30~34세 | B12: 3693 | C12: 2297 | D12: 1396 | E12: 251 | F12: 161 | G12: 90 | H12: 402 | I12: 259 | J12: 143 | K12: 174 | L12: 85 | M12: 89 | N12: 790 | O12: 404 | P12: 386 | Q12: 2076 | R12: 1388 | S12: 688
A13: 35~39세 | B13: 2728 | C13: 1530 | D13: 1198 | E13: 130 | F13: 78 | G13: 52 | H13: 285 | I13: 155 | J13: 130 | K13: 140 | L13: 48 | M13: 92 | N13: 567 | O13: 267 | P13: 300 | Q13: 1606 | R13: 982 | S13: 624
A14: 40~44세 | B14: 1757 | C14: 946 | D14: 811 | E14: 92 | F14: 53 | G14: 39 | H14: 178 | I14: 92 | J14: 86 | K14: 121 | L14: 38 | M14: 83 | N14: 314 | O14: 148 | P14: 166 | Q14: 1052 | R14: 615 | S14: 437
A15: 45~49세 | B15: 1180 | C15: 571 | D15: 609 | E15: 43 | F15: 27 | G15: 16 | H15: 120 | I15: 56 | J15: 64 | K15: 93 | L15: 34 | M15: 59 | N15: 238 | O15: 96 | P15: 142 | Q15: 686 | R15: 358 | S15: 328
A16: 50~54세 | B16: 1022 | C16: 438 | D16: 584 | E16: 41 | F16: 25 | G16: 16 | H16: 119 | I16: 37 | J16: 82 | K16: 81 | L16: 26 | M16: 55 | N16: 223 | O16: 77 | P16: 146 | Q16: 558 | R16: 273 | S16: 285
... A22: 80세이상 | B22: 31 | C22: 18 | D22: 13 | E22: 5 | F22: 2 | G22: 3 | H22: 7 | I22: 5 | J22: 2 | K22: 5 | L22: 1 | M22: 4 | N22: 8 | O22: 5 | P22: 3 | Q22: 6 | R22: 5 | S22: 1
A24: 구 분 | B24: 합 계 | E24: 동 구 | H24: 서 구 | K24: 남 구 | N24: 북 구 | Q24: 광 산 구
B25: 계 | C25: 남 | D25: 여 | E25: 계 | F25: 남 | G25: 여 | H25: 계 | I25: 남 | J25: 여 | K25: 계 | L25: 남 | M25: 여 | N25: 계 | O25: 남 | P25: 여 | Q25: 계 | R25: 남 | S25: 여
A26: 합계 | B26: =SUM(B27:B35) -> 26557 | C26: =SUM(C27:C35) -> 14750 | D26: =SUM(D27:D35) -> 11807 | E26: =SUM(E27:E35) -> 1879 | F26: =SUM(F27:F35) -> 1074 | G26: =SUM(G27:G35) -> 805 | H26: =SUM(H27:H35) -> 2714 | I26: =SUM(I27:I35) -> 1481 | ... S26: =SUM(S27:S35) -> 6031
A27: 0~9세 | B27: =B6+B7 -> 1389 | C27: =C6+C7 -> 727 | D27: =D6+D7 -> 662 | E27: =E6+E7 -> 48 | F27: =F6+F7 -> 21 | G27: =G6+G7 -> 27 | H27: =H6+H7 -> 47 | I27: =I6+I7 -> 28 | ... S27: =S6+S7 -> 501
A28: 10~19세 | B28: =B8+B9 -> 1771 | C28: =C8+C9 -> 885 | D28: =D8+D9 -> 886 | E28: =E8+E9 -> 191 | F28: =F8+F9 -> 114 | G28: =G8+G9 -> 77 | H28: =H8+H9 -> 97 | I28: =I8+I9 -> 46 | ... S28: =S8+S9 -> 458
A29: 20~29세 | B29: =B10+B11 -> 11252 | C29: =C10+C11 -> 6617 | D29: =D10+D11 -> 4635 | E29: =E10+E11 -> 976 | F29: =F10+F11 -> 548 | G29: =G10+G11 -> 428 | H29: =H10+H11 -> 1235 | I29: =I10+I11 -> 710 | ... S29: =S10+S11 -> 2241
A30: 30~39세 | B30: =B12+B13 -> 6421 | C30: =C12+C13 -> 3827 | D30: =D12+D13 -> 2594 | E30: =E12+E13 -> 381 | F30: =F12+F13 -> 239 | G30: =G12+G13 -> 142 | H30: =H12+H13 -> 687 | I30: =I12+I13 -> 414 | ... S30: =S12+S13 -> 1312
A31: 40~49세 | B31: =B14+B15 -> 2937 | C31: =C14+C15 -> 1517 | D31: =D14+D15 -> 1420 | E31: =E14+E15 -> 135 | F31: =F14+F15 -> 80 | G31: =G14+G15 -> 55 | H31: =H14+H15 -> 298 | I31: =I14+I15 -> 148 | ... S31: =S14+S15 -> 765
A32: 50~59세 | B32: =B16+B17 -> 1947 | C32: =C16+C17 -> 825 | D32: =D16+D17 -> 1122 | E32: =E16+E17 -> 88 | F32: =F16+F17 -> 44 | G32: =G16+G17 -> 44 | H32: =H16+H17 -> 239 | I32: =I16+I17 -> 89 | ... S32: =S16+S17 -> 544
A33: 60~69세 | B33: =B18+B19 -> 719 | C33: =C18+C19 -> 284 | D33: =D18+D19 -> 435 | E33: =E18+E19 -> 42 | F33: =F18+F19 -> 18 | G33: =G18+G19 -> 24 | H33: =H18+H19 -> 89 | I33: =I18+I19 -> 34 | ... S33: =S18+S19 -> 196
A34: 70~79세 | B34: =B20+B21 -> 90 | C34: =C20+C21 -> 50 | D34: =D20+D21 -> 40 | E34: =E20+E21 -> 13 | F34: =F20+F21 -> 8 | G34: =G20+G21 -> 5 | H34: =H20+H21 -> 15 | I34: =I20+I21 -> 7 | ... S34: =S20+S21 -> 13
A35: 80세이상 | B35: =B22 -> 31 | C35: =C22 -> 18 | D35: =D22 -> 13 | E35: =E22 -> 5 | F35: =F22 -> 2 | G35: =G22 -> 3 | H35: =H22 -> 7 | I35: =I22 -> 5 | ... S35: =S22 -> 1

Sheet 2025.상반기
A1: ■ 구별·연령별 등록외국인 (2025. 6. 30. 기준)
S2: (단위 : 명)
A3: 구 분 | B3: 합 계 | E3: 동 구 | H3: 서 구 | K3: 남 구 | N3: 북 구 | Q3: 광 산 구
B4: 계 | C4: 남 | D4: 여 | E4: 계 | F4: 남 | G4: 여 | H4: 계 | I4: 남 | J4: 여 | K4: 계 | L4: 남 | M4: 여 | N4: 계 | O4: 남 | P4: 여 | Q4: 계 | R4: 남 | S4: 여
A5: 2025.1/2 | B5: 27204 | C5: 15138 | D5: 12066 | E5: 1866 | F5: 1044 | G5: 822 | H5: 2724 | I5: 1450 | J5: 1274 | K5: 1850 | L5: 761 | M5: 1089 | N5: 5351 | O5: 2673 | P5: 2678 | Q5: 15413 | R5: 9210 | S5: 6203
A6: 0~4세 | B6: 710 | C6: 368 | D6: 342 | E6: 30 | F6: 13 | G6: 17 | H6: 33 | I6: 21 | J6: 12 | K6: 15 | L6: 11 | M6: 4 | N6: 135 | O6: 66 | P6: 69 | Q6: 497 | R6: 257 | S6: 240
A7: 5~9세 | B7: 650 | C7: 345 | D7: 305 | E7: 13 | F7: 6 | G7: 7 | H7: 24 | I7: 14 | J7: 10 | K7: 12 | L7: 8 | M7: 4 | N7: 76 | O7: 39 | P7: 37 | Q7: 525 | R7: 278 | S7: 247
A8: 10~14세 | B8: 471 | C8: 223 | D8: 248 | E8: 6 | F8: 3 | G8: 3 | H8: 28 | I8: 15 | J8: 13 | K8: 10 | L8: 3 | M8: 7 | N8: 53 | O8: 22 | P8: 31 | Q8: 374 | R8: 180 | S8: 194
A9: 15~19세 | B9: 1151 | C9: 588 | D9: 563 | E9: 106 | F9: 65 | G9: 41 | H9: 59 | I9: 29 | J9: 30 | K9: 248 | L9: 105 | M9: 143 | N9: 253 | O9: 151 | P9: 102 | Q9: 485 | R9: 238 | S9: 247
A10: 20~24세 | B10: 6042 | C10: 3398 | D10: 2644 | E10: 483 | F10: 252 | G10: 231 | H10: 690 | I10: 362 | J10: 328 | K10: 494 | L10: 211 | M10: 283 | N10: 1012 | O10: 538 | P10: 474 | Q10: 3363 | R10: 2035 | S10: 1328
A11: 25~29세 | B11: 5643 | C11: 3443 | D11: 2200 | E11: 547 | F11: 324 | G11: 223 | H11: 538 | I11: 306 | J11: 232 | K11: 290 | L11: 127 | M11: 163 | N11: 1186 | O11: 642 | P11: 544 | Q11: 3082 | R11: 2044 | S11: 1038
A12: 30~34세 | B12: 3757 | C12: 2357 | D12: 1400 | E12: 254 | F12: 153 | G12: 101 | H12: 397 | I12: 251 | J12: 146 | K12: 166 | L12: 83 | M12: 83 | N12: 807 | O12: 417 | P12: 390 | Q12: 2133 | R12: 1453 | S12: 680
A13: 35~39세 | B13: 2855 | C13: 1603 | D13: 1252 | E13: 137 | F13: 79 | G13: 58 | H13: 286 | I13: 154 | J13: 132 | K13: 154 | L13: 58 | M13: 96 | N13: 592 | O13: 280 | P13: 312 | Q13: 1686 | R13: 1032 | S13: 654
A14: 40~44세 | B14: 1944 | C14: 1049 | D14: 895 | E14: 90 | F14: 44 | G14: 46 | H14: 195 | I14: 101 | J14: 94 | K14: 120 | L14: 30 | M14: 90 | N14: 365 | O14: 172 | P14: 193 | Q14: 1174 | R14: 702 | S14: 472
A15: 45~49세 | B15: 1213 | C15: 605 | D15: 608 | E15: 51 | F15: 34 | G15: 17 | H15: 131 | I15: 60 | J15: 71 | K15: 97 | L15: 33 | M15: 64 | N15: 228 | O15: 100 | P15: 128 | Q15: 706 | R15: 378 | S15: 328
A16: 50~54세 | B16: 975 | C16: 420 | D16: 555 | E16: 42 | F16: 25 | G16: 17 | H16: 110 | I16: 38 | J16: 72 | K16: 72 | L16: 25 | M16: 47 | N16: 210 | O16: 73 | P16: 137 | Q16: 541 | R16: 259 | S16: 282
... A22: 80세이상 | B22: 36 | C22: 21 | D22: 15 | E22: 8 | F22: 4 | G22: 4 | H22: 9 | I22: 6 | J22: 3 | K22: 5 | L22: 2 | M22: 3 | N22: 9 | O22: 5 | P22: 4 | Q22: 5 | R22: 4 | S22: 1
A24: 구 분 | B24: 합 계 | E24: 동 구 | H24: 서 구 | K24: 남 구 | N24: 북 구 | Q24: 광 산 구
B25: 계 | C25: 남 | D25: 여 | E25: 계 | F25: 남 | G25: 여 | H25: 계 | I25: 남 | J25: 여 | K25: 계 | L25: 남 | M25: 여 | N25: 계 | O25: 남 | P25: 여 | Q25: 계 | R25: 남 | S25: 여
A26: 합계 | B26: =SUM(B27:B35) -> 27204 | C26: =SUM(C27:C35) -> 15138 | D26: =SUM(D27:D35) -> 12066 | E26: =SUM(E27:E35) -> 1866 | F26: =SUM(F27:F35) -> 1044 | G26: =SUM(G27:G35) -> 822 | H26: =SUM(H27:H35) -> 2724 | I26: =SUM(I27:I35) -> 1450 | ... S26: =SUM(S27:S35) -> 6203
A27: 0~9세 | B27: =B6+B7 -> 1360 | C27: =C6+C7 -> 713 | D27: =D6+D7 -> 647 | E27: =E6+E7 -> 43 | F27: =F6+F7 -> 19 | G27: =G6+G7 -> 24 | H27: =H6+H7 -> 57 | I27: =I6+I7 -> 35 | ... S27: =S6+S7 -> 487
A28: 10~19세 | B28: =B8+B9 -> 1622 | C28: =C8+C9 -> 811 | D28: =D8+D9 -> 811 | E28: =E8+E9 -> 112 | F28: =F8+F9 -> 68 | G28: =G8+G9 -> 44 | H28: =H8+H9 -> 87 | I28: =I8+I9 -> 44 | ... S28: =S8+S9 -> 441
A29: 20~29세 | B29: =B10+B11 -> 11685 | C29: =C10+C11 -> 6841 | D29: =D10+D11 -> 4844 | E29: =E10+E11 -> 1030 | F29: =F10+F11 -> 576 | G29: =G10+G11 -> 454 | H29: =H10+H11 -> 1228 | I29: =I10+I11 -> 668 | ... S29: =S10+S11 -> 2366
A30: 30~39세 | B30: =B12+B13 -> 6612 | C30: =C12+C13 -> 3960 | D30: =D12+D13 -> 2652 | E30: =E12+E13 -> 391 | F30: =F12+F13 -> 232 | G30: =G12+G13 -> 159 | H30: =H12+H13 -> 683 | I30: =I12+I13 -> 405 | ... S30: =S12+S13 -> 1334
A31: 40~49세 | B31: =B14+B15 -> 3157 | C31: =C14+C15 -> 1654 | D31: =D14+D15 -> 1503 | E31: =E14+E15 -> 141 | F31: =F14+F15 -> 78 | G31: =G14+G15 -> 63 | H31: =H14+H15 -> 326 | I31: =I14+I15 -> 161 | ... S31: =S14+S15 -> 800
A32: 50~59세 | B32: =B16+B17 -> 1861 | C32: =C16+C17 -> 775 | D32: =D16+D17 -> 1086 | E32: =E16+E17 -> 81 | F32: =F16+F17 -> 38 | G32: =G16+G17 -> 43 | H32: =H16+H17 -> 229 | I32: =I16+I17 -> 85 | ... S32: =S16+S17 -> 546
A33: 60~69세 | B33: =B18+B19 -> 776 | C33: =C18+C19 -> 311 | D33: =D18+D19 -> 465 | E33: =E18+E19 -> 49 | F33: =F18+F19 -> 22 | G33: =G18+G19 -> 27 | H33: =H18+H19 -> 94 | I33: =I18+I19 -> 40 | ... S33: =S18+S19 -> 213
A34: 70~79세 | B34: =B20+B21 -> 95 | C34: =C20+C21 -> 52 | D34: =D20+D21 -> 43 | E34: =E20+E21 -> 11 | F34: =F20+F21 -> 7 | G34: =G20+G21 -> 4 | H34: =H20+H21 -> 11 | I34: =I20+I21 -> 6 | ... S34: =S20+S21 -> 15
A35: 80세이상 | B35: =B22 -> 36 | C35: =C22 -> 21 | D35: =D22 -> 15 | E35: =E22 -> 8 | F35: =F22 -> 4 | G35: =G22 -> 4 | H35: =H22 -> 9 | I35: =I22 -> 6 | ... S35: =S22 -> 1

Sheet 2025.하반기
A1: ■ 구별·연령별 등록외국인 (2025. 12. 31. 기준)
S2: (단위 : 명)
A3: 구 분 | B3: 합 계 | E3: 동 구 | H3: 서 구 | K3: 남 구 | N3: 북 구 | Q3: 광 산 구
B4: 계 | C4: 남 | D4: 여 | E4: 계 | F4: 남 | G4: 여 | H4: 계 | I4: 남 | J4: 여 | K4: 계 | L4: 남 | M4: 여 | N4: 계 | O4: 남 | P4: 여 | Q4: 계 | R4: 남 | S4: 여
A5: 2025.2/2 | B5: 28421 | C5: 15924 | D5: 12497 | E5: 1930 | F5: 1065 | G5: 865 | H5: 2916 | I5: 1529 | J5: 1387 | K5: 1749 | L5: 727 | M5: 1022 | N5: 5680 | O5: 2907 | P5: 2773 | Q5: 16146 | R5: 9696 | S5: 6450
A6: 0~4세 | B6: 794 | C6: 405 | D6: 389 | E6: 32 | F6: 12 | G6: 20 | H6: 33 | I6: 19 | J6: 14 | K6: 15 | L6: 9 | M6: 6 | N6: 156 | O6: 75 | P6: 81 | Q6: 558 | R6: 290 | S6: 268
A7: 5~9세 | B7: 634 | C7: 337 | D7: 297 | E7: 12 | F7: 6 | G7: 6 | H7: 20 | I7: 12 | J7: 8 | K7: 13 | L7: 7 | M7: 6 | N7: 80 | O7: 38 | P7: 42 | Q7: 509 | R7: 274 | S7: 235
A8: 10~14세 | B8: 458 | C8: 218 | D8: 240 | E8: 4 | F8: 2 | G8: 2 | H8: 24 | I8: 15 | J8: 9 | K8: 11 | L8: 4 | M8: 7 | N8: 53 | O8: 23 | P8: 30 | Q8: 366 | R8: 174 | S8: 192
A9: 15~19세 | B9: 1706 | C9: 902 | D9: 804 | E9: 195 | F9: 119 | G9: 76 | H9: 192 | I9: 107 | J9: 85 | K9: 223 | L9: 97 | M9: 126 | N9: 397 | O9: 234 | P9: 163 | Q9: 699 | R9: 345 | S9: 354
A10: 20~24세 | B10: 6806 | C10: 3936 | D10: 2870 | E10: 533 | F10: 283 | G10: 250 | H10: 791 | I10: 403 | J10: 388 | K10: 436 | L10: 198 | M10: 238 | N10: 1192 | O10: 671 | P10: 521 | Q10: 3854 | R10: 2381 | S10: 1473
A11: 25~29세 | B11: 5620 | C11: 3439 | D11: 2181 | E11: 516 | F11: 292 | G11: 224 | H11: 513 | I11: 289 | J11: 224 | K11: 287 | L11: 128 | M11: 159 | N11: 1197 | O11: 646 | P11: 551 | Q11: 3107 | R11: 2084 | S11: 1023
A12: 30~34세 | B12: 3708 | C12: 2317 | D12: 1391 | E12: 223 | F12: 126 | G12: 97 | H12: 373 | I12: 227 | J12: 146 | K12: 168 | L12: 84 | M12: 84 | N12: 804 | O12: 433 | P12: 371 | Q12: 2140 | R12: 1447 | S12: 693
A13: 35~39세 | B13: 2873 | C13: 1613 | D13: 1260 | E13: 126 | F13: 72 | G13: 54 | H13: 305 | I13: 161 | J13: 144 | K13: 150 | L13: 53 | M13: 97 | N13: 600 | O13: 287 | P13: 313 | Q13: 1692 | R13: 1040 | S13: 652
A14: 40~44세 | B14: 1923 | C14: 1029 | D14: 894 | E14: 90 | F14: 47 | G14: 43 | H14: 190 | I14: 103 | J14: 87 | K14: 116 | L14: 29 | M14: 87 | N14: 358 | O14: 165 | P14: 193 | Q14: 1169 | R14: 685 | S14: 484
A15: 45~49세 | B15: 1199 | C15: 595 | D15: 604 | E15: 48 | F15: 32 | G15: 16 | H15: 129 | I15: 57 | J15: 72 | K15: 94 | L15: 32 | M15: 62 | N15: 223 | O15: 95 | P15: 128 | Q15: 705 | R15: 379 | S15: 326
A16: 50~54세 | B16: 1005 | C16: 433 | D16: 572 | E16: 41 | F16: 24 | G16: 17 | H16: 124 | I16: 45 | J16: 79 | K16: 69 | L16: 22 | M16: 47 | N16: 220 | O16: 81 | P16: 139 | Q16: 551 | R16: 261 | S16: 290
... A22: 80세이상 | B22: 32 | C22: 18 | D22: 14 | E22: 8 | F22: 4 | G22: 4 | H22: 8 | I22: 5 | J22: 3 | K22: 5 | L22: 2 | M22: 3 | N22: 7 | O22: 4 | P22: 3 | Q22: 4 | R22: 3 | S22: 1
A24: 구 분 | B24: 합 계 | E24: 동 구 | H24: 서 구 | K24: 남 구 | N24: 북 구 | Q24: 광 산 구
B25: 계 | C25: 남 | D25: 여 | E25: 계 | F25: 남 | G25: 여 | H25: 계 | I25: 남 | J25: 여 | K25: 계 | L25: 남 | M25: 여 | N25: 계 | O25: 남 | P25: 여 | Q25: 계 | R25: 남 | S25: 여
A26: 합계 | B26: =SUM(B27:B35) -> 28421 | C26: =SUM(C27:C35) -> 15924 | D26: =SUM(D27:D35) -> 12497 | E26: =SUM(E27:E35) -> 1930 | F26: =SUM(F27:F35) -> 1065 | G26: =SUM(G27:G35) -> 865 | H26: =SUM(H27:H35) -> 2916 | I26: =SUM(I27:I35) -> 1529 | ... S26: =SUM(S27:S35) -> 6450
A27: 0~9세 | B27: =B6+B7 -> 1428 | C27: =C6+C7 -> 742 | D27: =D6+D7 -> 686 | E27: =E6+E7 -> 44 | F27: =F6+F7 -> 18 | G27: =G6+G7 -> 26 | H27: =H6+H7 -> 53 | I27: =I6+I7 -> 31 | ... S27: =S6+S7 -> 503
A28: 10~19세 | B28: =B8+B9 -> 2164 | C28: =C8+C9 -> 1120 | D28: =D8+D9 -> 1044 | E28: =E8+E9 -> 199 | F28: =F8+F9 -> 121 | G28: =G8+G9 -> 78 | H28: =H8+H9 -> 216 | I28: =I8+I9 -> 122 | ... S28: =S8+S9 -> 546
A29: 20~29세 | B29: =B10+B11 -> 12426 | C29: =C10+C11 -> 7375 | D29: =D10+D11 -> 5051 | E29: =E10+E11 -> 1049 | F29: =F10+F11 -> 575 | G29: =G10+G11 -> 474 | H29: =H10+H11 -> 1304 | I29: =I10+I11 -> 692 | ... S29: =S10+S11 -> 2496
A30: 30~39세 | B30: =B12+B13 -> 6581 | C30: =C12+C13 -> 3930 | D30: =D12+D13 -> 2651 | E30: =E12+E13 -> 349 | F30: =F12+F13 -> 198 | G30: =G12+G13 -> 151 | H30: =H12+H13 -> 678 | I30: =I12+I13 -> 388 | ... S30: =S12+S13 -> 1345
A31: 40~49세 | B31: =B14+B15 -> 3122 | C31: =C14+C15 -> 1624 | D31: =D14+D15 -> 1498 | E31: =E14+E15 -> 138 | F31: =F14+F15 -> 79 | G31: =G14+G15 -> 59 | H31: =H14+H15 -> 319 | I31: =I14+I15 -> 160 | ... S31: =S14+S15 -> 810
A32: 50~59세 | B32: =B16+B17 -> 1867 | C32: =C16+C17 -> 783 | D32: =D16+D17 -> 1084 | E32: =E16+E17 -> 82 | F32: =F16+F17 -> 39 | G32: =G16+G17 -> 43 | H32: =H16+H17 -> 236 | I32: =I16+I17 -> 88 | ... S32: =S16+S17 -> 548
A33: 60~69세 | B33: =B18+B19 -> 712 | C33: =C18+C19 -> 283 | D33: =D18+D19 -> 429 | E33: =E18+E19 -> 50 | F33: =F18+F19 -> 24 | G33: =G18+G19 -> 26 | H33: =H18+H19 -> 88 | I33: =I18+I19 -> 35 | ... S33: =S18+S19 -> 191
A34: 70~79세 | B34: =B20+B21 -> 89 | C34: =C20+C21 -> 49 | D34: =D20+D21 -> 40 | E34: =E20+E21 -> 11 | F34: =F20+F21 -> 7 | G34: =G20+G21 -> 4 | H34: =H20+H21 -> 14 | I34: =I20+I21 -> 8 | ... S34: =S20+S21 -> 10
A35: 80세이상 | B35: =B22 -> 32 | C35: =C22 -> 18 | D35: =D22 -> 14 | E35: =E22 -> 8 | F35: =F22 -> 4 | G35: =G22 -> 4 | H35: =H22 -> 8 | I35: =I22 -> 5 | ... S35: =S22 -> 1

Sheet 2026.상반기
A1: ■ 구별·연령별 등록외국인 (2026. 6. 30. 기준)
S2: (단위 : 명)
A3: 구 분 | B3: 합 계 | E3: 동 구 | H3: 서 구 | K3: 남 구 | N3: 북 구 | Q3: 광 산 구
B4: 계 | C4: 남 | D4: 여 | E4: 계 | F4: 남 | G4: 여 | H4: 계 | I4: 남 | J4: 여 | K4: 계 | L4: 남 | M4: 여 | N4: 계 | O4: 남 | P4: 여 | Q4: 계 | R4: 남 | S4: 여
A5: 2026.1/2 | B5: 29269 | C5: 16399 | D5: 12870 | E5: 1920 | F5: 1015 | G5: 905 | H5: 3034 | I5: 1502 | J5: 1532 | K5: 1739 | L5: 733 | M5: 1006 | N5: 6002 | O5: 3105 | P5: 2897 | Q5: 16574 | R5: 10044 | S5: 6530
A6: 0~4세 | B6: 735 | C6: 393 | D6: 342 | E6: 35 | F6: 15 | G6: 20 | H6: 33 | I6: 15 | J6: 18 | K6: 15 | L6: 8 | M6: 7 | N6: 161 | O6: 79 | P6: 82 | Q6: 491 | R6: 276 | S6: 215
A7: 5~9세 | B7: 679 | C7: 355 | D7: 324 | E7: 17 | F7: 9 | G7: 8 | H7: 23 | I7: 14 | J7: 9 | K7: 10 | L7: 6 | M7: 4 | N7: 90 | O7: 52 | P7: 38 | Q7: 539 | R7: 274 | S7: 265
A8: 10~14세 | B8: 483 | C8: 234 | D8: 249 | E8: 5 | F8: 2 | G8: 3 | H8: 20 | I8: 13 | J8: 7 | K8: 15 | L8: 3 | M8: 12 | N8: 53 | O8: 22 | P8: 31 | Q8: 390 | R8: 194 | S8: 196
A9: 15~19세 | B9: 1209 | C9: 633 | D9: 576 | E9: 109 | F9: 67 | G9: 42 | H9: 110 | I9: 58 | J9: 52 | K9: 101 | L9: 55 | M9: 46 | N9: 388 | O9: 213 | P9: 175 | Q9: 501 | R9: 240 | S9: 261
A10: 20~24세 | B10: 7362 | C10: 4266 | D10: 3096 | E10: 645 | F10: 347 | G10: 298 | H10: 1010 | I10: 500 | J10: 510 | K10: 538 | L10: 251 | M10: 287 | N10: 1404 | O10: 825 | P10: 579 | Q10: 3765 | R10: 2343 | S10: 1422
A11: 25~29세 | B11: 5948 | C11: 3552 | D11: 2396 | E11: 471 | F11: 244 | G11: 227 | H11: 546 | I11: 277 | J11: 269 | K11: 275 | L11: 117 | M11: 158 | N11: 1166 | O11: 627 | P11: 539 | Q11: 3490 | R11: 2287 | S11: 1203
A12: 30~34세 | B12: 3935 | C12: 2438 | D12: 1497 | E12: 227 | F12: 125 | G12: 102 | H12: 353 | I12: 195 | J12: 158 | K12: 194 | L12: 95 | M12: 99 | N12: 879 | O12: 458 | P12: 421 | Q12: 2282 | R12: 1565 | S12: 717
A13: 35~39세 | B13: 2871 | C13: 1640 | D13: 1231 | E13: 124 | F13: 62 | G13: 62 | H13: 265 | I13: 135 | J13: 130 | K13: 127 | L13: 40 | M13: 87 | N13: 595 | O13: 300 | P13: 295 | Q13: 1760 | R13: 1103 | S13: 657
A14: 40~44세 | B14: 2070 | C14: 1114 | D14: 956 | E14: 83 | F14: 45 | G14: 38 | H14: 203 | I14: 100 | J14: 103 | K14: 132 | L14: 40 | M14: 92 | N14: 412 | O14: 191 | P14: 221 | Q14: 1240 | R14: 738 | S14: 502
A15: 45~49세 | B15: 1271 | C15: 625 | D15: 646 | E15: 61 | F15: 34 | G15: 27 | H15: 127 | I15: 60 | J15: 67 | K15: 96 | L15: 28 | M15: 68 | N15: 224 | O15: 95 | P15: 129 | Q15: 763 | R15: 408 | S15: 355
A16: 50~54세 | B16: 941 | C16: 418 | D16: 523 | E16: 31 | F16: 16 | G16: 15 | H16: 115 | I16: 41 | J16: 74 | K16: 63 | L16: 21 | M16: 42 | N16: 203 | O16: 75 | P16: 128 | Q16: 529 | R16: 265 | S16: 264
... A22: 80세이상 | B22: 33 | C22: 19 | D22: 14 | E22: 8 | F22: 4 | G22: 4 | H22: 8 | I22: 5 | J22: 3 | K22: 5 | L22: 2 | M22: 3 | N22: 8 | O22: 5 | P22: 3 | Q22: 4 | R22: 3 | S22: 1
A24: 구 분 | B24: 합 계 | E24: 동 구 | H24: 서 구 | K24: 남 구 | N24: 북 구 | Q24: 광 산 구
B25: 계 | C25: 남 | D25: 여 | E25: 계 | F25: 남 | G25: 여 | H25: 계 | I25: 남 | J25: 여 | K25: 계 | L25: 남 | M25: 여 | N25: 계 | O25: 남 | P25: 여 | Q25: 계 | R25: 남 | S25: 여
A26: 합계 | B26: =SUM(B27:B35) -> 29269 | C26: =SUM(C27:C35) -> 16399 | D26: =SUM(D27:D35) -> 12870 | E26: =SUM(E27:E35) -> 1920 | F26: =SUM(F27:F35) -> 1015 | G26: =SUM(G27:G35) -> 905 | H26: =SUM(H27:H35) -> 3034 | I26: =SUM(I27:I35) -> 1502 | ... S26: =SUM(S27:S35) -> 6530
A27: 0~9세 | B27: =B6+B7 -> 1414 | C27: =C6+C7 -> 748 | D27: =D6+D7 -> 666 | E27: =E6+E7 -> 52 | F27: =F6+F7 -> 24 | G27: =G6+G7 -> 28 | H27: =H6+H7 -> 56 | I27: =I6+I7 -> 29 | ... S27: =S6+S7 -> 480
A28: 10~19세 | B28: =B8+B9 -> 1692 | C28: =C8+C9 -> 867 | D28: =D8+D9 -> 825 | E28: =E8+E9 -> 114 | F28: =F8+F9 -> 69 | G28: =G8+G9 -> 45 | H28: =H8+H9 -> 130 | I28: =I8+I9 -> 71 | ... S28: =S8+S9 -> 457
A29: 20~29세 | B29: =B10+B11 -> 13310 | C29: =C10+C11 -> 7818 | D29: =D10+D11 -> 5492 | E29: =E10+E11 -> 1116 | F29: =F10+F11 -> 591 | G29: =G10+G11 -> 525 | H29: =H10+H11 -> 1556 | I29: =I10+I11 -> 777 | ... S29: =S10+S11 -> 2625
A30: 30~39세 | B30: =B12+B13 -> 6806 | C30: =C12+C13 -> 4078 | D30: =D12+D13 -> 2728 | E30: =E12+E13 -> 351 | F30: =F12+F13 -> 187 | G30: =G12+G13 -> 164 | H30: =H12+H13 -> 618 | I30: =I12+I13 -> 330 | ... S30: =S12+S13 -> 1374
A31: 40~49세 | B31: =B14+B15 -> 3341 | C31: =C14+C15 -> 1739 | D31: =D14+D15 -> 1602 | E31: =E14+E15 -> 144 | F31: =F14+F15 -> 79 | G31: =G14+G15 -> 65 | H31: =H14+H15 -> 330 | I31: =I14+I15 -> 160 | ... S31: =S14+S15 -> 857
A32: 50~59세 | B32: =B16+B17 -> 1783 | C32: =C16+C17 -> 775 | D32: =D16+D17 -> 1008 | E32: =E16+E17 -> 74 | F32: =F16+F17 -> 32 | G32: =G16+G17 -> 42 | H32: =H16+H17 -> 227 | I32: =I16+I17 -> 89 | ... S32: =S16+S17 -> 501
A33: 60~69세 | B33: =B18+B19 -> 783 | C33: =C18+C19 -> 307 | D33: =D18+D19 -> 476 | E33: =E18+E19 -> 51 | F33: =F18+F19 -> 23 | G33: =G18+G19 -> 28 | H33: =H18+H19 -> 95 | I33: =I18+I19 -> 34 | ... S33: =S18+S19 -> 214
A34: 70~79세 | B34: =B20+B21 -> 107 | C34: =C20+C21 -> 48 | D34: =D20+D21 -> 59 | E34: =E20+E21 -> 10 | F34: =F20+F21 -> 6 | G34: =G20+G21 -> 4 | H34: =H20+H21 -> 14 | I34: =I20+I21 -> 7 | ... S34: =S20+S21 -> 21
A35: 80세이상 | B35: =B22 -> 33 | C35: =C22 -> 19 | D35: =D22 -> 14 | E35: =E22 -> 8 | F35: =F22 -> 4 | G35: =G22 -> 4 | H35: =H22 -> 8 | I35: =I22 -> 5 | ... S35: =S22 -> 1
