Workbook
Name _E1: #REF!
Name _E1: #REF!
Name _E1: #REF!
Name _E1: #REF!
Name _E1: #REF!
Name _E1: #REF!
Name _E1: #REF!
Name _E1: #REF!
Name _E1: #REF!
Name _E1: #REF!
Name _E1: #REF!
Name 전체: #REF!
Name 전체: #REF!
Name 전체: #REF!
Name 전체: #REF!
Name 전체: #REF!
Name 전체: #REF!
Name 전체: #REF!
Name 전체: #REF!
Name 전체: #REF!
Name 전체: #REF!
Name 전체: #REF!

Sheet 2006년
A1: 5. 구별·연령별 외국인 현황
S2: (단위 : 명)
A3: 구 분 | B3: 합 계 | E3: 동 구 | H3: 서 구 | K3: 남 구 | N3: 북 구 | Q3: 광 산 구
B4: 계 | C4: 남 | D4: 여 | E4: 계 | F4: 남 | G4: 여 | H4: 계 | I4: 남 | J4: 여 | K4: 계 | L4: 남 | M4: 여 | N4: 계 | O4: 남 | P4: 여 | Q4: 계 | R4: 남 | S4: 여
A5: 2006 | B5: 8155 | C5: 4700 | D5: 3455 | E5: 850 | F5: 375 | G5: 475 | H5: 767 | I5: 321 | J5: 446 | K5: 706 | L5: 293 | M5: 413 | N5: 2103 | O5: 1015 | P5: 1088 | Q5: 3729 | R5: 2696 | S5: 1033
A6: 0∼ 4 세 | B6: 79 | C6: 45 | D6: 34 | E6: 11 | F6: 7 | G6: 4 | H6: 11 | I6: 6 | J6: 5 | K6: 9 | L6: 7 | M6: 2 | N6: 35 | O6: 18 | P6: 17 | Q6: 13 | R6: 7 | S6: 6
A7: 5∼ 9 세 | B7: 79 | C7: 45 | D7: 34 | E7: 11 | F7: 6 | G7: 5 | H7: 11 | I7: 6 | J7: 5 | K7: 8 | L7: 6 | M7: 2 | N7: 30 | O7: 17 | P7: 13 | Q7: 19 | R7: 10 | S7: 9
A8: 10∼14세 | B8: 92 | C8: 55 | D8: 37 | E8: 12 | F8: 5 | G8: 7 | H8: 22 | I8: 15 | J8: 7 | K8: 14 | L8: 10 | M8: 4 | N8: 25 | O8: 12 | P8: 13 | Q8: 19 | R8: 13 | S8: 6
A9: 15∼19세 | B9: 154 | C9: 62 | D9: 92 | E9: 17 | F9: 4 | G9: 13 | H9: 23 | I9: 9 | J9: 14 | K9: 21 | L9: 11 | M9: 10 | N9: 50 | O9: 29 | P9: 21 | Q9: 43 | R9: 9 | S9: 34
A10: 20∼24세 | B10: 1585 | C10: 779 | D10: 806 | E10: 249 | F10: 110 | G10: 139 | H10: 105 | I10: 44 | J10: 61 | K10: 182 | L10: 68 | M10: 114 | N10: 332 | O10: 133 | P10: 199 | Q10: 717 | R10: 424 | S10: 293
A11: 25∼29세 | B11: 1917 | C11: 1187 | D11: 730 | E11: 198 | F11: 83 | G11: 115 | H11: 136 | I11: 54 | J11: 82 | K11: 130 | L11: 48 | M11: 82 | N11: 453 | O11: 220 | P11: 233 | Q11: 1000 | R11: 782 | S11: 218
A12: 30∼34세 | B12: 1429 | C12: 983 | D12: 446 | E12: 87 | F12: 49 | G12: 38 | H12: 109 | I12: 43 | J12: 66 | K12: 69 | L12: 28 | M12: 41 | N12: 350 | O12: 191 | P12: 159 | Q12: 814 | R12: 672 | S12: 142
A13: 35∼39세 | B13: 1139 | C13: 763 | D13: 376 | E13: 73 | F13: 30 | G13: 43 | H13: 97 | I13: 45 | J13: 52 | K13: 72 | L13: 38 | M13: 34 | N13: 260 | O13: 145 | P13: 115 | Q13: 637 | R13: 505 | S13: 132
A14: 40∼44세 | B14: 618 | C14: 277 | D14: 341 | E14: 53 | F14: 19 | G14: 34 | H14: 86 | I14: 28 | J14: 58 | K14: 83 | L14: 25 | M14: 58 | N14: 173 | O14: 59 | P14: 114 | Q14: 223 | R14: 146 | S14: 77
A15: 45∼49세 | B15: 374 | C15: 154 | D15: 220 | E15: 45 | F15: 17 | G15: 28 | H15: 65 | I15: 26 | J15: 39 | K15: 39 | L15: 12 | M15: 27 | N15: 141 | O15: 58 | P15: 83 | Q15: 84 | R15: 41 | S15: 43
A16: 50∼54세 | B16: 287 | C16: 124 | D16: 163 | E16: 34 | F16: 10 | G16: 24 | H16: 45 | I16: 19 | J16: 26 | K16: 32 | L16: 14 | M16: 18 | N16: 119 | O16: 55 | P16: 64 | Q16: 57 | R16: 26 | S16: 31
A17: 55∼59세 | B17: 189 | C17: 102 | D17: 87 | E17: 17 | F17: 7 | G17: 10 | H17: 28 | I17: 12 | J17: 16 | K17: 23 | L17: 14 | M17: 9 | N17: 68 | O17: 40 | P17: 28 | Q17: 53 | R17: 29 | S17: 24
... A26: 100+ | B26: 0 | C26: 0 | D26: 0 | E26: 0 | F26: 0 | G26: 0 | H26: 0 | I26: 0 | J26: 0 | K26: 0 | L26: 0 | M26: 0 | N26: 0 | O26: 0 | P26: 0 | Q26: 0 | R26: 0 | S26: 0
A27: 65세이상 | B27: =SUM(B19:B26) -> 120 | C27: =SUM(C19:C26) -> 70 | D27: =SUM(D19:D26) -> 50 | E27: =SUM(E19:E26) -> 27 | F27: =SUM(F19:F26) -> 18 | G27: =SUM(G19:G26) -> 9 | H27: =SUM(H19:H26) -> 18 | I27: =SUM(I19:I26) -> 6 | ... S27: =SUM(S19:S26) -> 9
A28: 15-64세 | B28: =SUM(B9:B18) -> 7785 | C28: =SUM(C9:C18) -> 4485 | D28: =SUM(D9:D18) -> 3300 | E28: =SUM(E9:E18) -> 789 | F28: =SUM(F9:F18) -> 339 | G28: =SUM(G9:G18) -> 450 | H28: =SUM(H9:H18) -> 705 | I28: =SUM(I9:I18) -> 288 | ... S28: =SUM(S9:S18) -> 1003
A29: 14세이하 | B29: =SUM(B6:B8) -> 250 | C29: =SUM(C6:C8) -> 145 | D29: =SUM(D6:D8) -> 105 | E29: =SUM(E6:E8) -> 34 | F29: =SUM(F6:F8) -> 18 | G29: =SUM(G6:G8) -> 16 | H29: =SUM(H6:H8) -> 44 | I29: =SUM(I6:I8) -> 27 | ... S29: =SUM(S6:S8) -> 21

Sheet 2007년
A1: 5. 구별·연령별 외국인 현황
R2: (단위 : 명)
A3: 구 분 | B3: 합 계 | E3: 동 구 | H3: 서 구 | K3: 남 구 | N3: 북 구 | Q3: 광 산 구
B4: 계 | C4: 남 | D4: 여 | E4: 계 | F4: 남 | G4: 여 | H4: 계 | I4: 남 | J4: 여 | K4: 계 | L4: 남 | M4: 여 | N4: 계 | O4: 남 | P4: 여 | Q4: 계 | R4: 남 | S4: 여
A5: 2007 | B5: =SUM(B6:B26) -> 10016 | C5: =F5+I5+L5+O5+R5 -> 5398 | D5: =G5+J5+M5+P5+S5 -> 4618 | E5: =SUM(F5:G5) -> 1046 | F5: =SUM(F6:F26) -> 478 | G5: =SUM(G6:G26) -> 568 | H5: =SUM(H6:H26) -> 978 | I5: =SUM(I6:I26) -> 354 | J5: =SUM(J6:J26) -> 624 | K5: 866 | L5: 344 | M5: 522 | N5: 2832 | O5: 1319 | P5: 1513 | Q5: 4294 | R5: 2903 | S5: 1391
A6: 0∼ 4 세 | B6: =SUM(C6:D6) -> 72 | C6: =SUM(F6,I6,L6,O6,R6) -> 40 | D6: =SUM(G6,J6,M6,P6,S6) -> 32 | E6: =SUM(F6:G6) -> 7 | F6: 4 | G6: 3 | H6: =SUM(I6:J6) -> 10 | I6: 6 | J6: 4 | K6: 10 | L6: 7 | M6: 3 | N6: 34 | O6: 18 | P6: 16 | Q6: 11 | R6: 5 | S6: 6
A7: 5∼ 9 세 | B7: =SUM(C7:D7) -> 98 | C7: =SUM(F7,I7,L7,O7,R7) -> 60 | D7: =SUM(G7,J7,M7,P7,S7) -> 38 | E7: =SUM(F7:G7) -> 12 | F7: 7 | G7: 5 | H7: =SUM(I7:J7) -> 16 | I7: 10 | J7: 6 | K7: 7 | L7: 5 | M7: 2 | N7: 36 | O7: 25 | P7: 11 | Q7: 27 | R7: 13 | S7: 14
A8: 10∼14세 | B8: =SUM(C8:D8) -> 85 | C8: =SUM(F8,I8,L8,O8,R8) -> 49 | D8: =SUM(G8,J8,M8,P8,S8) -> 36 | E8: =SUM(F8:G8) -> 12 | F8: 4 | G8: 8 | H8: =SUM(I8:J8) -> 18 | I8: 13 | J8: 5 | K8: 13 | L8: 10 | M8: 3 | N8: 27 | O8: 12 | P8: 15 | Q8: 15 | R8: 10 | S8: 5
A9: 15∼19세 | B9: =SUM(C9:D9) -> 161 | C9: =SUM(F9,I9,L9,O9,R9) -> 78 | D9: =SUM(G9,J9,M9,P9,S9) -> 83 | E9: =SUM(F9:G9) -> 17 | F9: 8 | G9: 9 | H9: =SUM(I9:J9) -> 22 | I9: 8 | J9: 14 | K9: 20 | L9: 10 | M9: 10 | N9: 78 | O9: 46 | P9: 32 | Q9: 24 | R9: 6 | S9: 18
A10: 20∼24세 | B10: =SUM(C10:D10) -> 2373 | C10: =SUM(F10,I10,L10,O10,R10) -> 1008 | D10: =SUM(G10,J10,M10,P10,S10) -> 1365 | E10: =SUM(F10:G10) -> 329 | F10: 143 | G10: 186 | H10: =SUM(I10:J10) -> 173 | I10: 46 | J10: 127 | K10: 235 | L10: 93 | M10: 142 | N10: 654 | O10: 253 | P10: 401 | Q10: 982 | R10: 473 | S10: 509
A11: 25∼29세 | B11: =SUM(C11:D11) -> 2248 | C11: =SUM(F11,I11,L11,O11,R11) -> 1309 | D11: =SUM(G11,J11,M11,P11,S11) -> 939 | E11: =SUM(F11:G11) -> 271 | F11: 120 | G11: 151 | H11: =SUM(I11:J11) -> 188 | I11: 57 | J11: 131 | K11: 160 | L11: 59 | M11: 101 | N11: 586 | O11: 294 | P11: 292 | Q11: 1043 | R11: 779 | S11: 264
A12: 30∼34세 | B12: =SUM(C12:D12) -> 1556 | C12: =SUM(F12,I12,L12,O12,R12) -> 1000 | D12: =SUM(G12,J12,M12,P12,S12) -> 556 | E12: =SUM(F12:G12) -> 104 | F12: 56 | G12: 48 | H12: =SUM(I12:J12) -> 118 | I12: 40 | J12: 78 | K12: 86 | L12: 26 | M12: 60 | N12: 381 | O12: 184 | P12: 197 | Q12: 867 | R12: 694 | S12: 173
A13: 35∼39세 | B13: =SUM(C13:D13) -> 1216 | C13: =SUM(F13,I13,L13,O13,R13) -> 795 | D13: =SUM(G13,J13,M13,P13,S13) -> 421 | E13: =SUM(F13:G13) -> 62 | F13: 31 | G13: 31 | H13: =SUM(I13:J13) -> 106 | I13: 50 | J13: 56 | K13: 82 | L13: 30 | M13: 52 | N13: 291 | O13: 160 | P13: 131 | Q13: 675 | R13: 524 | S13: 151
A14: 40∼44세 | B14: =SUM(C14:D14) -> 767 | C14: =SUM(F14,I14,L14,O14,R14) -> 369 | D14: =SUM(G14,J14,M14,P14,S14) -> 398 | E14: =SUM(F14:G14) -> 63 | F14: 22 | G14: 41 | H14: =SUM(I14:J14) -> 94 | I14: 34 | J14: 60 | K14: 84 | L14: 29 | M14: 55 | N14: 239 | O14: 88 | P14: 151 | Q14: 287 | R14: 196 | S14: 91
A15: 45∼49세 | B15: =SUM(C15:D15) -> 464 | C15: =SUM(F15,I15,L15,O15,R15) -> 201 | D15: =SUM(G15,J15,M15,P15,S15) -> 263 | E15: =SUM(F15:G15) -> 49 | F15: 24 | G15: 25 | H15: =SUM(I15:J15) -> 81 | I15: 26 | J15: 55 | K15: 57 | L15: 19 | M15: 38 | N15: 169 | O15: 73 | P15: 96 | Q15: 108 | R15: 59 | S15: 49
A16: 50∼54세 | B16: =SUM(C16:D16) -> 384 | C16: =SUM(F16,I16,L16,O16,R16) -> 180 | D16: =SUM(G16,J16,M16,P16,S16) -> 204 | E16: =SUM(F16:G16) -> 40 | F16: 14 | G16: 26 | H16: =SUM(I16:J16) -> 59 | I16: 22 | J16: 37 | K16: 44 | L16: 21 | M16: 23 | N16: 144 | O16: 66 | P16: 78 | Q16: 97 | R16: 57 | S16: 40
A17: 55∼59세 | B17: =SUM(C17:D17) -> 303 | C17: =SUM(F17,I17,L17,O17,R17) -> 154 | D17: =SUM(G17,J17,M17,P17,S17) -> 149 | E17: =SUM(F17:G17) -> 33 | F17: 15 | G17: 18 | H17: =SUM(I17:J17) -> 48 | I17: 23 | J17: 25 | K17: 34 | L17: 18 | M17: 16 | N17: 99 | O17: 48 | P17: 51 | Q17: 89 | R17: 50 | S17: 39
... A22: 80∼84세 | B22: =SUM(C22:D22) -> 8 | C22: =SUM(F22,I22,L22,O22,R22) -> 4 | D22: =SUM(G22,J22,M22,P22,S22) -> 4 | E22: =SUM(F22:G22) -> 1 | F22: 1 | G22: 0 | H22: =SUM(I22:J22) -> 1 | I22: 0 | J22: 1 | K22: 1 | L22: 1 | M22: 0 | N22: 4 | O22: 1 | P22: 3 | Q22: 1 | R22: 1 | S22: 0
A23: 85∼89세 | B23: =SUM(C23:D23) -> 2 | C23: =SUM(F23,I23,L23,O23,R23) -> 0 | D23: =SUM(G23,J23,M23,P23,S23) -> 2 | E23: 0 | F23: 0 | G23: 0 | H23: =SUM(I23:J23) -> 0 | I23: 0 | J23: 0 | K23: 1 | L23: 0 | M23: 1 | N23: 1 | O23: 0 | P23: 1 | Q23: 0 | R23: 0 | S23: 0
A24: 90∼94세 | B24: =SUM(C24:D24) -> 3 | C24: =SUM(F24,I24,L24,O24,R24) -> 0 | D24: =SUM(G24,J24,M24,P24,S24) -> 3 | E24: 0 | F24: 0 | G24: 0 | H24: =SUM(I24:J24) -> 0 | I24: 0 | J24: 0 | K24: 1 | L24: 0 | M24: 1 | N24: 1 | O24: 0 | P24: 1 | Q24: 1 | R24: 0 | S24: 1
A25: 95∼99세 | B25: =E25+H25+K25+N25+Q25 -> 0 | C25: =F25+I25+L25+O25+R25 -> 0 | D25: =G25+J25+M25+P25+S25 -> 0 | E25: 0 | F25: 0 | G25: 0 | H25: =SUM(I25:J25) -> 0 | I25: 0 | J25: 0 | K25: 0 | L25: 0 | M25: 0 | N25: 0 | O25: 0 | P25: 0 | Q25: 0 | R25: 0 | S25: 0
A26: 100이상 | B26: =E26+H26+K26+N26+Q26 -> 0 | C26: =F26+I26+L26+O26+R26 -> 0 | D26: =G26+J26+M26+P26+S26 -> 0 | E26: 0 | F26: 0 | G26: 0 | H26: 0 | I26: 0 | J26: 0 | K26: 0 | L26: 0 | M26: 0 | N26: 0 | O26: 0 | P26: 0 | Q26: 0 | R26: 0 | S26: 0
A27: 65세이상 | B27: =SUM(B19:B26) -> 123 | C27: =SUM(C19:C26) -> 64 | D27: =SUM(D19:D26) -> 59 | E27: =SUM(E19:E26) -> 30 | F27: =SUM(F19:F26) -> 19 | G27: =SUM(G19:G26) -> 11 | H27: =SUM(H19:H26) -> 21 | I27: =SUM(I19:I26) -> 7 | ... S27: =SUM(S19:S26) -> 13
A28: 15-64세 | B28: =SUM(B9:B18) -> 9638 | C28: =SUM(C9:C18) -> 5185 | D28: =SUM(D9:D18) -> 4453 | E28: =SUM(E9:E18) -> 985 | F28: =SUM(F9:F18) -> 444 | G28: =SUM(G9:G18) -> 541 | H28: =SUM(H9:H18) -> 913 | I28: =SUM(I9:I18) -> 318 | ... S28: =SUM(S9:S18) -> 1353
A29: 14세이하 | B29: =SUM(B6:B8) -> 255 | C29: =SUM(C6:C8) -> 149 | D29: =SUM(D6:D8) -> 106 | E29: =SUM(E6:E8) -> 31 | F29: =SUM(F6:F8) -> 15 | G29: =SUM(G6:G8) -> 16 | H29: =SUM(H6:H8) -> 44 | I29: =SUM(I6:I8) -> 29 | ... S29: =SUM(S6:S8) -> 25
B30: =SUM(B27:B29) -> 10016

Sheet 2008년
A1: 5. 구별·연령별 외국인 현황 | R1: (단위 : 명)
A2: 구 분 | B2: 합 계 | E2: 동 구 | H2: 서 구 | K2: 남 구 | N2: 북 구 | Q2: 광 산 구
B3: 계 | C3: 남 | D3: 여 | E3: =[1]외국인!B4 -> 계 | F3: =[1]외국인!C4 -> 남 | G3: =[1]외국인!D4 -> 여 | H3: =[2]외국인!B4 -> 계 | I3: =[2]외국인!C4 -> 남 | J3: =[2]외국인!D4 -> 여 | K3: =[3]외국인!B4 -> 계 | L3: =[3]외국인!C4 -> 남 | M3: =[3]외국인!D4 -> 여 | N3: ='[4]외국인 '!B4 -> 계 | O3: ='[4]외국인 '!C4 -> 남 | P3: ='[4]외국인 '!D4 -> 여 | Q3: ='[5]외국인 '!B4 -> 계 | R3: ='[5]외국인 '!C4 -> 남 | S3: ='[5]외국인 '!D4 -> 여
A4: 2008 | B4: =E4+H4+K4+N4+Q4 -> 11923 | C4: =F4+I4+L4+O4+R4 -> 6320 | D4: =G4+J4+M4+P4+S4 -> 5603 | E4: =SUM(F4:G4) -> 1201 | F4: =SUM(F5:F25) -> 548 | G4: =SUM(G5:G25) -> 653 | H4: =SUM(I4:J4) -> 1150 | I4: =SUM(I5:I25) -> 428 | J4: =SUM(J5:J25) -> 722 | K4: =SUM(L4:M4) -> 1018 | L4: =SUM(L5:L25) -> 371 | M4: =SUM(M5:M25) -> 647 | N4: =SUM(O4:P4) -> 3392 | O4: =SUM(O5:O25) -> 1583 | P4: =SUM(P5:P25) -> 1809 | Q4: =SUM(R4:S4) -> 5162 | R4: =SUM(R5:R25) -> 3390 | S4: =SUM(S5:S25) -> 1772
A5: 0∼ 4 세 | B5: =E5+H5+K5+N5+Q5 -> 80 | C5: =F5+I5+L5+O5+R5 -> 46 | D5: =G5+J5+M5+P5+S5 -> 34 | E5: =SUM(F5:G5) -> 7 | F5: 3 | G5: 4 | H5: =SUM(I5:J5) -> 13 | I5: 9 | J5: 4 | K5: =SUM(L5:M5) -> 12 | L5: 6 | M5: 6 | N5: =SUM(O5:P5) -> 37 | O5: 20 | P5: 17 | Q5: =SUM(R5:S5) -> 11 | R5: 8 | S5: 3
A6: 5∼ 9 세 | B6: =E6+H6+K6+N6+Q6 -> 104 | C6: =F6+I6+L6+O6+R6 -> 54 | D6: =G6+J6+M6+P6+S6 -> 50 | E6: =SUM(F6:G6) -> 11 | F6: 7 | G6: 4 | H6: =SUM(I6:J6) -> 17 | I6: 6 | J6: 11 | K6: =SUM(L6:M6) -> 6 | L6: 4 | M6: 2 | N6: =SUM(O6:P6) -> 47 | O6: 24 | P6: 23 | Q6: =SUM(R6:S6) -> 23 | R6: 13 | S6: 10
A7: 10∼14세 | B7: =E7+H7+K7+N7+Q7 -> 76 | C7: =F7+I7+L7+O7+R7 -> 44 | D7: =G7+J7+M7+P7+S7 -> 32 | E7: =SUM(F7:G7) -> 11 | F7: 4 | G7: 7 | H7: =SUM(I7:J7) -> 14 | I7: 10 | J7: 4 | K7: =SUM(L7:M7) -> 12 | L7: 10 | M7: 2 | N7: =SUM(O7:P7) -> 22 | O7: 10 | P7: 12 | Q7: =SUM(R7:S7) -> 17 | R7: 10 | S7: 7
A8: 15∼19세 | B8: =E8+H8+K8+N8+Q8 -> 222 | C8: =F8+I8+L8+O8+R8 -> 98 | D8: =G8+J8+M8+P8+S8 -> 124 | E8: =SUM(F8:G8) -> 26 | F8: 12 | G8: 14 | H8: =SUM(I8:J8) -> 34 | I8: 15 | J8: 19 | K8: =SUM(L8:M8) -> 34 | L8: 13 | M8: 21 | N8: =SUM(O8:P8) -> 99 | O8: 52 | P8: 47 | Q8: =SUM(R8:S8) -> 29 | R8: 6 | S8: 23
A9: 20∼24세 | B9: =E9+H9+K9+N9+Q9 -> 3143 | C9: =F9+I9+L9+O9+R9 -> 1377 | D9: =G9+J9+M9+P9+S9 -> 1766 | E9: =SUM(F9:G9) -> 388 | F9: 174 | G9: 214 | H9: =SUM(I9:J9) -> 228 | I9: 59 | J9: 169 | K9: =SUM(L9:M9) -> 291 | L9: 105 | M9: 186 | N9: =SUM(O9:P9) -> 942 | O9: 421 | P9: 521 | Q9: =SUM(R9:S9) -> 1294 | R9: 618 | S9: 676
A10: 25∼29세 | B10: =E10+H10+K10+N10+Q10 -> 2647 | C10: =F10+I10+L10+O10+R10 -> 1548 | D10: =G10+J10+M10+P10+S10 -> 1099 | E10: =SUM(F10:G10) -> 325 | F10: 143 | G10: 182 | H10: =SUM(I10:J10) -> 200 | I10: 69 | J10: 131 | K10: =SUM(L10:M10) -> 185 | L10: 62 | M10: 123 | N10: =SUM(O10:P10) -> 681 | O10: 327 | P10: 354 | Q10: =SUM(R10:S10) -> 1256 | R10: 947 | S10: 309
A11: 30∼34세 | B11: =E11+H11+K11+N11+Q11 -> 1708 | C11: =F11+I11+L11+O11+R11 -> 1079 | D11: =G11+J11+M11+P11+S11 -> 629 | E11: =SUM(F11:G11) -> 122 | F11: 67 | G11: 55 | H11: =SUM(I11:J11) -> 134 | I11: 48 | J11: 86 | K11: =SUM(L11:M11) -> 88 | L11: 27 | M11: 61 | N11: =SUM(O11:P11) -> 416 | O11: 202 | P11: 214 | Q11: =SUM(R11:S11) -> 948 | R11: 735 | S11: 213
A12: 35∼39세 | B12: =E12+H12+K12+N12+Q12 -> 1320 | C12: =F12+I12+L12+O12+R12 -> 830 | D12: =G12+J12+M12+P12+S12 -> 490 | E12: =SUM(F12:G12) -> 73 | F12: 34 | G12: 39 | H12: =SUM(I12:J12) -> 123 | I12: 55 | J12: 68 | K12: =SUM(L12:M12) -> 80 | L12: 20 | M12: 60 | N12: =SUM(O12:P12) -> 337 | O12: 179 | P12: 158 | Q12: =SUM(R12:S12) -> 707 | R12: 542 | S12: 165
A13: 40∼44세 | B13: =E13+H13+K13+N13+Q13 -> 842 | C13: =F13+I13+L13+O13+R13 -> 426 | D13: =G13+J13+M13+P13+S13 -> 416 | E13: =SUM(F13:G13) -> 60 | F13: 22 | G13: 38 | H13: =SUM(I13:J13) -> 98 | I13: 40 | J13: 58 | K13: =SUM(L13:M13) -> 86 | L13: 26 | M13: 60 | N13: =SUM(O13:P13) -> 228 | O13: 97 | P13: 131 | Q13: =SUM(R13:S13) -> 370 | R13: 241 | S13: 129
A14: 45∼49세 | B14: =E14+H14+K14+N14+Q14 -> 618 | C14: =F14+I14+L14+O14+R14 -> 241 | D14: =G14+J14+M14+P14+S14 -> 377 | E14: =SUM(F14:G14) -> 50 | F14: 18 | G14: 32 | H14: =SUM(I14:J14) -> 123 | I14: 41 | J14: 82 | K14: =SUM(L14:M14) -> 74 | L14: 26 | M14: 48 | N14: =SUM(O14:P14) -> 189 | O14: 68 | P14: 121 | Q14: =SUM(R14:S14) -> 182 | R14: 88 | S14: 94
A15: 50∼54세 | B15: =E15+H15+K15+N15+Q15 -> 428 | C15: =F15+I15+L15+O15+R15 -> 198 | D15: =G15+J15+M15+P15+S15 -> 230 | E15: =SUM(F15:G15) -> 48 | F15: 21 | G15: 27 | H15: =SUM(I15:J15) -> 61 | I15: 28 | J15: 33 | K15: =SUM(L15:M15) -> 59 | L15: 27 | M15: 32 | N15: =SUM(O15:P15) -> 138 | O15: 57 | P15: 81 | Q15: =SUM(R15:S15) -> 122 | R15: 65 | S15: 57
A16: 55∼59세 | B16: =E16+H16+K16+N16+Q16 -> 351 | C16: =F16+I16+L16+O16+R16 -> 176 | D16: =G16+J16+M16+P16+S16 -> 175 | E16: =SUM(F16:G16) -> 36 | F16: 16 | G16: 20 | H16: =SUM(I16:J16) -> 51 | I16: 23 | J16: 28 | K16: =SUM(L16:M16) -> 46 | L16: 23 | M16: 23 | N16: =SUM(O16:P16) -> 120 | O16: 60 | P16: 60 | Q16: =SUM(R16:S16) -> 98 | R16: 54 | S16: 44
... A19: 70∼74세 | B19: =E19+H19+K19+N19+Q19 -> 44 | C19: =F19+I19+L19+O19+R19 -> 17 | D19: =G19+J19+M19+P19+S19 -> 27 | E19: =SUM(F19:G19) -> 9 | F19: 4 | G19: 5 | H19: =SUM(I19:J19) -> 6 | I19: 1 | J19: 5 | K19: =SUM(L19:M19) -> 5 | L19: 3 | M19: 2 | N19: =SUM(O19:P19) -> 11 | O19: 3 | P19: 8 | Q19: =SUM(R19:S19) -> 13 | R19: 6 | S19: 7
A20: 75∼79세 | B20: =E20+H20+K20+N20+Q20 -> 27 | C20: =F20+I20+L20+O20+R20 -> 19 | D20: =G20+J20+M20+P20+S20 -> 8 | E20: =SUM(F20:G20) -> 11 | F20: 9 | G20: 2 | H20: =SUM(I20:J20) -> 3 | I20: 0 | J20: 3 | K20: =SUM(L20:M20) -> 3 | L20: 3 | M20: 0 | N20: =SUM(O20:P20) -> 9 | O20: 6 | P20: 3 | Q20: =SUM(R20:S20) -> 1 | R20: 1 | S20: 0
A21: 80∼84세 | B21: =E21+H21+K21+N21+Q21 -> 9 | C21: =F21+I21+L21+O21+R21 -> 3 | D21: =G21+J21+M21+P21+S21 -> 6 | E21: =SUM(F21:G21) -> 2 | F21: 1 | G21: 1 | H21: =SUM(I21:J21) -> 0 | I21: 0 | J21: 0 | K21: =SUM(L21:M21) -> 1 | L21: 1 | M21: 0 | N21: =SUM(O21:P21) -> 5 | O21: 0 | P21: 5 | Q21: =SUM(R21:S21) -> 1 | R21: 1 | S21: 0
A22: 85∼89세 | B22: =E22+H22+K22+N22+Q22 -> 3 | C22: =F22+I22+L22+O22+R22 -> 1 | D22: =G22+J22+M22+P22+S22 -> 2 | E22: =SUM(F22:G22) -> 0 | F22: 0 | G22: 0 | H22: =SUM(I22:J22) -> 0 | I22: 0 | J22: 0 | K22: =SUM(L22:M22) -> 1 | L22: 0 | M22: 1 | N22: =SUM(O22:P22) -> 2 | O22: 1 | P22: 1 | Q22: 0 | R22: 0 | S22: 0
A23: 90∼94세 | B23: =E23+H23+K23+N23+Q23 -> 1 | C23: =F23+I23+L23+O23+R23 -> 0 | D23: =G23+J23+M23+P23+S23 -> 1 | E23: =SUM(F23:G23) -> 0 | F23: 0 | G23: 0 | H23: =SUM(I23:J23) -> 0 | I23: 0 | J23: 0 | K23: =SUM(L23:M23) -> 0 | L23: 0 | M23: 0 | N23: =SUM(O23:P23) -> 1 | O23: 0 | P23: 1 | Q23: 0 | R23: 0 | S23: 0
A24: 95∼99세 | B24: =E24+H24+K24+N24+Q24 -> 0 | C24: =F24+I24+L24+O24+R24 -> 0 | D24: =G24+J24+M24+P24+S24 -> 0 | E24: =SUM(F24:G24) -> 0 | F24: 0 | G24: 0 | H24: =SUM(I24:J24) -> 0 | I24: 0 | J24: 0 | K24: =SUM(L24:M24) -> 0 | L24: 0 | M24: 0 | N24: =SUM(O24:P24) -> 0 | O24: 0 | P24: 0 | Q24: 0 | R24: 0 | S24: 0
A25: 100이상 | B25: =E25+H25+K25+N25+Q25 -> 0 | C25: =F25+I25+L25+O25+R25 -> 0 | D25: =G25+J25+M25+P25+S25 -> 0 | E25: =SUM(F25:G25) -> 0 | F25: 0 | G25: 0 | H25: =SUM(I25:J25) -> 0 | I25: 0 | J25: 0 | K25: =SUM(L25:M25) -> 0 | L25: 0 | M25: 0 | N25: =SUM(O25:P25) -> 0 | O25: 0 | P25: 0 | Q25: 0 | R25: 0 | S25: 0
A26: 65세이상 | B26: =SUM(B18:B25) -> 155 | C26: =SUM(C18:C25) -> 74 | D26: =SUM(D18:D25) -> 81 | E26: =SUM(E18:E25) -> 27 | F26: =SUM(F18:F25) -> 15 | G26: =SUM(G18:G25) -> 12 | H26: =SUM(H18:H25) -> 25 | I26: =SUM(I18:I25) -> 11 | ... S26: =SUM(S18:S25) -> 17
A27: 15-64세 | B27: =SUM(B8:B17) -> 11508 | C27: =SUM(C8:C17) -> 6102 | D27: =SUM(D8:D17) -> 5406 | E27: =SUM(E8:E17) -> 1145 | F27: =SUM(F8:F17) -> 519 | G27: =SUM(G8:G17) -> 626 | H27: =SUM(H8:H17) -> 1081 | I27: =SUM(I8:I17) -> 392 | ... S27: =SUM(S8:S17) -> 1735
A28: 14세이하 | B28: =SUM(B5:B7) -> 260 | C28: =SUM(C5:C7) -> 144 | D28: =SUM(D5:D7) -> 116 | E28: =SUM(E5:E7) -> 29 | F28: =SUM(F5:F7) -> 14 | G28: =SUM(G5:G7) -> 15 | H28: =SUM(H5:H7) -> 44 | I28: =SUM(I5:I7) -> 25 | ... S28: =SUM(S5:S7) -> 20

Sheet 2009년
A1: 5. 구별·연령별 외국인 현황
S2: 단위 : 명
A3: 구 분 | B3: 합 계 | E3: 동 구 | H3: 서 구 | K3: 남 구 | N3: 북 구 | Q3: 광 산 구
B4: 합계 | C4: 남 | D4: 여 | E4: 계 | F4: 남 | G4: 여 | H4: 계 | I4: 남 | J4: 여 | K4: 계 | L4: 남 | M4: 여 | N4: 계 | O4: 남 | P4: 여 | Q4: 계 | R4: 남 | S4: 여
A5: 2009 | B5: =SUM(C5:D5) -> 12188 | C5: =SUM(C6:C26) -> 6363 | D5: =SUM(D6:D26) -> 5825 | E5: =SUM(E6:E26) -> 1152 | F5: =SUM(F6:F26) -> 538 | G5: =SUM(G6:G26) -> 614 | H5: =SUM(H6:H26) -> 1174 | I5: =SUM(I6:I26) -> 443 | J5: =SUM(J6:J26) -> 731 | ... S5: =SUM(S6:S26) -> 2049
A6: 0∼ 4 세 | B6: =SUM(C6:D6) -> 75 | C6: =SUM(F6,I6,L6,O6,R6) -> 40 | D6: =SUM(G6,J6,M6,P6,S6) -> 35 | E6: =SUM(F6:G6) -> 4 | F6: 1 | G6: 3 | H6: =SUM(I6:J6) -> 14 | I6: 10 | J6: 4 | K6: =SUM(L6:M6) -> 9 | L6: 4 | M6: 5 | N6: =SUM(O6:P6) -> 33 | O6: 16 | P6: 17 | Q6: =SUM(R6:S6) -> 15 | R6: 9 | S6: 6
A7: 5∼ 9 세 | B7: =SUM(C7:D7) -> 104 | C7: =SUM(F7,I7,L7,O7,R7) -> 57 | D7: =SUM(G7,J7,M7,P7,S7) -> 47 | E7: =SUM(F7:G7) -> 11 | F7: 5 | G7: 6 | H7: =SUM(I7:J7) -> 15 | I7: 6 | J7: 9 | K7: =SUM(L7:M7) -> 13 | L7: 9 | M7: 4 | N7: =SUM(O7:P7) -> 44 | O7: 24 | P7: 20 | Q7: =SUM(R7:S7) -> 21 | R7: 13 | S7: 8
A8: 10∼14세 | B8: =SUM(C8:D8) -> 75 | C8: =SUM(F8,I8,L8,O8,R8) -> 46 | D8: =SUM(G8,J8,M8,P8,S8) -> 29 | E8: =SUM(F8:G8) -> 12 | F8: 5 | G8: 7 | H8: =SUM(I8:J8) -> 11 | I8: 8 | J8: 3 | K8: =SUM(L8:M8) -> 9 | L8: 7 | M8: 2 | N8: =SUM(O8:P8) -> 23 | O8: 13 | P8: 10 | Q8: =SUM(R8:S8) -> 20 | R8: 13 | S8: 7
A9: 15∼19세 | B9: =SUM(C9:D9) -> 154 | C9: =SUM(F9,I9,L9,O9,R9) -> 69 | D9: =SUM(G9,J9,M9,P9,S9) -> 85 | E9: =SUM(F9:G9) -> 13 | F9: 7 | G9: 6 | H9: =SUM(I9:J9) -> 24 | I9: 11 | J9: 13 | K9: =SUM(L9:M9) -> 27 | L9: 12 | M9: 15 | N9: =SUM(O9:P9) -> 62 | O9: 34 | P9: 28 | Q9: =SUM(R9:S9) -> 28 | R9: 5 | S9: 23
A10: 20∼24세 | B10: =SUM(C10:D10) -> 3258 | C10: =SUM(F10,I10,L10,O10,R10) -> 1353 | D10: =SUM(G10,J10,M10,P10,S10) -> 1905 | E10: =SUM(F10:G10) -> 339 | F10: 154 | G10: 185 | H10: =SUM(I10:J10) -> 220 | I10: 64 | J10: 156 | K10: =SUM(L10:M10) -> 278 | L10: 92 | M10: 186 | N10: =SUM(O10:P10) -> 981 | O10: 421 | P10: 560 | Q10: =SUM(R10:S10) -> 1440 | R10: 622 | S10: 818
A11: 25∼29세 | B11: =SUM(C11:D11) -> 2882 | C11: =SUM(F11,I11,L11,O11,R11) -> 1625 | D11: =SUM(G11,J11,M11,P11,S11) -> 1257 | E11: =SUM(F11:G11) -> 335 | F11: 160 | G11: 175 | H11: =SUM(I11:J11) -> 281 | I11: 104 | J11: 177 | K11: =SUM(L11:M11) -> 190 | L11: 58 | M11: 132 | N11: =SUM(O11:P11) -> 736 | O11: 341 | P11: 395 | Q11: =SUM(R11:S11) -> 1340 | R11: 962 | S11: 378
A12: 30∼34세 | B12: =SUM(C12:D12) -> 1805 | C12: =SUM(F12,I12,L12,O12,R12) -> 1140 | D12: =SUM(G12,J12,M12,P12,S12) -> 665 | E12: =SUM(F12:G12) -> 128 | F12: 69 | G12: 59 | H12: =SUM(I12:J12) -> 143 | I12: 57 | J12: 86 | K12: =SUM(L12:M12) -> 94 | L12: 31 | M12: 63 | N12: =SUM(O12:P12) -> 397 | O12: 191 | P12: 206 | Q12: =SUM(R12:S12) -> 1043 | R12: 792 | S12: 251
A13: 35∼39세 | B13: =SUM(C13:D13) -> 1251 | C13: =SUM(F13,I13,L13,O13,R13) -> 793 | D13: =SUM(G13,J13,M13,P13,S13) -> 458 | E13: =SUM(F13:G13) -> 70 | F13: 32 | G13: 38 | H13: =SUM(I13:J13) -> 120 | I13: 47 | J13: 73 | K13: =SUM(L13:M13) -> 68 | L13: 20 | M13: 48 | N13: =SUM(O13:P13) -> 286 | O13: 150 | P13: 136 | Q13: =SUM(R13:S13) -> 707 | R13: 544 | S13: 163
A14: 40∼44세 | B14: =SUM(C14:D14) -> 860 | C14: =SUM(F14,I14,L14,O14,R14) -> 485 | D14: =SUM(G14,J14,M14,P14,S14) -> 375 | E14: =SUM(F14:G14) -> 53 | F14: 22 | G14: 31 | H14: =SUM(I14:J14) -> 87 | I14: 36 | J14: 51 | K14: =SUM(L14:M14) -> 68 | L14: 25 | M14: 43 | N14: =SUM(O14:P14) -> 213 | O14: 93 | P14: 120 | Q14: =SUM(R14:S14) -> 439 | R14: 309 | S14: 130
A15: 45∼49세 | B15: =SUM(C15:D15) -> 603 | C15: =SUM(F15,I15,L15,O15,R15) -> 216 | D15: =SUM(G15,J15,M15,P15,S15) -> 387 | E15: =SUM(F15:G15) -> 57 | F15: 20 | G15: 37 | H15: =SUM(I15:J15) -> 98 | I15: 29 | J15: 69 | K15: =SUM(L15:M15) -> 66 | L15: 16 | M15: 50 | N15: =SUM(O15:P15) -> 184 | O15: 57 | P15: 127 | Q15: =SUM(R15:S15) -> 198 | R15: 94 | S15: 104
A16: 50∼54세 | B16: =SUM(C16:D16) -> 450 | C16: =SUM(F16,I16,L16,O16,R16) -> 206 | D16: =SUM(G16,J16,M16,P16,S16) -> 244 | E16: =SUM(F16:G16) -> 46 | F16: 18 | G16: 28 | H16: =SUM(I16:J16) -> 77 | I16: 33 | J16: 44 | K16: =SUM(L16:M16) -> 47 | L16: 21 | M16: 26 | N16: =SUM(O16:P16) -> 149 | O16: 66 | P16: 83 | Q16: =SUM(R16:S16) -> 131 | R16: 68 | S16: 63
A17: 55∼59세 | B17: =SUM(C17:D17) -> 322 | C17: =SUM(F17,I17,L17,O17,R17) -> 152 | D17: =SUM(G17,J17,M17,P17,S17) -> 170 | E17: =SUM(F17:G17) -> 30 | F17: 13 | G17: 17 | H17: =SUM(I17:J17) -> 33 | I17: 12 | J17: 21 | K17: =SUM(L17:M17) -> 38 | L17: 17 | M17: 21 | N17: =SUM(O17:P17) -> 110 | O17: 58 | P17: 52 | Q17: =SUM(R17:S17) -> 111 | R17: 52 | S17: 59
... A26: 100이상 | B26: =SUM(C26:D26) -> 0 | C26: =SUM(F26,I26,L26,O26,R26) -> 0 | D26: =SUM(G26,J26,M26,P26,S26) -> 0 | E26: =SUM(F26:G26) -> 0 | F26: 0 | G26: 0 | H26: =SUM(I26:J26) -> 0 | I26: 0 | J26: 0 | K26: =SUM(L26:M26) -> 0 | L26: 0 | M26: 0 | N26: =SUM(O26:P26) -> 0 | O26: 0 | P26: 0 | Q26: =SUM(R26:S26) -> 0 | R26: 0 | S26: 0
A27: 65세이상 | B27: =SUM(B19:B26) -> 145 | C27: =SUM(C19:C26) -> 71 | D27: =SUM(D19:D26) -> 74 | E27: =SUM(E19:E26) -> 32 | F27: =SUM(F19:F26) -> 16 | G27: =SUM(G19:G26) -> 16 | H27: =SUM(H19:H26) -> 20 | I27: =SUM(I19:I26) -> 10 | ... S27: =SUM(S19:S26) -> 16
A28: 15-64세 | B28: =SUM(B9:B18) -> 11789 | C28: =SUM(C9:C18) -> 6149 | D28: =SUM(D9:D18) -> 5640 | E28: =SUM(E9:E18) -> 1093 | F28: =SUM(F9:F18) -> 511 | G28: =SUM(G9:G18) -> 582 | H28: =SUM(H9:H18) -> 1114 | I28: =SUM(I9:I18) -> 409 | ... S28: =SUM(S9:S18) -> 2012
A29: 14세이하 | B29: =SUM(B6:B8) -> 254 | C29: =SUM(C6:C8) -> 143 | D29: =SUM(D6:D8) -> 111 | E29: =SUM(E6:E8) -> 27 | F29: =SUM(F6:F8) -> 11 | G29: =SUM(G6:G8) -> 16 | H29: =SUM(H6:H8) -> 40 | I29: =SUM(I6:I8) -> 24 | ... S29: =SUM(S6:S8) -> 21

Sheet 2010년
A1: 5. 구별·연령별 외국인 현황
S2: 단위 : 명
A3: =[6]외국인!A3 -> 구 분 | B3: 합 계 | E3: 동 구 | H3: 서 구 | K3: 남 구 | N3: 북 구 | Q3: 광 산 구
B4: 계 | C4: 남 | D4: 여 | E4: =[6]외국인!B4 -> 계 | F4: =[6]외국인!C4 -> 남 | G4: =[6]외국인!D4 -> 여 | H4: =[7]외국인!B4 -> 계 | I4: =[7]외국인!C4 -> 남 | J4: =[7]외국인!D4 -> 여 | K4: =[8]외국인!B4 -> 계 | L4: =[8]외국인!C4 -> 남 | M4: =[8]외국인!D4 -> 여 | N4: ='[9]외국인 '!B4 -> 계 | O4: ='[9]외국인 '!C4 -> 남 | P4: ='[9]외국인 '!D4 -> 여 | Q4: ='[10]외국인 '!B4 -> 계 | R4: ='[10]외국인 '!C4 -> 남 | S4: ='[10]외국인 '!D4 -> 여
A5: 2010 | B5: =SUM(E5,H5,K5,N5,Q5) -> 13360 | C5: =SUM(F5,I5,L5,O5,R5) -> 7112 | D5: =SUM(G5,J5,M5,P5,S5) -> 6248 | E5: =[6]외국인!B5 -> 1034 | F5: =[6]외국인!C5 -> 484 | G5: =[6]외국인!D5 -> 550 | H5: =[7]외국인!B5 -> 1198 | I5: =[7]외국인!C5 -> 447 | J5: =[7]외국인!D5 -> 751 | K5: =[8]외국인!B5 -> 981 | L5: =[8]외국인!C5 -> 318 | M5: =[8]외국인!D5 -> 663 | N5: ='[9]외국인 '!B5 -> 3541 | O5: ='[9]외국인 '!C5 -> 1604 | P5: ='[9]외국인 '!D5 -> 1937 | Q5: ='[10]외국인 '!B5 -> 6606 | R5: ='[10]외국인 '!C5 -> 4259 | S5: ='[10]외국인 '!D5 -> 2347
A6: =[6]외국인!A6 -> 0∼ 4 세 | B6: =SUM(E6,H6,K6,N6,Q6) -> 91 | C6: =SUM(F6,I6,L6,O6,R6) -> 41 | D6: =SUM(G6,J6,M6,P6,S6) -> 50 | E6: =[6]외국인!B6 -> 11 | F6: =[6]외국인!C6 -> 2 | G6: =[6]외국인!D6 -> 9 | H6: =[7]외국인!B6 -> 11 | I6: =[7]외국인!C6 -> 8 | J6: =[7]외국인!D6 -> 3 | K6: =[8]외국인!B6 -> 11 | L6: =[8]외국인!C6 -> 7 | M6: =[8]외국인!D6 -> 4 | N6: ='[9]외국인 '!B6 -> 35 | O6: ='[9]외국인 '!C6 -> 12 | P6: ='[9]외국인 '!D6 -> 23 | Q6: ='[10]외국인 '!B6 -> 23 | R6: ='[10]외국인 '!C6 -> 12 | S6: ='[10]외국인 '!D6 -> 11
A7: =[6]외국인!A7 -> 5∼ 9 세 | B7: =SUM(E7,H7,K7,N7,Q7) -> 89 | C7: =SUM(F7,I7,L7,O7,R7) -> 48 | D7: =SUM(G7,J7,M7,P7,S7) -> 41 | E7: =[6]외국인!B7 -> 8 | F7: =[6]외국인!C7 -> 4 | G7: =[6]외국인!D7 -> 4 | H7: =[7]외국인!B7 -> 17 | I7: =[7]외국인!C7 -> 7 | J7: =[7]외국인!D7 -> 10 | K7: =[8]외국인!B7 -> 9 | L7: =[8]외국인!C7 -> 5 | M7: =[8]외국인!D7 -> 4 | N7: ='[9]외국인 '!B7 -> 35 | O7: ='[9]외국인 '!C7 -> 20 | P7: ='[9]외국인 '!D7 -> 15 | Q7: ='[10]외국인 '!B7 -> 20 | R7: ='[10]외국인 '!C7 -> 12 | S7: ='[10]외국인 '!D7 -> 8
A8: =[6]외국인!A8 -> 10∼14세 | B8: =SUM(E8,H8,K8,N8,Q8) -> 63 | C8: =SUM(F8,I8,L8,O8,R8) -> 37 | D8: =SUM(G8,J8,M8,P8,S8) -> 26 | E8: =[6]외국인!B8 -> 12 | F8: =[6]외국인!C8 -> 5 | G8: =[6]외국인!D8 -> 7 | H8: =[7]외국인!B8 -> 13 | I8: =[7]외국인!C8 -> 10 | J8: =[7]외국인!D8 -> 3 | K8: =[8]외국인!B8 -> 7 | L8: =[8]외국인!C8 -> 5 | M8: =[8]외국인!D8 -> 2 | N8: ='[9]외국인 '!B8 -> 21 | O8: ='[9]외국인 '!C8 -> 13 | P8: ='[9]외국인 '!D8 -> 8 | Q8: ='[10]외국인 '!B8 -> 10 | R8: ='[10]외국인 '!C8 -> 4 | S8: ='[10]외국인 '!D8 -> 6
A9: =[6]외국인!A9 -> 15∼19세 | B9: =SUM(E9,H9,K9,N9,Q9) -> 308 | C9: =SUM(F9,I9,L9,O9,R9) -> 113 | D9: =SUM(G9,J9,M9,P9,S9) -> 195 | E9: =[6]외국인!B9 -> 22 | F9: =[6]외국인!C9 -> 7 | G9: =[6]외국인!D9 -> 15 | H9: =[7]외국인!B9 -> 31 | I9: =[7]외국인!C9 -> 10 | J9: =[7]외국인!D9 -> 21 | K9: =[8]외국인!B9 -> 39 | L9: =[8]외국인!C9 -> 13 | M9: =[8]외국인!D9 -> 26 | N9: ='[9]외국인 '!B9 -> 123 | O9: ='[9]외국인 '!C9 -> 64 | P9: ='[9]외국인 '!D9 -> 59 | Q9: ='[10]외국인 '!B9 -> 93 | R9: ='[10]외국인 '!C9 -> 19 | S9: ='[10]외국인 '!D9 -> 74
A10: =[6]외국인!A10 -> 20∼24세 | B10: =SUM(E10,H10,K10,N10,Q10) -> 3888 | C10: =SUM(F10,I10,L10,O10,R10) -> 1655 | D10: =SUM(G10,J10,M10,P10,S10) -> 2233 | E10: =[6]외국인!B10 -> 339 | F10: =[6]외국인!C10 -> 153 | G10: =[6]외국인!D10 -> 186 | H10: =[7]외국인!B10 -> 268 | I10: =[7]외국인!C10 -> 75 | J10: =[7]외국인!D10 -> 193 | K10: =[8]외국인!B10 -> 341 | L10: =[8]외국인!C10 -> 100 | M10: =[8]외국인!D10 -> 241 | N10: ='[9]외국인 '!B10 -> 1167 | O10: ='[9]외국인 '!C10 -> 497 | P10: ='[9]외국인 '!D10 -> 670 | Q10: ='[10]외국인 '!B10 -> 1773 | R10: ='[10]외국인 '!C10 -> 830 | S10: ='[10]외국인 '!D10 -> 943
A11: =[6]외국인!A11 -> 25∼29세 | B11: =SUM(E11,H11,K11,N11,Q11) -> 3018 | C11: =SUM(F11,I11,L11,O11,R11) -> 1795 | D11: =SUM(G11,J11,M11,P11,S11) -> 1223 | E11: =[6]외국인!B11 -> 253 | F11: =[6]외국인!C11 -> 121 | G11: =[6]외국인!D11 -> 132 | H11: =[7]외국인!B11 -> 253 | I11: =[7]외국인!C11 -> 97 | J11: =[7]외국인!D11 -> 156 | K11: =[8]외국인!B11 -> 167 | L11: =[8]외국인!C11 -> 46 | M11: =[8]외국인!D11 -> 121 | N11: ='[9]외국인 '!B11 -> 768 | O11: ='[9]외국인 '!C11 -> 357 | P11: ='[9]외국인 '!D11 -> 411 | Q11: ='[10]외국인 '!B11 -> 1577 | R11: ='[10]외국인 '!C11 -> 1174 | S11: ='[10]외국인 '!D11 -> 403
A12: =[6]외국인!A12 -> 30∼34세 | B12: =SUM(E12,H12,K12,N12,Q12) -> 1940 | C12: =SUM(F12,I12,L12,O12,R12) -> 1280 | D12: =SUM(G12,J12,M12,P12,S12) -> 660 | E12: =[6]외국인!B12 -> 121 | F12: =[6]외국인!C12 -> 65 | G12: =[6]외국인!D12 -> 56 | H12: =[7]외국인!B12 -> 128 | I12: =[7]외국인!C12 -> 54 | J12: =[7]외국인!D12 -> 74 | K12: =[8]외국인!B12 -> 96 | L12: =[8]외국인!C12 -> 29 | M12: =[8]외국인!D12 -> 67 | N12: ='[9]외국인 '!B12 -> 388 | O12: ='[9]외국인 '!C12 -> 191 | P12: ='[9]외국인 '!D12 -> 197 | Q12: ='[10]외국인 '!B12 -> 1207 | R12: ='[10]외국인 '!C12 -> 941 | S12: ='[10]외국인 '!D12 -> 266
A13: =[6]외국인!A13 -> 35∼39세 | B13: =SUM(E13,H13,K13,N13,Q13) -> 1294 | C13: =SUM(F13,I13,L13,O13,R13) -> 864 | D13: =SUM(G13,J13,M13,P13,S13) -> 430 | E13: =[6]외국인!B13 -> 54 | F13: =[6]외국인!C13 -> 27 | G13: =[6]외국인!D13 -> 27 | H13: =[7]외국인!B13 -> 121 | I13: =[7]외국인!C13 -> 49 | J13: =[7]외국인!D13 -> 72 | K13: =[8]외국인!B13 -> 66 | L13: =[8]외국인!C13 -> 17 | M13: =[8]외국인!D13 -> 49 | N13: ='[9]외국인 '!B13 -> 281 | O13: ='[9]외국인 '!C13 -> 154 | P13: ='[9]외국인 '!D13 -> 127 | Q13: ='[10]외국인 '!B13 -> 772 | R13: ='[10]외국인 '!C13 -> 617 | S13: ='[10]외국인 '!D13 -> 155
A14: =[6]외국인!A14 -> 40∼44세 | B14: =SUM(E14,H14,K14,N14,Q14) -> 899 | C14: =SUM(F14,I14,L14,O14,R14) -> 490 | D14: =SUM(G14,J14,M14,P14,S14) -> 409 | E14: =[6]외국인!B14 -> 51 | F14: =[6]외국인!C14 -> 26 | G14: =[6]외국인!D14 -> 25 | H14: =[7]외국인!B14 -> 100 | I14: =[7]외국인!C14 -> 40 | J14: =[7]외국인!D14 -> 60 | K14: =[8]외국인!B14 -> 60 | L14: =[8]외국인!C14 -> 20 | M14: =[8]외국인!D14 -> 40 | N14: ='[9]외국인 '!B14 -> 193 | O14: ='[9]외국인 '!C14 -> 75 | P14: ='[9]외국인 '!D14 -> 118 | Q14: ='[10]외국인 '!B14 -> 495 | R14: ='[10]외국인 '!C14 -> 329 | S14: ='[10]외국인 '!D14 -> 166
A15: =[6]외국인!A15 -> 45∼49세 | B15: =SUM(E15,H15,K15,N15,Q15) -> 667 | C15: =SUM(F15,I15,L15,O15,R15) -> 245 | D15: =SUM(G15,J15,M15,P15,S15) -> 422 | E15: =[6]외국인!B15 -> 53 | F15: =[6]외국인!C15 -> 17 | G15: =[6]외국인!D15 -> 36 | H15: =[7]외국인!B15 -> 99 | I15: =[7]외국인!C15 -> 32 | J15: =[7]외국인!D15 -> 67 | K15: =[8]외국인!B15 -> 67 | L15: =[8]외국인!C15 -> 19 | M15: =[8]외국인!D15 -> 48 | N15: ='[9]외국인 '!B15 -> 196 | O15: ='[9]외국인 '!C15 -> 61 | P15: ='[9]외국인 '!D15 -> 135 | Q15: ='[10]외국인 '!B15 -> 252 | R15: ='[10]외국인 '!C15 -> 116 | S15: ='[10]외국인 '!D15 -> 136
A16: =[6]외국인!A16 -> 50∼54세 | B16: =SUM(E16,H16,K16,N16,Q16) -> 470 | C16: =SUM(F16,I16,L16,O16,R16) -> 222 | D16: =SUM(G16,J16,M16,P16,S16) -> 248 | E16: =[6]외국인!B16 -> 46 | F16: =[6]외국인!C16 -> 20 | G16: =[6]외국인!D16 -> 26 | H16: =[7]외국인!B16 -> 74 | I16: =[7]외국인!C16 -> 31 | J16: =[7]외국인!D16 -> 43 | K16: =[8]외국인!B16 -> 48 | L16: =[8]외국인!C16 -> 22 | M16: =[8]외국인!D16 -> 26 | N16: ='[9]외국인 '!B16 -> 132 | O16: ='[9]외국인 '!C16 -> 60 | P16: ='[9]외국인 '!D16 -> 72 | Q16: ='[10]외국인 '!B16 -> 170 | R16: ='[10]외국인 '!C16 -> 89 | S16: ='[10]외국인 '!D16 -> 81
A17: =[6]외국인!A17 -> 55∼59세 | B17: =SUM(E17,H17,K17,N17,Q17) -> 335 | C17: =SUM(F17,I17,L17,O17,R17) -> 161 | D17: =SUM(G17,J17,M17,P17,S17) -> 174 | E17: =[6]외국인!B17 -> 23 | F17: =[6]외국인!C17 -> 12 | G17: =[6]외국인!D17 -> 11 | H17: =[7]외국인!B17 -> 42 | I17: =[7]외국인!C17 -> 14 | J17: =[7]외국인!D17 -> 28 | K17: =[8]외국인!B17 -> 40 | L17: =[8]외국인!C17 -> 19 | M17: =[8]외국인!D17 -> 21 | N17: ='[9]외국인 '!B17 -> 102 | O17: ='[9]외국인 '!C17 -> 50 | P17: ='[9]외국인 '!D17 -> 52 | Q17: ='[10]외국인 '!B17 -> 128 | R17: ='[10]외국인 '!C17 -> 66 | S17: ='[10]외국인 '!D17 -> 62
... A26: =[6]외국인!A26 -> 100이상 | B26: =SUM(E26,H26,K26,N26,Q26) -> 0 | C26: =SUM(F26,I26,L26,O26,R26) -> 0 | D26: =SUM(G26,J26,M26,P26,S26) -> 0 | E26: =[6]외국인!B26 -> 0 | F26: =[6]외국인!C26 -> 0 | G26: =[6]외국인!D26 -> 0 | H26: =[7]외국인!B26 -> 0 | I26: =[7]외국인!C26 -> 0 | J26: =[7]외국인!D26 -> 0 | K26: =[8]외국인!B26 -> 0 | L26: =[8]외국인!C26 -> 0 | M26: =[8]외국인!D26 -> 0 | N26: ='[9]외국인 '!B26 -> 0 | O26: ='[9]외국인 '!C26 -> 0 | P26: ='[9]외국인 '!D26 -> 0 | Q26: ='[10]외국인 '!B26 -> 0 | R26: ='[10]외국인 '!C26 -> 0 | S26: ='[10]외국인 '!D26 -> 0
A27: 65세이상 | B27: =SUM(B19:B26) -> 105 | C27: =SUM(C19:C26) -> 53 | D27: =SUM(D19:D26) -> 52 | E27: =SUM(E19:E26) -> 25 | F27: =SUM(F19:F26) -> 14 | G27: =SUM(G19:G26) -> 11 | H27: =SUM(H19:H26) -> 12 | I27: =SUM(I19:I26) -> 5 | ... S27: =SUM(S19:S26) -> 11
A28: 15-64세 | B28: =SUM(B9:B18) -> 13012 | C28: =SUM(C9:C18) -> 6933 | D28: =SUM(D9:D18) -> 6079 | E28: =SUM(E9:E18) -> 978 | F28: =SUM(F9:F18) -> 459 | G28: =SUM(G9:G18) -> 519 | H28: =SUM(H9:H18) -> 1145 | I28: =SUM(I9:I18) -> 417 | ... S28: =SUM(S9:S18) -> 2311
A29: 14세이하 | B29: =SUM(B6:B8) -> 243 | C29: =SUM(C6:C8) -> 126 | D29: =SUM(D6:D8) -> 117 | E29: =SUM(E6:E8) -> 31 | F29: =SUM(F6:F8) -> 11 | G29: =SUM(G6:G8) -> 20 | H29: =SUM(H6:H8) -> 41 | I29: =SUM(I6:I8) -> 25 | ... S29: =SUM(S6:S8) -> 25

Sheet 2011년
A1: 5. 구별·연령별 외국인 현황
S2: 단위 : 명
A3: =[6]외국인!A3 -> 구 분 | B3: 합 계 | E3: 동 구 | H3: 서 구 | K3: 남 구 | N3: 북 구 | Q3: 광 산 구
B4: 계 | C4: 남 | D4: 여 | E4: =[6]외국인!B4 -> 계 | F4: =[6]외국인!C4 -> 남 | G4: =[6]외국인!D4 -> 여 | H4: =[7]외국인!B4 -> 계 | I4: =[7]외국인!C4 -> 남 | J4: =[7]외국인!D4 -> 여 | K4: =[8]외국인!B4 -> 계 | L4: =[8]외국인!C4 -> 남 | M4: =[8]외국인!D4 -> 여 | N4: ='[9]외국인 '!B4 -> 계 | O4: ='[9]외국인 '!C4 -> 남 | P4: ='[9]외국인 '!D4 -> 여 | Q4: ='[10]외국인 '!B4 -> 계 | R4: ='[10]외국인 '!C4 -> 남 | S4: ='[10]외국인 '!D4 -> 여
A5: 2011 | B5: =SUM(E5,H5,K5,N5,Q5) -> 14106 | C5: =SUM(F5,I5,L5,O5,R5) -> 7488 | D5: =SUM(G5,J5,M5,P5,S5) -> 6618 | E5: =SUM(F5:G5) -> 1064 | F5: =SUM(F6:F26) -> 496 | G5: =SUM(G6:G26) -> 568 | H5: =SUM(H6:H26) -> 1394 | I5: =SUM(I6:I26) -> 561 | J5: =SUM(J6:J26) -> 833 | K5: =SUM(K6:K26) -> 1062 | L5: =SUM(L6:L26) -> 357 | M5: =SUM(M6:M26) -> 705 | ... S5: =SUM(S6:S26) -> 2479
A6: =[6]외국인!A6 -> 0∼ 4 세 | B6: =SUM(E6,H6,K6,N6,Q6) -> 97 | C6: =SUM(F6,I6,L6,O6,R6) -> 44 | D6: =SUM(G6,J6,M6,P6,S6) -> 53 | E6: =SUM(F6:G6) -> 8 | F6: 2 | G6: 6 | H6: =SUM(I6:J6) -> 9 | I6: 6 | J6: 3 | K6: =SUM(L6:M6) -> 9 | L6: 5 | M6: 4 | N6: =SUM(O6:P6) -> 49 | O6: 19 | P6: 30 | Q6: 22 | R6: 12 | S6: 10
A7: =[6]외국인!A7 -> 5∼ 9 세 | B7: =SUM(E7,H7,K7,N7,Q7) -> 77 | C7: =SUM(F7,I7,L7,O7,R7) -> 45 | D7: =SUM(G7,J7,M7,P7,S7) -> 32 | E7: =SUM(F7:G7) -> 6 | F7: 3 | G7: 3 | H7: =SUM(I7:J7) -> 13 | I7: 9 | J7: 4 | K7: =SUM(L7:M7) -> 7 | L7: 5 | M7: 2 | N7: =SUM(O7:P7) -> 26 | O7: 12 | P7: 14 | Q7: 25 | R7: 16 | S7: 9
A8: =[6]외국인!A8 -> 10∼14세 | B8: =SUM(E8,H8,K8,N8,Q8) -> 54 | C8: =SUM(F8,I8,L8,O8,R8) -> 30 | D8: =SUM(G8,J8,M8,P8,S8) -> 24 | E8: =SUM(F8:G8) -> 8 | F8: 4 | G8: 4 | H8: =SUM(I8:J8) -> 8 | I8: 5 | J8: 3 | K8: =SUM(L8:M8) -> 8 | L8: 4 | M8: 4 | N8: =SUM(O8:P8) -> 15 | O8: 10 | P8: 5 | Q8: 15 | R8: 7 | S8: 8
A9: =[6]외국인!A9 -> 15∼19세 | B9: =SUM(E9,H9,K9,N9,Q9) -> 437 | C9: =SUM(F9,I9,L9,O9,R9) -> 251 | D9: =SUM(G9,J9,M9,P9,S9) -> 186 | E9: =SUM(F9:G9) -> 22 | F9: 3 | G9: 19 | H9: =SUM(I9:J9) -> 35 | I9: 14 | J9: 21 | K9: =SUM(L9:M9) -> 44 | L9: 22 | M9: 22 | N9: =SUM(O9:P9) -> 127 | O9: 64 | P9: 63 | Q9: 209 | R9: 148 | S9: 61
A10: =[6]외국인!A10 -> 20∼24세 | B10: =SUM(E10,H10,K10,N10,Q10) -> 3777 | C10: =SUM(F10,I10,L10,O10,R10) -> 1664 | D10: =SUM(G10,J10,M10,P10,S10) -> 2113 | E10: =SUM(F10:G10) -> 266 | F10: 108 | G10: 158 | H10: =SUM(I10:J10) -> 270 | I10: 69 | J10: 201 | K10: =SUM(L10:M10) -> 312 | L10: 93 | M10: 219 | N10: =SUM(O10:P10) -> 1174 | O10: 486 | P10: 688 | Q10: 1755 | R10: 908 | S10: 847
A11: =[6]외국인!A11 -> 25∼29세 | B11: =SUM(E11,H11,K11,N11,Q11) -> 3291 | C11: =SUM(F11,I11,L11,O11,R11) -> 1902 | D11: =SUM(G11,J11,M11,P11,S11) -> 1389 | E11: =SUM(F11:G11) -> 308 | F11: 152 | G11: 156 | H11: =SUM(I11:J11) -> 324 | I11: 151 | J11: 173 | K11: =SUM(L11:M11) -> 217 | L11: 69 | M11: 148 | N11: =SUM(O11:P11) -> 852 | O11: 401 | P11: 451 | Q11: 1590 | R11: 1129 | S11: 461
A12: =[6]외국인!A12 -> 30∼34세 | B12: =SUM(E12,H12,K12,N12,Q12) -> 2015 | C12: =SUM(F12,I12,L12,O12,R12) -> 1291 | D12: =SUM(G12,J12,M12,P12,S12) -> 724 | E12: =SUM(F12:G12) -> 141 | F12: 78 | G12: 63 | H12: =SUM(I12:J12) -> 173 | I12: 76 | J12: 97 | K12: =SUM(L12:M12) -> 101 | L12: 34 | M12: 67 | N12: =SUM(O12:P12) -> 409 | O12: 207 | P12: 202 | Q12: 1191 | R12: 896 | S12: 295
A13: =[6]외국인!A13 -> 35∼39세 | B13: =SUM(E13,H13,K13,N13,Q13) -> 1289 | C13: =SUM(F13,I13,L13,O13,R13) -> 820 | D13: =SUM(G13,J13,M13,P13,S13) -> 469 | E13: =SUM(F13:G13) -> 59 | F13: 35 | G13: 24 | H13: =SUM(I13:J13) -> 125 | I13: 60 | J13: 65 | K13: =SUM(L13:M13) -> 73 | L13: 22 | M13: 51 | N13: =SUM(O13:P13) -> 277 | O13: 129 | P13: 148 | Q13: 755 | R13: 574 | S13: 181
A14: =[6]외국인!A14 -> 40∼44세 | B14: =SUM(E14,H14,K14,N14,Q14) -> 918 | C14: =SUM(F14,I14,L14,O14,R14) -> 493 | D14: =SUM(G14,J14,M14,P14,S14) -> 425 | E14: =SUM(F14:G14) -> 51 | F14: 21 | G14: 30 | H14: =SUM(I14:J14) -> 121 | I14: 41 | J14: 80 | K14: =SUM(L14:M14) -> 61 | L14: 23 | M14: 38 | N14: =SUM(O14:P14) -> 207 | O14: 102 | P14: 105 | Q14: 478 | R14: 306 | S14: 172
A15: =[6]외국인!A15 -> 45∼49세 | B15: =SUM(E15,H15,K15,N15,Q15) -> 829 | C15: =SUM(F15,I15,L15,O15,R15) -> 331 | D15: =SUM(G15,J15,M15,P15,S15) -> 498 | E15: =SUM(F15:G15) -> 67 | F15: 28 | G15: 39 | H15: =SUM(I15:J15) -> 114 | I15: 40 | J15: 74 | K15: =SUM(L15:M15) -> 92 | L15: 23 | M15: 69 | N15: =SUM(O15:P15) -> 226 | O15: 87 | P15: 139 | Q15: 330 | R15: 153 | S15: 177
A16: =[6]외국인!A16 -> 50∼54세 | B16: =SUM(E16,H16,K16,N16,Q16) -> 575 | C16: =SUM(F16,I16,L16,O16,R16) -> 265 | D16: =SUM(G16,J16,M16,P16,S16) -> 310 | E16: =SUM(F16:G16) -> 56 | F16: 26 | G16: 30 | H16: =SUM(I16:J16) -> 90 | I16: 37 | J16: 53 | K16: =SUM(L16:M16) -> 62 | L16: 23 | M16: 39 | N16: =SUM(O16:P16) -> 149 | O16: 71 | P16: 78 | Q16: 218 | R16: 108 | S16: 110
A17: =[6]외국인!A17 -> 55∼59세 | B17: =SUM(E17,H17,K17,N17,Q17) -> 399 | C17: =SUM(F17,I17,L17,O17,R17) -> 172 | D17: =SUM(G17,J17,M17,P17,S17) -> 227 | E17: =SUM(F17:G17) -> 31 | F17: 15 | G17: 16 | H17: =SUM(I17:J17) -> 66 | I17: 26 | J17: 40 | K17: =SUM(L17:M17) -> 43 | L17: 16 | M17: 27 | N17: =SUM(O17:P17) -> 100 | O17: 44 | P17: 56 | Q17: 159 | R17: 71 | S17: 88
... A26: =[6]외국인!A26 -> 100이상 | B26: =SUM(E26,H26,K26,N26,Q26) -> 0 | C26: =SUM(F26,I26,L26,O26,R26) -> 0 | D26: =SUM(G26,J26,M26,P26,S26) -> 0 | E26: =SUM(F26:G26) -> 0 | F26: 0 | G26: 0 | H26: =SUM(I26:J26) -> 0 | I26: 0 | J26: 0 | K26: =SUM(L26:M26) -> 0 | L26: 0 | M26: 0 | N26: =SUM(O26:P26) -> 0 | O26: 0 | P26: 0 | Q26: 0 | R26: 0 | S26: 0
A27: 65세이상 | B27: =SUM(B19:B26) -> 138 | C27: =SUM(C19:C26) -> 72 | D27: =SUM(D19:D26) -> 66 | E27: =SUM(E19:E26) -> 27 | F27: =SUM(F19:F26) -> 12 | G27: =SUM(G19:G26) -> 15 | H27: =SUM(H19:H26) -> 13 | I27: =SUM(I19:I26) -> 8 | ... S27: =SUM(S19:S26) -> 19
A28: 15-64세 | B28: =SUM(B9:B18) -> 13740 | C28: =SUM(C9:C18) -> 7297 | D28: =SUM(D9:D18) -> 6443 | E28: =SUM(E9:E18) -> 1015 | F28: =SUM(F9:F18) -> 475 | G28: =SUM(G9:G18) -> 540 | H28: =SUM(H9:H18) -> 1351 | I28: =SUM(I9:I18) -> 533 | ... S28: =SUM(S9:S18) -> 2433
A29: 14세이하 | B29: =SUM(B6:B8) -> 228 | C29: =SUM(C6:C8) -> 119 | D29: =SUM(D6:D8) -> 109 | E29: =SUM(E6:E8) -> 22 | F29: =SUM(F6:F8) -> 9 | G29: =SUM(G6:G8) -> 13 | H29: =SUM(H6:H8) -> 30 | I29: =SUM(I6:I8) -> 20 | ... S29: =SUM(S6:S8) -> 27

Sheet 2012년
A1: 5. 구별·연령별 외국인 현황
S2: 단위 : 명
A3: =[6]외국인!A3 -> 구 분 | B3: 합 계 | E3: 동 구 | H3: 서 구 | K3: 남 구 | N3: 북 구 | Q3: 광 산 구
B4: 계 | C4: 남 | D4: 여 | E4: =[6]외국인!B4 -> 계 | F4: =[6]외국인!C4 -> 남 | G4: =[6]외국인!D4 -> 여 | H4: =[7]외국인!B4 -> 계 | I4: =[7]외국인!C4 -> 남 | J4: =[7]외국인!D4 -> 여 | K4: =[8]외국인!B4 -> 계 | L4: =[8]외국인!C4 -> 남 | M4: =[8]외국인!D4 -> 여 | N4: ='[9]외국인 '!B4 -> 계 | O4: ='[9]외국인 '!C4 -> 남 | P4: ='[9]외국인 '!D4 -> 여 | Q4: ='[10]외국인 '!B4 -> 계 | R4: ='[10]외국인 '!C4 -> 남 | S4: ='[10]외국인 '!D4 -> 여
A5: 2012 | B5: =SUM(E5,H5,K5,N5,Q5) -> 14492 | C5: =SUM(F5,I5,L5,O5,R5) -> 7589 | D5: =SUM(G5,J5,M5,P5,S5) -> 6903 | E5: =SUM(F5:G5) -> 1078 | F5: =SUM(F6:F26) -> 499 | G5: =SUM(G6:G26) -> 579 | H5: =SUM(H6:H26) -> 1378 | I5: =SUM(I6:I26) -> 532 | J5: =SUM(J6:J26) -> 846 | K5: =SUM(K6:K26) -> 1072 | L5: =SUM(L6:L26) -> 347 | M5: =SUM(M6:M26) -> 725 | ... S5: =SUM(S6:S26) -> 2620
A6: 0∼ 4 세 | B6: =SUM(E6,H6,K6,N6,Q6) -> 116 | C6: =SUM(F6,I6,L6,O6,R6) -> 56 | D6: =SUM(G6,J6,M6,P6,S6) -> 60 | E6: 9 | F6: 3 | G6: 6 | H6: 11 | I6: 5 | J6: 6 | K6: 8 | L6: 6 | M6: 2 | N6: 59 | O6: 27 | P6: 32 | Q6: 29 | R6: 15 | S6: 14
A7: 5∼ 9 세 | B7: =SUM(E7,H7,K7,N7,Q7) -> 66 | C7: =SUM(F7,I7,L7,O7,R7) -> 41 | D7: =SUM(G7,J7,M7,P7,S7) -> 25 | E7: 3 | F7: 0 | G7: 3 | H7: 7 | I7: 6 | J7: 1 | K7: 6 | L7: 5 | M7: 1 | N7: 24 | O7: 15 | P7: 9 | Q7: 26 | R7: 15 | S7: 11
A8: 10∼14세 | B8: =SUM(E8,H8,K8,N8,Q8) -> 48 | C8: =SUM(F8,I8,L8,O8,R8) -> 26 | D8: =SUM(G8,J8,M8,P8,S8) -> 22 | E8: 8 | F8: 5 | G8: 3 | H8: 5 | I8: 3 | J8: 2 | K8: 3 | L8: 3 | M8: 0 | N8: 16 | O8: 6 | P8: 10 | Q8: 16 | R8: 9 | S8: 7
A9: 15∼19세 | B9: =SUM(E9,H9,K9,N9,Q9) -> 430 | C9: =SUM(F9,I9,L9,O9,R9) -> 197 | D9: =SUM(G9,J9,M9,P9,S9) -> 233 | E9: 31 | F9: 12 | G9: 19 | H9: 36 | I9: 15 | J9: 21 | K9: 64 | L9: 28 | M9: 36 | N9: 149 | O9: 84 | P9: 65 | Q9: 150 | R9: 58 | S9: 92
A10: 20∼24세 | B10: =SUM(E10,H10,K10,N10,Q10) -> 3525 | C10: =SUM(F10,I10,L10,O10,R10) -> 1516 | D10: =SUM(G10,J10,M10,P10,S10) -> 2009 | E10: 272 | F10: 103 | G10: 169 | H10: 261 | I10: 63 | J10: 198 | K10: 322 | L10: 94 | M10: 228 | N10: 1075 | O10: 437 | P10: 638 | Q10: 1595 | R10: 819 | S10: 776
A11: 25∼29세 | B11: =SUM(E11,H11,K11,N11,Q11) -> 3484 | C11: =SUM(F11,I11,L11,O11,R11) -> 1951 | D11: =SUM(G11,J11,M11,P11,S11) -> 1533 | E11: 291 | F11: 144 | G11: 147 | H11: 322 | I11: 139 | J11: 183 | K11: 209 | L11: 64 | M11: 145 | N11: 1011 | O11: 475 | P11: 536 | Q11: 1651 | R11: 1129 | S11: 522
A12: 30∼34세 | B12: =SUM(E12,H12,K12,N12,Q12) -> 2224 | C12: =SUM(F12,I12,L12,O12,R12) -> 1403 | D12: =SUM(G12,J12,M12,P12,S12) -> 821 | E12: 152 | F12: 84 | G12: 68 | H12: 185 | I12: 79 | J12: 106 | K12: 100 | L12: 30 | M12: 70 | N12: 474 | O12: 233 | P12: 241 | Q12: 1313 | R12: 977 | S12: 336
A13: 35∼39세 | B13: =SUM(E13,H13,K13,N13,Q13) -> 1416 | C13: =SUM(F13,I13,L13,O13,R13) -> 940 | D13: =SUM(G13,J13,M13,P13,S13) -> 476 | E13: 66 | F13: 35 | G13: 31 | H13: 120 | I13: 51 | J13: 69 | K13: 67 | L13: 24 | M13: 43 | N13: 274 | O13: 144 | P13: 130 | Q13: 889 | R13: 686 | S13: 203
A14: 40∼44세 | B14: =SUM(E14,H14,K14,N14,Q14) -> 942 | C14: =SUM(F14,I14,L14,O14,R14) -> 519 | D14: =SUM(G14,J14,M14,P14,S14) -> 423 | E14: 54 | F14: 29 | G14: 25 | H14: 120 | I14: 51 | J14: 69 | K14: 65 | L14: 19 | M14: 46 | N14: 190 | O14: 93 | P14: 97 | Q14: 513 | R14: 327 | S14: 186
A15: 45∼49세 | B15: =SUM(E15,H15,K15,N15,Q15) -> 830 | C15: =SUM(F15,I15,L15,O15,R15) -> 296 | D15: =SUM(G15,J15,M15,P15,S15) -> 534 | E15: 65 | F15: 25 | G15: 40 | H15: 114 | I15: 33 | J15: 81 | K15: 90 | L15: 22 | M15: 68 | N15: 230 | O15: 73 | P15: 157 | Q15: 331 | R15: 143 | S15: 188
A16: 50∼54세 | B16: =SUM(E16,H16,K16,N16,Q16) -> 628 | C16: =SUM(F16,I16,L16,O16,R16) -> 261 | D16: =SUM(G16,J16,M16,P16,S16) -> 367 | E16: 55 | F16: 24 | G16: 31 | H16: 91 | I16: 39 | J16: 52 | K16: 65 | L16: 22 | M16: 43 | N16: 166 | O16: 68 | P16: 98 | Q16: 251 | R16: 108 | S16: 143
A17: 55∼59세 | B17: =SUM(E17,H17,K17,N17,Q17) -> 423 | C17: =SUM(F17,I17,L17,O17,R17) -> 198 | D17: =SUM(G17,J17,M17,P17,S17) -> 225 | E17: 29 | F17: 13 | G17: 16 | H17: 58 | I17: 22 | J17: 36 | K17: 31 | L17: 10 | M17: 21 | N17: 124 | O17: 58 | P17: 66 | Q17: 181 | R17: 95 | S17: 86
... A26: 100이상 | B26: =SUM(E26,H26,K26,N26,Q26) -> 0 | C26: =SUM(F26,I26,L26,O26,R26) -> 0 | D26: =SUM(G26,J26,M26,P26,S26) -> 0 | E26: 0 | F26: 0 | G26: 0 | H26: 0 | I26: 0 | J26: 0 | K26: 0 | L26: 0 | M26: 0 | N26: 0 | O26: 0 | P26: 0 | Q26: 0 | R26: 0 | S26: 0

Sheet 2013년
A1: 5. 구별·연령별 외국인 현황
S2: 단위 : 명
A3: =[6]외국인!A3 -> 구 분 | B3: 합 계 | E3: 동 구 | H3: 서 구 | K3: 남 구 | N3: 북 구 | Q3: 광 산 구
B4: 계 | C4: 남 | D4: 여 | E4: =[6]외국인!B4 -> 계 | F4: =[6]외국인!C4 -> 남 | G4: =[6]외국인!D4 -> 여 | H4: =[7]외국인!B4 -> 계 | I4: =[7]외국인!C4 -> 남 | J4: =[7]외국인!D4 -> 여 | K4: =[8]외국인!B4 -> 계 | L4: =[8]외국인!C4 -> 남 | M4: =[8]외국인!D4 -> 여 | N4: ='[9]외국인 '!B4 -> 계 | O4: ='[9]외국인 '!C4 -> 남 | P4: ='[9]외국인 '!D4 -> 여 | Q4: ='[10]외국인 '!B4 -> 계 | R4: ='[10]외국인 '!C4 -> 남 | S4: ='[10]외국인 '!D4 -> 여
A5: 2013 | B5: =SUM(E5,H5,K5,N5,Q5) -> 15557 | C5: =SUM(F5,I5,L5,O5,R5) -> 8237 | D5: =SUM(G5,J5,M5,P5,S5) -> 7320 | E5: =SUM(F5:G5) -> 1016 | F5: =SUM(F6:F26) -> 500 | G5: =SUM(G6:G26) -> 516 | H5: =SUM(H6:H26) -> 1449 | I5: =SUM(I6:I26) -> 601 | J5: =SUM(J6:J26) -> 848 | K5: =SUM(K6:K26) -> 1191 | L5: =SUM(L6:L26) -> 417 | M5: =SUM(M6:M26) -> 774 | ... S5: =SUM(S6:S26) -> 2867
A6: 0∼ 4 세 | B6: =SUM(E6,H6,K6,N6,Q6) -> 168 | C6: =SUM(F6,I6,L6,O6,R6) -> 88 | D6: =SUM(G6,J6,M6,P6,S6) -> 80 | E6: 8 | F6: 6 | G6: 2 | H6: 12 | I6: 7 | J6: 5 | K6: 10 | L6: 6 | M6: 4 | N6: 86 | O6: 39 | P6: 47 | Q6: 52 | R6: 30 | S6: 22
A7: 5∼ 9 세 | B7: =SUM(E7,H7,K7,N7,Q7) -> 77 | C7: =SUM(F7,I7,L7,O7,R7) -> 40 | D7: =SUM(G7,J7,M7,P7,S7) -> 37 | E7: 1 | F7: 0 | G7: 1 | H7: 7 | I7: 5 | J7: 2 | K7: 9 | L7: 6 | M7: 3 | N7: 31 | O7: 16 | P7: 15 | Q7: 29 | R7: 13 | S7: 16
A8: 10∼14세 | B8: =SUM(E8,H8,K8,N8,Q8) -> 66 | C8: =SUM(F8,I8,L8,O8,R8) -> 36 | D8: =SUM(G8,J8,M8,P8,S8) -> 30 | E8: 8 | F8: 5 | G8: 3 | H8: 5 | I8: 4 | J8: 1 | K8: 9 | L8: 6 | M8: 3 | N8: 18 | O8: 6 | P8: 12 | Q8: 26 | R8: 15 | S8: 11
A9: 15∼19세 | B9: =SUM(E9,H9,K9,N9,Q9) -> 525 | C9: =SUM(F9,I9,L9,O9,R9) -> 231 | D9: =SUM(G9,J9,M9,P9,S9) -> 294 | E9: 36 | F9: 14 | G9: 22 | H9: 30 | I9: 7 | J9: 23 | K9: 71 | L9: 38 | M9: 33 | N9: 153 | O9: 70 | P9: 83 | Q9: 235 | R9: 102 | S9: 133
A10: 20∼24세 | B10: =SUM(E10,H10,K10,N10,Q10) -> 3550 | C10: =SUM(F10,I10,L10,O10,R10) -> 1610 | D10: =SUM(G10,J10,M10,P10,S10) -> 1940 | E10: 224 | F10: 94 | G10: 130 | H10: 252 | I10: 80 | J10: 172 | K10: 355 | L10: 117 | M10: 238 | N10: 1099 | O10: 454 | P10: 645 | Q10: 1620 | R10: 865 | S10: 755
A11: 25∼29세 | B11: =SUM(E11,H11,K11,N11,Q11) -> 3808 | C11: =SUM(F11,I11,L11,O11,R11) -> 2134 | D11: =SUM(G11,J11,M11,P11,S11) -> 1674 | E11: 281 | F11: 140 | G11: 141 | H11: 363 | I11: 168 | J11: 195 | K11: 228 | L11: 64 | M11: 164 | N11: 1105 | O11: 522 | P11: 583 | Q11: 1831 | R11: 1240 | S11: 591
A12: 30∼34세 | B12: =SUM(E12,H12,K12,N12,Q12) -> 2360 | C12: =SUM(F12,I12,L12,O12,R12) -> 1518 | D12: =SUM(G12,J12,M12,P12,S12) -> 842 | E12: 124 | F12: 72 | G12: 52 | H12: 216 | I12: 102 | J12: 114 | K12: 114 | L12: 42 | M12: 72 | N12: 530 | O12: 268 | P12: 262 | Q12: 1376 | R12: 1034 | S12: 342
A13: 35∼39세 | B13: =SUM(E13,H13,K13,N13,Q13) -> 1510 | C13: =SUM(F13,I13,L13,O13,R13) -> 983 | D13: =SUM(G13,J13,M13,P13,S13) -> 527 | E13: 62 | F13: 32 | G13: 30 | H13: 136 | I13: 67 | J13: 69 | K13: 78 | L13: 32 | M13: 46 | N13: 266 | O13: 121 | P13: 145 | Q13: 968 | R13: 731 | S13: 237
A14: 40∼44세 | B14: =SUM(E14,H14,K14,N14,Q14) -> 1074 | C14: =SUM(F14,I14,L14,O14,R14) -> 615 | D14: =SUM(G14,J14,M14,P14,S14) -> 459 | E14: 62 | F14: 37 | G14: 25 | H14: 104 | I14: 44 | J14: 60 | K14: 72 | L14: 30 | M14: 42 | N14: 214 | O14: 103 | P14: 111 | Q14: 622 | R14: 401 | S14: 221
A15: 45∼49세 | B15: =SUM(E15,H15,K15,N15,Q15) -> 878 | C15: =SUM(F15,I15,L15,O15,R15) -> 328 | D15: =SUM(G15,J15,M15,P15,S15) -> 550 | E15: 64 | F15: 30 | G15: 34 | H15: 113 | I15: 36 | J15: 77 | K15: 90 | L15: 27 | M15: 63 | N15: 244 | O15: 74 | P15: 170 | Q15: 367 | R15: 161 | S15: 206
A16: 50∼54세 | B16: =SUM(E16,H16,K16,N16,Q16) -> 713 | C16: =SUM(F16,I16,L16,O16,R16) -> 269 | D16: =SUM(G16,J16,M16,P16,S16) -> 444 | E16: 63 | F16: 30 | G16: 33 | H16: 96 | I16: 30 | J16: 66 | K16: 72 | L16: 16 | M16: 56 | N16: 184 | O16: 61 | P16: 123 | Q16: 298 | R16: 132 | S16: 166
A17: 55∼59세 | B17: =SUM(E17,H17,K17,N17,Q17) -> 470 | C17: =SUM(F17,I17,L17,O17,R17) -> 203 | D17: =SUM(G17,J17,M17,P17,S17) -> 267 | E17: 43 | F17: 20 | G17: 23 | H17: 68 | I17: 29 | J17: 39 | K17: 45 | L17: 15 | M17: 30 | N17: 119 | O17: 57 | P17: 62 | Q17: 195 | R17: 82 | S17: 113
... A26: 100이상 | B26: =SUM(E26,H26,K26,N26,Q26) -> 0 | C26: =SUM(F26,I26,L26,O26,R26) -> 0 | D26: =SUM(G26,J26,M26,P26,S26) -> 0 | E26: 0 | F26: 0 | G26: 0 | H26: 0 | I26: 0 | J26: 0 | K26: 0 | L26: 0 | M26: 0 | N26: 0 | O26: 0 | P26: 0 | Q26: 0 | R26: 0 | S26: 0

Sheet 2014년
A1: 5. 구별·연령별 외국인 현황
S2: 단위 : 명
A3: =[6]외국인!A3 -> 구 분 | B3: 합 계 | E3: 동 구 | H3: 서 구 | K3: 남 구 | N3: 북 구 | Q3: 광 산 구
B4: 계 | C4: 남 | D4: 여 | E4: =[6]외국인!B4 -> 계 | F4: =[6]외국인!C4 -> 남 | G4: =[6]외국인!D4 -> 여 | H4: =[7]외국인!B4 -> 계 | I4: =[7]외국인!C4 -> 남 | J4: =[7]외국인!D4 -> 여 | K4: =[8]외국인!B4 -> 계 | L4: =[8]외국인!C4 -> 남 | M4: =[8]외국인!D4 -> 여 | N4: ='[9]외국인 '!B4 -> 계 | O4: ='[9]외국인 '!C4 -> 남 | P4: ='[9]외국인 '!D4 -> 여 | Q4: ='[10]외국인 '!B4 -> 계 | R4: ='[10]외국인 '!C4 -> 남 | S4: ='[10]외국인 '!D4 -> 여
A5: 2014 | B5: =SUM(E5,H5,K5,N5,Q5) -> 17064 | C5: =SUM(F5,I5,L5,O5,R5) -> 9212 | D5: =SUM(G5,J5,M5,P5,S5) -> 7852 | E5: =SUM(E6:E26) -> 1047 | F5: =SUM(F6:F26) -> 478 | G5: =SUM(G6:G26) -> 569 | H5: =SUM(H6:H26) -> 1668 | I5: =SUM(I6:I26) -> 754 | J5: =SUM(J6:J26) -> 914 | K5: =SUM(K6:K26) -> 1305 | L5: =SUM(L6:L26) -> 480 | ... S5: =SUM(S6:S26) -> 3196
A6: 0∼ 4 세 | B6: =SUM(E6,H6,K6,N6,Q6) -> 203 | C6: =SUM(F6,I6,L6,O6,R6) -> 103 | D6: =SUM(G6,J6,M6,P6,S6) -> 100 | E6: =SUM(F6:G6) -> 13 | F6: 6 | G6: 7 | H6: =SUM(I6:J6) -> 15 | I6: 10 | J6: 5 | K6: =SUM(L6:M6) -> 10 | L6: 5 | M6: 5 | N6: =SUM(O6:P6) -> 75 | O6: 30 | P6: 45 | Q6: =SUM(R6:S6) -> 90 | R6: 52 | S6: 38
A7: 5∼ 9 세 | B7: =SUM(E7,H7,K7,N7,Q7) -> 98 | C7: =SUM(F7,I7,L7,O7,R7) -> 55 | D7: =SUM(G7,J7,M7,P7,S7) -> 43 | E7: =SUM(F7:G7) -> 1 | F7: 1 | G7: 0 | H7: =SUM(I7:J7) -> 6 | I7: 3 | J7: 3 | K7: =SUM(L7:M7) -> 11 | L7: 8 | M7: 3 | N7: =SUM(O7:P7) -> 30 | O7: 17 | P7: 13 | Q7: =SUM(R7:S7) -> 50 | R7: 26 | S7: 24
A8: 10∼14세 | B8: =SUM(E8,H8,K8,N8,Q8) -> 77 | C8: =SUM(F8,I8,L8,O8,R8) -> 36 | D8: =SUM(G8,J8,M8,P8,S8) -> 41 | E8: =SUM(F8:G8) -> 3 | F8: 0 | G8: 3 | H8: =SUM(I8:J8) -> 7 | I8: 4 | J8: 3 | K8: =SUM(L8:M8) -> 8 | L8: 5 | M8: 3 | N8: =SUM(O8:P8) -> 16 | O8: 3 | P8: 13 | Q8: =SUM(R8:S8) -> 43 | R8: 24 | S8: 19
A9: 15∼19세 | B9: =SUM(E9,H9,K9,N9,Q9) -> 473 | C9: =SUM(F9,I9,L9,O9,R9) -> 200 | D9: =SUM(G9,J9,M9,P9,S9) -> 273 | E9: =SUM(F9:G9) -> 54 | F9: 20 | G9: 34 | H9: =SUM(I9:J9) -> 17 | I9: 12 | J9: 5 | K9: =SUM(L9:M9) -> 66 | L9: 25 | M9: 41 | N9: =SUM(O9:P9) -> 117 | O9: 49 | P9: 68 | Q9: =SUM(R9:S9) -> 219 | R9: 94 | S9: 125
A10: 20∼24세 | B10: =SUM(E10,H10,K10,N10,Q10) -> 3731 | C10: =SUM(F10,I10,L10,O10,R10) -> 1810 | D10: =SUM(G10,J10,M10,P10,S10) -> 1921 | E10: =SUM(F10:G10) -> 243 | F10: 79 | G10: 164 | H10: =SUM(I10:J10) -> 257 | I10: 101 | J10: 156 | K10: =SUM(L10:M10) -> 386 | L10: 136 | M10: 250 | N10: =SUM(O10:P10) -> 1028 | O10: 448 | P10: 580 | Q10: =SUM(R10:S10) -> 1817 | R10: 1046 | S10: 771
A11: 25∼29세 | B11: =SUM(E11,H11,K11,N11,Q11) -> 4067 | C11: =SUM(F11,I11,L11,O11,R11) -> 2345 | D11: =SUM(G11,J11,M11,P11,S11) -> 1722 | E11: =SUM(F11:G11) -> 259 | F11: 128 | G11: 131 | H11: =SUM(I11:J11) -> 421 | I11: 215 | J11: 206 | K11: =SUM(L11:M11) -> 206 | L11: 56 | M11: 150 | N11: =SUM(O11:P11) -> 1119 | O11: 523 | P11: 596 | Q11: =SUM(R11:S11) -> 2062 | R11: 1423 | S11: 639
A12: 30∼34세 | B12: =SUM(E12,H12,K12,N12,Q12) -> 2642 | C12: =SUM(F12,I12,L12,O12,R12) -> 1670 | D12: =SUM(G12,J12,M12,P12,S12) -> 972 | E12: =SUM(F12:G12) -> 149 | F12: 83 | G12: 66 | H12: =SUM(I12:J12) -> 258 | I12: 124 | J12: 134 | K12: =SUM(L12:M12) -> 133 | L12: 47 | M12: 86 | N12: =SUM(O12:P12) -> 579 | O12: 288 | P12: 291 | Q12: =SUM(R12:S12) -> 1523 | R12: 1128 | S12: 395
A13: 35∼39세 | B13: =SUM(E13,H13,K13,N13,Q13) -> 1649 | C13: =SUM(F13,I13,L13,O13,R13) -> 1057 | D13: =SUM(G13,J13,M13,P13,S13) -> 592 | E13: =SUM(F13:G13) -> 77 | F13: 47 | G13: 30 | H13: =SUM(I13:J13) -> 151 | I13: 75 | J13: 76 | K13: =SUM(L13:M13) -> 88 | L13: 42 | M13: 46 | N13: =SUM(O13:P13) -> 305 | O13: 145 | P13: 160 | Q13: =SUM(R13:S13) -> 1028 | R13: 748 | S13: 280
A14: 40∼44세 | B14: =SUM(E14,H14,K14,N14,Q14) -> 1149 | C14: =SUM(F14,I14,L14,O14,R14) -> 642 | D14: =SUM(G14,J14,M14,P14,S14) -> 507 | E14: =SUM(F14:G14) -> 48 | F14: 25 | G14: 23 | H14: =SUM(I14:J14) -> 129 | I14: 44 | J14: 85 | K14: =SUM(L14:M14) -> 82 | L14: 30 | M14: 52 | N14: =SUM(O14:P14) -> 225 | O14: 94 | P14: 131 | Q14: =SUM(R14:S14) -> 665 | R14: 449 | S14: 216
A15: 45∼49세 | B15: =SUM(E15,H15,K15,N15,Q15) -> 985 | C15: =SUM(F15,I15,L15,O15,R15) -> 426 | D15: =SUM(G15,J15,M15,P15,S15) -> 559 | E15: =SUM(F15:G15) -> 52 | F15: 18 | G15: 34 | H15: =SUM(I15:J15) -> 132 | I15: 52 | J15: 80 | K15: =SUM(L15:M15) -> 104 | L15: 37 | M15: 67 | N15: =SUM(O15:P15) -> 243 | O15: 86 | P15: 157 | Q15: =SUM(R15:S15) -> 454 | R15: 233 | S15: 221
A16: 50∼54세 | B16: =SUM(E16,H16,K16,N16,Q16) -> 925 | C16: =SUM(F16,I16,L16,O16,R16) -> 346 | D16: =SUM(G16,J16,M16,P16,S16) -> 579 | E16: =SUM(F16:G16) -> 66 | F16: 30 | G16: 36 | H16: =SUM(I16:J16) -> 134 | I16: 45 | J16: 89 | K16: =SUM(L16:M16) -> 99 | L16: 32 | M16: 67 | N16: =SUM(O16:P16) -> 223 | O16: 77 | P16: 146 | Q16: =SUM(R16:S16) -> 403 | R16: 162 | S16: 241
A17: 55∼59세 | B17: =SUM(E17,H17,K17,N17,Q17) -> 650 | C17: =SUM(F17,I17,L17,O17,R17) -> 305 | D17: =SUM(G17,J17,M17,P17,S17) -> 345 | E17: =SUM(F17:G17) -> 45 | F17: 21 | G17: 24 | H17: =SUM(I17:J17) -> 83 | I17: 40 | J17: 43 | K17: =SUM(L17:M17) -> 74 | L17: 34 | M17: 40 | N17: =SUM(O17:P17) -> 154 | O17: 69 | P17: 85 | Q17: =SUM(R17:S17) -> 294 | R17: 141 | S17: 153
... A26: 100이상 | B26: =SUM(E26,H26,K26,N26,Q26) -> 0 | C26: =SUM(F26,I26,L26,O26,R26) -> 0 | D26: =SUM(G26,J26,M26,P26,S26) -> 0 | E26: =SUM(F26:G26) -> 0 | F26: 0 | G26: 0 | H26: =SUM(I26:J26) -> 0 | I26: 0 | J26: 0 | K26: =SUM(L26:M26) -> 0 | L26: 0 | M26: 0 | N26: =SUM(O26:P26) -> 0 | O26: 0 | P26: 0 | Q26: =SUM(R26:S26) -> 0 | R26: 0 | S26: 0

Sheet 2015년
A1: 5. 구별·연령별 외국인 현황
A3: 구 분 | B3: 합 계 | E3: 동 구 | H3: 서 구 | K3: 남 구 | N3: 북 구 | Q3: 광 산 구
B4: 계 | C4: 남 | D4: 여 | E4: 계 | F4: 남 | G4: 여 | H4: 계 | I4: 남 | J4: 여 | K4: 계 | L4: 남 | M4: 여 | N4: 계 | O4: 남 | P4: 여 | Q4: 계 | R4: 남 | S4: 여
A5: 2015 | B5: =SUM(E5,H5,K5,N5,Q5) -> 18448 | C5: =SUM(F5,I5,L5,O5,R5) -> 10014 | D5: =SUM(G5,J5,M5,P5,S5) -> 8434 | E5: =SUM(F5:G5) -> 1099 | F5: =SUM(F6:F26) -> 526 | G5: =SUM(G6:G26) -> 573 | H5: =SUM(H6:H26) -> 1689 | I5: =SUM(I6:I26) -> 772 | J5: =SUM(J6:J26) -> 917 | K5: =SUM(K6:K26) -> 1423 | L5: =SUM(L6:L26) -> 540 | M5: =SUM(M6:M26) -> 883 | ... S5: =SUM(S6:S26) -> 3647
A6: 0∼ 4 세 | B6: =SUM(C6:D6) -> 261 | C6: =SUM(F6,I6,L6,O6,R6) -> 132 | D6: =SUM(G6,J6,M6,P6,S6) -> 129 | E6: =SUM(F6:G6) -> 10 | F6: 4 | G6: 6 | H6: =SUM(I6:J6) -> 23 | I6: 13 | J6: 10 | K6: =SUM(L6:M6) -> 8 | L6: 3 | M6: 5 | N6: =SUM(O6:P6) -> 85 | O6: 37 | P6: 48 | Q6: =SUM(R6:S6) -> 135 | R6: 75 | S6: 60
A7: 5∼ 9 세 | B7: =SUM(C7:D7) -> 145 | C7: =SUM(F7,I7,L7,O7,R7) -> 77 | D7: =SUM(G7,J7,M7,P7,S7) -> 68 | E7: =SUM(F7:G7) -> 2 | F7: 1 | G7: 1 | H7: =SUM(I7:J7) -> 8 | I7: 6 | J7: 2 | K7: =SUM(L7:M7) -> 8 | L7: 6 | M7: 2 | N7: =SUM(O7:P7) -> 31 | O7: 14 | P7: 17 | Q7: =SUM(R7:S7) -> 96 | R7: 50 | S7: 46
A8: 10∼14세 | B8: =SUM(C8:D8) -> 119 | C8: =SUM(F8,I8,L8,O8,R8) -> 60 | D8: =SUM(G8,J8,M8,P8,S8) -> 59 | E8: =SUM(F8:G8) -> 3 | F8: 0 | G8: 3 | H8: =SUM(I8:J8) -> 9 | I8: 5 | J8: 4 | K8: =SUM(L8:M8) -> 9 | L8: 5 | M8: 4 | N8: =SUM(O8:P8) -> 26 | O8: 12 | P8: 14 | Q8: =SUM(R8:S8) -> 72 | R8: 38 | S8: 34
A9: 15∼19세 | B9: =SUM(C9:D9) -> 466 | C9: =SUM(F9,I9,L9,O9,R9) -> 236 | D9: =SUM(G9,J9,M9,P9,S9) -> 230 | E9: =SUM(F9:G9) -> 40 | F9: 22 | G9: 18 | H9: =SUM(I9:J9) -> 15 | I9: 9 | J9: 6 | K9: =SUM(L9:M9) -> 66 | L9: 34 | M9: 32 | N9: =SUM(O9:P9) -> 158 | O9: 77 | P9: 81 | Q9: =SUM(R9:S9) -> 187 | R9: 94 | S9: 93
A10: 20∼24세 | B10: =SUM(C10:D10) -> 3897 | C10: =SUM(F10,I10,L10,O10,R10) -> 1918 | D10: =SUM(G10,J10,M10,P10,S10) -> 1979 | E10: =SUM(F10:G10) -> 283 | F10: 100 | G10: 183 | H10: =SUM(I10:J10) -> 243 | I10: 95 | J10: 148 | K10: =SUM(L10:M10) -> 395 | L10: 135 | M10: 260 | N10: =SUM(O10:P10) -> 1009 | O10: 465 | P10: 544 | Q10: =SUM(R10:S10) -> 1967 | R10: 1123 | S10: 844
A11: 25∼29세 | B11: =SUM(C11:D11) -> 4280 | C11: =SUM(F11,I11,L11,O11,R11) -> 2460 | D11: =SUM(G11,J11,M11,P11,S11) -> 1820 | E11: =SUM(F11:G11) -> 245 | F11: 133 | G11: 112 | H11: =SUM(I11:J11) -> 363 | I11: 171 | J11: 192 | K11: =SUM(L11:M11) -> 234 | L11: 77 | M11: 157 | N11: =SUM(O11:P11) -> 1166 | O11: 543 | P11: 623 | Q11: =SUM(R11:S11) -> 2272 | R11: 1536 | S11: 736
A12: 30∼34세 | B12: =SUM(C12:D12) -> 2865 | C12: =SUM(F12,I12,L12,O12,R12) -> 1794 | D12: =SUM(G12,J12,M12,P12,S12) -> 1071 | E12: =SUM(F12:G12) -> 148 | F12: 81 | G12: 67 | H12: =SUM(I12:J12) -> 275 | I12: 141 | J12: 134 | K12: =SUM(L12:M12) -> 148 | L12: 54 | M12: 94 | N12: =SUM(O12:P12) -> 607 | O12: 301 | P12: 306 | Q12: =SUM(R12:S12) -> 1687 | R12: 1217 | S12: 470
A13: 35∼39세 | B13: =SUM(C13:D13) -> 1742 | C13: =SUM(F13,I13,L13,O13,R13) -> 1089 | D13: =SUM(G13,J13,M13,P13,S13) -> 653 | E13: =SUM(F13:G13) -> 94 | F13: 59 | G13: 35 | H13: =SUM(I13:J13) -> 153 | I13: 72 | J13: 81 | K13: =SUM(L13:M13) -> 100 | L13: 40 | M13: 60 | N13: =SUM(O13:P13) -> 332 | O13: 157 | P13: 175 | Q13: =SUM(R13:S13) -> 1063 | R13: 761 | S13: 302
A14: 40∼44세 | B14: =SUM(C14:D14) -> 1329 | C14: =SUM(F14,I14,L14,O14,R14) -> 769 | D14: =SUM(G14,J14,M14,P14,S14) -> 560 | E14: =SUM(F14:G14) -> 57 | F14: 32 | G14: 25 | H14: =SUM(I14:J14) -> 137 | I14: 56 | J14: 81 | K14: =SUM(L14:M14) -> 98 | L14: 42 | M14: 56 | N14: =SUM(O14:P14) -> 232 | O14: 107 | P14: 125 | Q14: =SUM(R14:S14) -> 805 | R14: 532 | S14: 273
A15: 45∼49세 | B15: =SUM(C15:D15) -> 1069 | C15: =SUM(F15,I15,L15,O15,R15) -> 492 | D15: =SUM(G15,J15,M15,P15,S15) -> 577 | E15: =SUM(F15:G15) -> 50 | F15: 18 | G15: 32 | H15: =SUM(I15:J15) -> 142 | I15: 62 | J15: 80 | K15: =SUM(L15:M15) -> 109 | L15: 35 | M15: 74 | N15: =SUM(O15:P15) -> 225 | O15: 91 | P15: 134 | Q15: =SUM(R15:S15) -> 543 | R15: 286 | S15: 257
A16: 50∼54세 | B16: =SUM(C16:D16) -> 1043 | C16: =SUM(F16,I16,L16,O16,R16) -> 394 | D16: =SUM(G16,J16,M16,P16,S16) -> 649 | E16: =SUM(F16:G16) -> 66 | F16: 28 | G16: 38 | H16: =SUM(I16:J16) -> 156 | I16: 61 | J16: 95 | K16: =SUM(L16:M16) -> 102 | L16: 32 | M16: 70 | N16: =SUM(O16:P16) -> 257 | O16: 79 | P16: 178 | Q16: =SUM(R16:S16) -> 462 | R16: 194 | S16: 268
A17: 55∼59세 | B17: =SUM(C17:D17) -> 781 | C17: =SUM(F17,I17,L17,O17,R17) -> 359 | D17: =SUM(G17,J17,M17,P17,S17) -> 422 | E17: =SUM(F17:G17) -> 58 | F17: 26 | G17: 32 | H17: =SUM(I17:J17) -> 99 | I17: 47 | J17: 52 | K17: =SUM(L17:M17) -> 87 | L17: 43 | M17: 44 | N17: =SUM(O17:P17) -> 180 | O17: 76 | P17: 104 | Q17: =SUM(R17:S17) -> 357 | R17: 167 | S17: 190
... A25: 95∼99세 | B25: =SUM(C25:D25) -> 1 | C25: =SUM(F25,I25,L25,O25,R25) -> 0 | D25: =SUM(G25,J25,M25,P25,S25) -> 1 | E25: =SUM(F25:G25) -> 0 | F25: 0 | G25: 0 | H25: =SUM(I25:J25) -> 0 | I25: 0 | J25: 0 | K25: =SUM(L25:M25) -> 0 | L25: 0 | M25: 0 | N25: =SUM(O25:P25) -> 1 | O25: 0 | P25: 1 | Q25: =SUM(R25:S25) -> 0 | R25: 0 | S25: 0
A26: 100이상 | B26: =SUM(C26:D26) -> 0 | C26: =SUM(F26,I26,L26,O26,R26) -> 0 | D26: =SUM(G26,J26,M26,P26,S26) -> 0 | E26: =SUM(F26:G26) -> 0 | F26: 0 | G26: 0 | H26: =SUM(I26:J26) -> 0 | I26: 0 | J26: 0 | K26: =SUM(L26:M26) -> 0 | L26: 0 | M26: 0 | N26: =SUM(O26:P26) -> 0 | O26: =SUM(Q26,T26,W26,Z26,AC26,AF26,AI26,AL26,AO26,AR26,AU26,AX26,BA26,BD26,BG26,BJ26,BM26,BP26,BS26,BV26,BY26,CB26,CE26,CH26,CK26,CN26,CQ26) -> 0 | P26: =SUM(R26,U26,X26,AA26,AD26,AG26,AJ26,AM26,AP26,AS26,AV26,AY26,BB26,BE26,BH26,BK26,BN26,BQ26,BT26,BW26,BZ26,CC26,CF26,CI26,CL26,CO26,CR26) -> 0 | Q26: =SUM(R26:S26) -> 0 | R26: 0 | S26: 0

Sheet 2016년
A1: 5. 구별·연령별 외국인 현황
A3: 구 분 | B3: 합 계 | E3: 동 구 | H3: 서 구 | K3: 남 구 | N3: 북 구 | Q3: 광 산 구
B4: 계 | C4: 남 | D4: 여 | E4: 계 | F4: 남 | G4: 여 | H4: 계 | I4: 남 | J4: 여 | K4: 계 | L4: 남 | M4: 여 | N4: 계 | O4: 남 | P4: 여 | Q4: 계 | R4: 남 | S4: 여
A5: 2016 | B5: =SUM(E5,H5,K5,N5,Q5) -> 19920 | C5: =SUM(F5,I5,L5,O5,R5) -> 10688 | D5: =SUM(G5,J5,M5,P5,S5) -> 9232 | E5: 1254 | F5: 592 | G5: 662 | H5: 1702 | I5: 763 | J5: 939 | K5: 1460 | L5: 541 | M5: 919 | N5: 4597 | O5: 2065 | P5: 2532 | Q5: 10907 | R5: 6727 | S5: 4180
A6: 0∼ 4 세 | B6: =SUM(C6:D6) -> 376 | C6: =SUM(F6,I6,L6,O6,R6) -> 186 | D6: =SUM(G6,J6,M6,P6,S6) -> 190 | E6: 15 | F6: 7 | G6: 8 | H6: 31 | I6: 19 | J6: 12 | K6: 16 | L6: 8 | M6: 8 | N6: 87 | O6: 36 | P6: 51 | Q6: 227 | R6: 116 | S6: 111
