Workbook
Name _E1: #REF!
Name _E1: #REF!
Name _E1: #REF!
Name _E1: #REF!
Name _E1: #REF!
Name _E1: #REF!
Name _E1: #REF!
Name _E1: #REF!
Name 전체: #REF!
Name 전체: #REF!
Name 전체: #REF!
Name 전체: #REF!
Name 전체: #REF!
Name 전체: #REF!
Name 전체: #REF!
Name 전체: #REF!

Sheet 2006년
A1: 3. 구별·연령별 한국인 현황(외국인 제외)
S2: (단위 : 명)
A3: 구 분 | B3: 합 계 | E3: 동 구 | H3: 서 구 | K3: 남 구 | N3: 북 구 | Q3: 광 산 구
B4: 계 | C4: 남 | D4: 여 | E4: 계 | F4: 남 | G4: 여 | H4: 계 | I4: 남 | J4: 여 | K4: 계 | L4: 남 | M4: 여 | N4: 계 | O4: 남 | P4: 여 | Q4: 계 | R4: 남 | S4: 여
A5: 2006 | B5: 1407798 | C5: 698664 | D5: 709134 | E5: 114086 | F5: 56735 | G5: 57351 | H5: 309362 | I5: 152615 | J5: 156747 | K5: 211744 | L5: 103556 | M5: 108188 | N5: 460985 | O5: 228959 | P5: 232026 | Q5: 311621 | R5: 156799 | S5: 154822
A6: 0 - 4 | B6: 73046 | C6: 38132 | D6: 34914 | E6: 3703 | F6: 1972 | G6: 1731 | H6: 16640 | I6: 8747 | J6: 7893 | K6: 7627 | L6: 3933 | M6: 3694 | N6: 23025 | O6: 11981 | P6: 11044 | Q6: 22051 | R6: 11499 | S6: 10552
A7: 0 세 | B7: 12908 | C7: 6779 | D7: 6129 | E7: 626 | F7: 332 | G7: 294 | H7: 2896 | I7: 1543 | J7: 1353 | K7: 1384 | L7: 674 | M7: 710 | N7: 4060 | O7: 2151 | P7: 1909 | Q7: 3942 | R7: 2079 | S7: 1863
A8: 1 세 | B8: 13328 | C8: 6926 | D8: 6402 | E8: 660 | F8: 342 | G8: 318 | H8: 2983 | I8: 1554 | J8: 1429 | K8: 1333 | L8: 692 | M8: 641 | N8: 4269 | O8: 2185 | P8: 2084 | Q8: 4083 | R8: 2153 | S8: 1930
A9: 2 세 | B9: 14596 | C9: 7489 | D9: 7107 | E9: 758 | F9: 385 | G9: 373 | H9: 3348 | I9: 1702 | J9: 1646 | K9: 1491 | L9: 772 | M9: 719 | N9: 4572 | O9: 2373 | P9: 2199 | Q9: 4427 | R9: 2257 | S9: 2170
A10: 3 세 | B10: 16264 | C10: 8583 | D10: 7681 | E10: 834 | F10: 461 | G10: 373 | H10: 3652 | I10: 1947 | J10: 1705 | K10: 1665 | L10: 870 | M10: 795 | N10: 5152 | O10: 2700 | P10: 2452 | Q10: 4961 | R10: 2605 | S10: 2356
A11: 4 세 | B11: 15950 | C11: 8355 | D11: 7595 | E11: 825 | F11: 452 | G11: 373 | H11: 3761 | I11: 2001 | J11: 1760 | K11: 1754 | L11: 925 | M11: 829 | N11: 4972 | O11: 2572 | P11: 2400 | Q11: 4638 | R11: 2405 | S11: 2233
A12: 5 - 9 | B12: 106131 | C12: 55279 | D12: 50852 | E12: 5640 | F12: 3018 | G12: 2622 | H12: 25069 | I12: 13064 | J12: 12005 | K12: 12373 | L12: 6475 | M12: 5898 | N12: 32468 | O12: 16851 | P12: 15617 | Q12: 30581 | R12: 15871 | S12: 14710
A13: 5 세 | B13: 18537 | C13: 9642 | D13: 8895 | E13: 933 | F13: 498 | G13: 435 | H13: 4491 | I13: 2301 | J13: 2190 | K13: 2007 | L13: 1026 | M13: 981 | N13: 5624 | O13: 2974 | P13: 2650 | Q13: 5482 | R13: 2843 | S13: 2639
A14: 6 세 | B14: 21719 | C14: 11445 | D14: 10274 | E14: 1099 | F14: 596 | G14: 503 | H14: 5138 | I14: 2696 | J14: 2442 | K14: 2363 | L14: 1260 | M14: 1103 | N14: 6704 | O14: 3563 | P14: 3141 | Q14: 6415 | R14: 3330 | S14: 3085
A15: 7 세 | B15: 20970 | C15: 10884 | D15: 10086 | E15: 1076 | F15: 560 | G15: 516 | H15: 4989 | I15: 2602 | J15: 2387 | K15: 2430 | L15: 1269 | M15: 1161 | N15: 6398 | O15: 3286 | P15: 3112 | Q15: 6077 | R15: 3167 | S15: 2910
A16: 8 세 | B16: 21855 | C16: 11370 | D16: 10485 | E16: 1282 | F16: 680 | G16: 602 | H16: 5096 | I16: 2714 | J16: 2382 | K16: 2697 | L16: 1393 | M16: 1304 | N16: 6644 | O16: 3438 | P16: 3206 | Q16: 6136 | R16: 3145 | S16: 2991
A17: 9 세 | B17: 23050 | C17: 11938 | D17: 11112 | E17: 1250 | F17: 684 | G17: 566 | H17: 5355 | I17: 2751 | J17: 2604 | K17: 2876 | L17: 1527 | M17: 1349 | N17: 7098 | O17: 3590 | P17: 3508 | Q17: 6471 | R17: 3386 | S17: 3085
... A126: 100+ | B126: 61 | C126: 4 | D126: 57 | E126: 8 | F126: 0 | G126: 8 | H126: 10 | I126: 1 | J126: 9 | K126: 12 | L126: 1 | M126: 11 | N126: 20 | O126: 1 | P126: 19 | Q126: 11 | R126: 1 | S126: 10
A129: 14세이하 | B129: =SUM(B6,B12,B18) -> 299298 | C129: =SUM(C6,C12,C18) -> 156362 | D129: =SUM(D6,D12,D18) -> 142936 | E129: =SUM(E6,E12,E18) -> 16162 | F129: =SUM(F6,F12,F18) -> 8530 | G129: =SUM(G6,G12,G18) -> 7632 | H129: =SUM(H6,H12,H18) -> 69230 | I129: =SUM(I6,I12,I18) -> 36300 | ... S129: =SUM(S6,S12,S18) -> 39812
A130: 15-64세 | B130: =SUM(B24,B30,B36,B42,B48,B54,B60,B66,B72,B78) -> 1002698 | C130: =SUM(C24,C30,C36,C42,C48,C54,C60,C66,C72,C78) -> 501342 | D130: =SUM(D24,D30,D36,D42,D48,D54,D60,D66,D72,D78) -> 501356 | E130: =SUM(E24,E30,E36,E42,E48,E54,E60,E66,E72,E78) -> 84517 | F130: =SUM(F24,F30,F36,F42,F48,F54,F60,F66,F72,F78) -> 42479 | G130: =SUM(G24,G30,G36,G42,G48,G54,G60,G66,G72,G78) -> 42038 | H130: =SUM(H24,H30,H36,H42,H48,H54,H60,H66,H72,H78) -> 218813 | I130: =SUM(I24,I30,I36,I42,I48,I54,I60,I66,I72,I78) -> 108252 | ... S130: =SUM(S24,S30,S36,S42,S48,S54,S60,S66,S72,S78) -> 102828

Sheet 2007년
A1: 3. 구별·연령별 한국인 현황(외국인 제외)
R2: (단위 : 명)
A3: 구 분 | B3: 합 계 | E3: 동 구 | H3: 서 구 | K3: 남 구 | N3: 북 구 | Q3: 광 산 구
B4: 계 | C4: 남 | D4: 여 | E4: 계 | F4: 남 | G4: 여 | H4: 계 | I4: 남 | J4: 여 | K4: 계 | L4: 남 | M4: 여 | N4: 계 | O4: 남 | P4: 여 | Q4: 계 | R4: 남 | S4: 여
A5: 2007 | B5: =E5+H5+K5+N5+Q5 -> 1413444 | C5: =F5+I5+L5+O5+R5 -> 701561 | D5: =G5+J5+M5+P5+S5 -> 711883 | E5: 115066 | F5: 57347 | G5: 57719 | H5: 307072 | I5: 151441 | J5: 155631 | K5: 209024 | L5: 102036 | M5: 106988 | N5: 466181 | O5: 231639 | P5: 234542 | Q5: 316101 | R5: 159098 | S5: 157003
A6: 0 - 4 | B6: =E6+H6+K6+N6+Q6 -> 72477 | C6: =F6+I6+L6+O6+R6 -> 37840 | D6: =G6+J6+M6+P6+S6 -> 34637 | E6: 3836 | F6: 2007 | G6: 1829 | H6: 15831 | I6: 8284 | J6: 7547 | K6: 7421 | L6: 3822 | M6: 3599 | N6: 23435 | O6: 12224 | P6: 11211 | Q6: 21954 | R6: 11503 | S6: 10451
A7: 0 세 | B7: =E7+H7+K7+N7+Q7 -> 14177 | C7: =F7+I7+L7+O7+R7 -> 7379 | D7: =G7+J7+M7+P7+S7 -> 6798 | E7: 764 | F7: 383 | G7: 381 | H7: 3021 | I7: 1553 | J7: 1468 | K7: 1433 | L7: 727 | M7: 706 | N7: 4773 | O7: 2479 | P7: 2294 | Q7: 4186 | R7: 2237 | S7: 1949
A8: 1 세 | B8: =E8+H8+K8+N8+Q8 -> 13769 | C8: =F8+I8+L8+O8+R8 -> 7202 | D8: =G8+J8+M8+P8+S8 -> 6567 | E8: 693 | F8: 356 | G8: 337 | H8: 2966 | I8: 1569 | J8: 1397 | K8: 1480 | L8: 739 | M8: 741 | N8: 4440 | O8: 2344 | P8: 2096 | Q8: 4190 | R8: 2194 | S8: 1996
A9: 2 세 | B9: =E9+H9+K9+N9+Q9 -> 13492 | C9: =F9+I9+L9+O9+R9 -> 7040 | D9: =G9+J9+M9+P9+S9 -> 6452 | E9: 708 | F9: 369 | G9: 339 | H9: 2954 | I9: 1553 | J9: 1401 | K9: 1362 | L9: 711 | M9: 651 | N9: 4335 | O9: 2233 | P9: 2102 | Q9: 4133 | R9: 2174 | S9: 1959
A10: 3 세 | B10: =E10+H10+K10+N10+Q10 -> 14772 | C10: =F10+I10+L10+O10+R10 -> 7629 | D10: =G10+J10+M10+P10+S10 -> 7143 | E10: 809 | F10: 416 | G10: 393 | H10: 3308 | I10: 1686 | J10: 1622 | K10: 1515 | L10: 783 | M10: 732 | N10: 4673 | O10: 2438 | P10: 2235 | Q10: 4467 | R10: 2306 | S10: 2161
A11: 4 세 | B11: =E11+H11+K11+N11+Q11 -> 16267 | C11: =F11+I11+L11+O11+R11 -> 8590 | D11: =G11+J11+M11+P11+S11 -> 7677 | E11: 862 | F11: 483 | G11: 379 | H11: 3582 | I11: 1923 | J11: 1659 | K11: 1631 | L11: 862 | M11: 769 | N11: 5214 | O11: 2730 | P11: 2484 | Q11: 4978 | R11: 2592 | S11: 2386
A12: 5 - 9 | B12: =E12+H12+K12+N12+Q12 -> 99770 | C12: =F12+I12+L12+O12+R12 -> 52100 | D12: =G12+J12+M12+P12+S12 -> 47670 | E12: 5407 | F12: 2865 | G12: 2542 | H12: 23099 | I12: 12162 | J12: 10937 | K12: 11465 | L12: 5998 | M12: 5467 | N12: 31026 | O12: 16197 | P12: 14829 | Q12: 28773 | R12: 14878 | S12: 13895
A13: 5 세 | B13: =E13+H13+K13+N13+Q13 -> 16032 | C13: =F13+I13+L13+O13+R13 -> 8370 | D13: =G13+J13+M13+P13+S13 -> 7662 | E13: 844 | F13: 442 | G13: 402 | H13: 3690 | I13: 1986 | J13: 1704 | K13: 1755 | L13: 913 | M13: 842 | N13: 5093 | O13: 2632 | P13: 2461 | Q13: 4650 | R13: 2397 | S13: 2253
A14: 6 세 | B14: =E14+H14+K14+N14+Q14 -> 18877 | C14: =F14+I14+L14+O14+R14 -> 9829 | D14: =G14+J14+M14+P14+S14 -> 9048 | E14: 953 | F14: 511 | G14: 442 | H14: 4476 | I14: 2307 | J14: 2169 | K14: 2089 | L14: 1082 | M14: 1007 | N14: 5822 | O14: 3069 | P14: 2753 | Q14: 5537 | R14: 2860 | S14: 2677
A15: 7 세 | B15: =E15+H15+K15+N15+Q15 -> 21817 | C15: =F15+I15+L15+O15+R15 -> 11483 | D15: =G15+J15+M15+P15+S15 -> 10334 | E15: 1171 | F15: 633 | G15: 538 | H15: 5010 | I15: 2618 | J15: 2392 | K15: 2424 | L15: 1277 | M15: 1147 | N15: 6822 | O15: 3634 | P15: 3188 | Q15: 6390 | R15: 3321 | S15: 3069
A16: 8 세 | B16: =E16+H16+K16+N16+Q16 -> 21044 | C16: =F16+I16+L16+O16+R16 -> 10960 | D16: =G16+J16+M16+P16+S16 -> 10084 | E16: 1124 | F16: 585 | G16: 539 | H16: 4896 | I16: 2568 | J16: 2328 | K16: 2453 | L16: 1274 | M16: 1179 | N16: 6513 | O16: 3367 | P16: 3146 | Q16: 6058 | R16: 3166 | S16: 2892
A17: 9 세 | B17: =E17+H17+K17+N17+Q17 -> 22000 | C17: =F17+I17+L17+O17+R17 -> 11458 | D17: =G17+J17+M17+P17+S17 -> 10542 | E17: 1315 | F17: 694 | G17: 621 | H17: 5027 | I17: 2683 | J17: 2344 | K17: 2744 | L17: 1452 | M17: 1292 | N17: 6776 | O17: 3495 | P17: 3281 | Q17: 6138 | R17: 3134 | S17: 3004
... A126: 100+ | B126: =E126+H126+K126+N126+Q126 -> 60 | C126: =F126+I126+L126+O126+R126 -> 5 | D126: =G126+J126+M126+P126+S126 -> 55 | E126: 8 | F126: 1 | G126: 7 | H126: 13 | I126: 2 | J126: 11 | K126: 14 | L126: 1 | M126: 13 | N126: 17 | O126: 0 | P126: 17 | Q126: 8 | R126: 1 | S126: 7
A128: 14세이하 | B128: =SUM(B6,B12,B18) -> 291575 | C128: =SUM(C6,C12,C18) -> 152275 | D128: =SUM(D6,D12,D18) -> 139300 | E128: =SUM(E6,E12,E18) -> 15968 | F128: =SUM(F6,F12,F18) -> 8410 | G128: =SUM(G6,G12,G18) -> 7558 | H128: =SUM(H6,H12,H18) -> 66160 | I128: =SUM(I6,I12,I18) -> 34703 | ... S128: =SUM(S6,S12,S18) -> 39173
A129: 15-64세 | B129: =SUM(B24,B30,B36,B42,B48,B54,B60,B66,B72,B78) -> 1008046 | C129: =SUM(C24,C30,C36,C42,C48,C54,C60,C66,C72,C78) -> 504368 | D129: =SUM(D24,D30,D36,D42,D48,D54,D60,D66,D72,D78) -> 503678 | E129: =SUM(E24,E30,E36,E42,E48,E54,E60,E66,E72,E78) -> 84553 | F129: =SUM(F24,F30,F36,F42,F48,F54,F60,F66,F72,F78) -> 42637 | G129: =SUM(G24,G30,G36,G42,G48,G54,G60,G66,G72,G78) -> 41916 | H129: =SUM(H24,H30,H36,H42,H48,H54,H60,H66,H72,H78) -> 218287 | I129: =SUM(I24,I30,I36,I42,I48,I54,I60,I66,I72,I78) -> 108005 | ... S129: =SUM(S24,S30,S36,S42,S48,S54,S60,S66,S72,S78) -> 104883

Sheet 2008년
A1: 3. 구별·연령별 한국인 현황(외국인 제외)
R2: (단위 : 명)
A3: 구 분 | B3: 합 계 | E3: 동 구 | H3: 서 구 | K3: 남 구 | N3: 북 구 | Q3: 광 산 구
B4: 계 | C4: 남 | D4: 여 | E4: 계 | F4: 남 | G4: 여 | H4: 계 | I4: 남 | J4: 여 | K4: 계 | L4: 남 | M4: 여 | N4: 계 | O4: 남 | P4: 여 | Q4: 계 | R4: 남 | S4: 여
A5: 2008 | B5: =SUM(B6,B12,B18,B24,B30,B36,B42,B48,B54,B60,B66,B72,B78,B84,B90,B96,B102,B108,B114,B120,B126) -> 1422702 | C5: =SUM(C6,C12,C18,C24,C30,C36,C42,C48,C54,C60,C66,C72,C78,C84,C90,C96,C102,C108,C114,C120,C126) -> 705817 | D5: =SUM(D6,D12,D18,D24,D30,D36,D42,D48,D54,D60,D66,D72,D78,D84,D90,D96,D102,D108,D114,D120,D126) -> 716885 | E5: =SUM(E6,E12,E18,E24,E30,E36,E42,E48,E54,E60,E66,E72,E78,E84,E90,E96,E102,E108,E114,E120,E126) -> 109963 | F5: =SUM(F6,F12,F18,F24,F30,F36,F42,F48,F54,F60,F66,F72,F78,F84,F90,F96,F102,F108,F114,F120,F126) -> 54988 | G5: =SUM(G6,G12,G18,G24,G30,G36,G42,G48,G54,G60,G66,G72,G78,G84,G90,G96,G102,G108,G114,G120,G126) -> 54975 | H5: =SUM(H6,H12,H18,H24,H30,H36,H42,H48,H54,H60,H66,H72,H78,H84,H90,H96,H102,H108,H114,H120,H126) -> 304885 | I5: =SUM(I6,I12,I18,I24,I30,I36,I42,I48,I54,I60,I66,I72,I78,I84,I90,I96,I102,I108,I114,I120,I126) -> 150315 | ... S5: =SUM(S6,S12,S18,S24,S30,S36,S42,S48,S54,S60,S66,S72,S78,S84,S90,S96,S102,S108,S114,S120,S126) -> 159428
A6: 0 - 4 | B6: =SUM(C6:D6) -> 70830 | C6: =SUM(F6,I6,L6,O6,R6) -> 36667 | D6: =SUM(G6,J6,M6,P6,S6) -> 34163 | E6: =SUM(E7:E11) -> 3467 | F6: =SUM(F7:F11) -> 1812 | G6: =SUM(G7:G11) -> 1655 | H6: =SUM(H7:H11) -> 14916 | I6: =SUM(I7:I11) -> 7686 | J6: =SUM(J7:J11) -> 7230 | K6: =SUM(K7:K11) -> 7979 | L6: =SUM(L7:L11) -> 4122 | ... S6: =SUM(S7:S11) -> 10228
A7: 0 세 | B7: =SUM(C7:D7) -> 13306 | C7: =SUM(F7,I7,L7,O7,R7) -> 6790 | D7: =SUM(G7,J7,M7,P7,S7) -> 6516 | E7: =SUM(F7:G7) -> 644 | F7: 355 | G7: 289 | H7: =SUM(I7:J7) -> 2791 | I7: 1412 | J7: 1379 | K7: =SUM(L7:M7) -> 1579 | L7: 799 | M7: 780 | N7: =SUM(O7:P7) -> 4430 | O7: 2300 | P7: 2130 | Q7: =SUM(R7:S7) -> 3862 | R7: 1924 | S7: 1938
A8: 1 세 | B8: =SUM(C8:D8) -> 15083 | C8: =SUM(F8,I8,L8,O8,R8) -> 7872 | D8: =SUM(G8,J8,M8,P8,S8) -> 7211 | E8: =SUM(F8:G8) -> 762 | F8: 379 | G8: 383 | H8: =SUM(I8:J8) -> 3086 | I8: 1611 | J8: 1475 | K8: =SUM(L8:M8) -> 1682 | L8: 851 | M8: 831 | N8: =SUM(O8:P8) -> 5103 | O8: 2672 | P8: 2431 | Q8: =SUM(R8:S8) -> 4450 | R8: 2359 | S8: 2091
A9: 2 세 | B9: =SUM(C9:D9) -> 13888 | C9: =SUM(F9,I9,L9,O9,R9) -> 7207 | D9: =SUM(G9,J9,M9,P9,S9) -> 6681 | E9: =SUM(F9:G9) -> 657 | F9: 332 | G9: 325 | H9: =SUM(I9:J9) -> 2911 | I9: 1507 | J9: 1404 | K9: =SUM(L9:M9) -> 1596 | L9: 826 | M9: 770 | N9: =SUM(O9:P9) -> 4492 | O9: 2356 | P9: 2136 | Q9: =SUM(R9:S9) -> 4232 | R9: 2186 | S9: 2046
A10: 3 세 | B10: =SUM(C10:D10) -> 13600 | C10: =SUM(F10,I10,L10,O10,R10) -> 7081 | D10: =SUM(G10,J10,M10,P10,S10) -> 6519 | E10: =SUM(F10:G10) -> 638 | F10: 341 | G10: 297 | H10: =SUM(I10:J10) -> 2871 | I10: 1515 | J10: 1356 | K10: =SUM(L10:M10) -> 1488 | L10: 789 | M10: 699 | N10: =SUM(O10:P10) -> 4426 | O10: 2259 | P10: 2167 | Q10: =SUM(R10:S10) -> 4177 | R10: 2177 | S10: 2000
A11: 4 세 | B11: =SUM(C11:D11) -> 14953 | C11: =SUM(F11,I11,L11,O11,R11) -> 7717 | D11: =SUM(G11,J11,M11,P11,S11) -> 7236 | E11: =SUM(F11:G11) -> 766 | F11: 405 | G11: 361 | H11: =SUM(I11:J11) -> 3257 | I11: 1641 | J11: 1616 | K11: =SUM(L11:M11) -> 1634 | L11: 857 | M11: 777 | N11: =SUM(O11:P11) -> 4853 | O11: 2524 | P11: 2329 | Q11: =SUM(R11:S11) -> 4443 | R11: 2290 | S11: 2153
A12: 5 - 9 | B12: =SUM(C12:D12) -> 94896 | C12: =SUM(F12,I12,L12,O12,R12) -> 49620 | D12: =SUM(G12,J12,M12,P12,S12) -> 45276 | E12: =SUM(E13:E17) -> 4698 | F12: =SUM(F13:F17) -> 2519 | G12: =SUM(G13:G17) -> 2179 | H12: =SUM(H13:H17) -> 21412 | I12: =SUM(I13:I17) -> 11240 | J12: =SUM(J13:J17) -> 10172 | K12: =SUM(K13:K17) -> 10969 | L12: =SUM(L13:L17) -> 5691 | ... S12: =SUM(S13:S17) -> 13363
A13: 5 세 | B13: =SUM(C13:D13) -> 16413 | C13: =SUM(F13,I13,L13,O13,R13) -> 8657 | D13: =SUM(G13,J13,M13,P13,S13) -> 7756 | E13: =SUM(F13:G13) -> 820 | F13: 467 | G13: 353 | H13: =SUM(I13:J13) -> 3580 | I13: 1902 | J13: 1678 | K13: =SUM(L13:M13) -> 1742 | L13: 912 | M13: 830 | N13: =SUM(O13:P13) -> 5264 | O13: 2775 | P13: 2489 | Q13: =SUM(R13:S13) -> 5007 | R13: 2601 | S13: 2406
A14: 6 세 | B14: =SUM(C14:D14) -> 16371 | C14: =SUM(F14,I14,L14,O14,R14) -> 8559 | D14: =SUM(G14,J14,M14,P14,S14) -> 7812 | E14: =SUM(F14:G14) -> 773 | F14: 394 | G14: 379 | H14: =SUM(I14:J14) -> 3710 | I14: 1988 | J14: 1722 | K14: =SUM(L14:M14) -> 1888 | L14: 986 | M14: 902 | N14: =SUM(O14:P14) -> 5235 | O14: 2727 | P14: 2508 | Q14: =SUM(R14:S14) -> 4765 | R14: 2464 | S14: 2301
A15: 7 세 | B15: =SUM(C15:D15) -> 18932 | C15: =SUM(F15,I15,L15,O15,R15) -> 9835 | D15: =SUM(G15,J15,M15,P15,S15) -> 9097 | E15: =SUM(F15:G15) -> 939 | F15: 508 | G15: 431 | H15: =SUM(I15:J15) -> 4346 | I15: 2237 | J15: 2109 | K15: =SUM(L15:M15) -> 2189 | L15: 1134 | M15: 1055 | N15: =SUM(O15:P15) -> 5933 | O15: 3134 | P15: 2799 | Q15: =SUM(R15:S15) -> 5525 | R15: 2822 | S15: 2703
A16: 8 세 | B16: =SUM(C16:D16) -> 21978 | C16: =SUM(F16,I16,L16,O16,R16) -> 11538 | D16: =SUM(G16,J16,M16,P16,S16) -> 10440 | E16: =SUM(F16:G16) -> 1125 | F16: 605 | G16: 520 | H16: =SUM(I16:J16) -> 4923 | I16: 2556 | J16: 2367 | K16: =SUM(L16:M16) -> 2553 | L16: 1323 | M16: 1230 | N16: =SUM(O16:P16) -> 6977 | O16: 3723 | P16: 3254 | Q16: =SUM(R16:S16) -> 6400 | R16: 3331 | S16: 3069
A17: 9 세 | B17: =SUM(C17:D17) -> 21202 | C17: =SUM(F17,I17,L17,O17,R17) -> 11031 | D17: =SUM(G17,J17,M17,P17,S17) -> 10171 | E17: =SUM(F17:G17) -> 1041 | F17: 545 | G17: 496 | H17: =SUM(I17:J17) -> 4853 | I17: 2557 | J17: 2296 | K17: =SUM(L17:M17) -> 2597 | L17: 1336 | M17: 1261 | N17: =SUM(O17:P17) -> 6686 | O17: 3452 | P17: 3234 | Q17: =SUM(R17:S17) -> 6025 | R17: 3141 | S17: 2884
A18: 10-14 | B18: =SUM(C18:D18) -> 118308 | C18: =SUM(F18,I18,L18,O18,R18) -> 61649 | D18: =SUM(G18,J18,M18,P18,S18) -> 56659 | E18: =SUM(E19:E23) -> 6381 | F18: =SUM(F19:F23) -> 3332 | G18: =SUM(G19:G23) -> 3049 | H18: =SUM(H19:H23) -> 26579 | I18: =SUM(I19:I23) -> 13987 | J18: =SUM(J19:J23) -> 12592 | K18: =SUM(K19:K23) -> 16501 | L18: =SUM(L19:L23) -> 8531 | ... S18: =SUM(S19:S23) -> 14958
A19: 10 세 | B19: =SUM(C19:D19) -> 22189 | C19: =SUM(F19,I19,L19,O19,R19) -> 11562 | D19: =SUM(G19,J19,M19,P19,S19) -> 10627 | E19: =SUM(F19:G19) -> 1245 | F19: 671 | G19: 574 | H19: =SUM(I19:J19) -> 4997 | I19: 2662 | J19: 2335 | K19: =SUM(L19:M19) -> 2896 | L19: 1523 | M19: 1373 | N19: =SUM(O19:P19) -> 6934 | O19: 3560 | P19: 3374 | Q19: =SUM(R19:S19) -> 6117 | R19: 3146 | S19: 2971
A20: 11 세 | B20: =SUM(C20:D20) -> 23449 | C20: =SUM(F20,I20,L20,O20,R20) -> 12097 | D20: =SUM(G20,J20,M20,P20,S20) -> 11352 | E20: =SUM(F20:G20) -> 1228 | F20: 649 | G20: 579 | H20: =SUM(I20:J20) -> 5254 | I20: 2714 | J20: 2540 | K20: =SUM(L20:M20) -> 3118 | L20: 1650 | M20: 1468 | N20: =SUM(O20:P20) -> 7430 | O20: 3760 | P20: 3670 | Q20: =SUM(R20:S20) -> 6419 | R20: 3324 | S20: 3095
A21: 12 세 | B21: =SUM(C21:D21) -> 23626 | C21: =SUM(F21,I21,L21,O21,R21) -> 12377 | D21: =SUM(G21,J21,M21,P21,S21) -> 11249 | E21: =SUM(F21:G21) -> 1201 | F21: 600 | G21: 601 | H21: =SUM(I21:J21) -> 5226 | I21: 2763 | J21: 2463 | K21: =SUM(L21:M21) -> 3332 | L21: 1694 | M21: 1638 | N21: =SUM(O21:P21) -> 7575 | O21: 4017 | P21: 3558 | Q21: =SUM(R21:S21) -> 6292 | R21: 3303 | S21: 2989
A22: 13 세 | B22: =SUM(C22:D22) -> 24679 | C22: =SUM(F22,I22,L22,O22,R22) -> 12715 | D22: =SUM(G22,J22,M22,P22,S22) -> 11964 | E22: =SUM(F22:G22) -> 1276 | F22: 643 | G22: 633 | H22: =SUM(I22:J22) -> 5649 | I22: 2966 | J22: 2683 | K22: =SUM(L22:M22) -> 3559 | L22: 1787 | M22: 1772 | N22: =SUM(O22:P22) -> 7979 | O22: 4125 | P22: 3854 | Q22: =SUM(R22:S22) -> 6216 | R22: 3194 | S22: 3022
A23: 14 세 | B23: =SUM(C23:D23) -> 24365 | C23: =SUM(F23,I23,L23,O23,R23) -> 12898 | D23: =SUM(G23,J23,M23,P23,S23) -> 11467 | E23: =SUM(F23:G23) -> 1431 | F23: 769 | G23: 662 | H23: =SUM(I23:J23) -> 5453 | I23: 2882 | J23: 2571 | K23: =SUM(L23:M23) -> 3596 | L23: 1877 | M23: 1719 | N23: =SUM(O23:P23) -> 7858 | O23: 4224 | P23: 3634 | Q23: =SUM(R23:S23) -> 6027 | R23: 3146 | S23: 2881
A24: 15-19 | B24: =SUM(C24:D24) -> 110566 | C24: =SUM(F24,I24,L24,O24,R24) -> 57866 | D24: =SUM(G24,J24,M24,P24,S24) -> 52700 | E24: =SUM(E25:E29) -> 6980 | F24: =SUM(F25:F29) -> 3561 | G24: =SUM(G25:G29) -> 3419 | H24: =SUM(H25:H29) -> 23796 | I24: =SUM(I25:I29) -> 12650 | J24: =SUM(J25:J29) -> 11146 | K24: =SUM(K25:K29) -> 17570 | L24: =SUM(L25:L29) -> 8944 | ... S24: =SUM(S25:S29) -> 11761
A25: 15 세 | B25: =SUM(C25:D25) -> 23966 | C25: =SUM(F25,I25,L25,O25,R25) -> 12598 | D25: =SUM(G25,J25,M25,P25,S25) -> 11368 | E25: =SUM(F25:G25) -> 1304 | F25: 696 | G25: 608 | H25: =SUM(I25:J25) -> 5292 | I25: 2774 | J25: 2518 | K25: =SUM(L25:M25) -> 3707 | L25: 1934 | M25: 1773 | N25: =SUM(O25:P25) -> 7828 | O25: 4132 | P25: 3696 | Q25: =SUM(R25:S25) -> 5835 | R25: 3062 | S25: 2773
A26: 16 세 | B26: =SUM(C26:D26) -> 24110 | C26: =SUM(F26,I26,L26,O26,R26) -> 12638 | D26: =SUM(G26,J26,M26,P26,S26) -> 11472 | E26: =SUM(F26:G26) -> 1508 | F26: 770 | G26: 738 | H26: =SUM(I26:J26) -> 5192 | I26: 2780 | J26: 2412 | K26: =SUM(L26:M26) -> 3704 | L26: 1875 | M26: 1829 | N26: =SUM(O26:P26) -> 7980 | O26: 4184 | P26: 3796 | Q26: =SUM(R26:S26) -> 5726 | R26: 3029 | S26: 2697
A27: 17 세 | B27: =SUM(C27:D27) -> 22582 | C27: =SUM(F27,I27,L27,O27,R27) -> 11791 | D27: =SUM(G27,J27,M27,P27,S27) -> 10791 | E27: =SUM(F27:G27) -> 1429 | F27: 697 | G27: 732 | H27: =SUM(I27:J27) -> 4825 | I27: 2560 | J27: 2265 | K27: =SUM(L27:M27) -> 3693 | L27: 1870 | M27: 1823 | N27: =SUM(O27:P27) -> 7673 | O27: 4045 | P27: 3628 | Q27: =SUM(R27:S27) -> 4962 | R27: 2619 | S27: 2343
A28: 18 세 | B28: =SUM(C28:D28) -> 20254 | C28: =SUM(F28,I28,L28,O28,R28) -> 10704 | D28: =SUM(G28,J28,M28,P28,S28) -> 9550 | E28: =SUM(F28:G28) -> 1354 | F28: 701 | G28: 653 | H28: =SUM(I28:J28) -> 4325 | I28: 2349 | J28: 1976 | K28: =SUM(L28:M28) -> 3226 | L28: 1633 | M28: 1593 | N28: =SUM(O28:P28) -> 7064 | O28: 3742 | P28: 3322 | Q28: =SUM(R28:S28) -> 4285 | R28: 2279 | S28: 2006
A29: 19 세 | B29: =SUM(C29:D29) -> 19654 | C29: =SUM(F29,I29,L29,O29,R29) -> 10135 | D29: =SUM(G29,J29,M29,P29,S29) -> 9519 | E29: =SUM(F29:G29) -> 1385 | F29: 697 | G29: 688 | H29: =SUM(I29:J29) -> 4162 | I29: 2187 | J29: 1975 | K29: =SUM(L29:M29) -> 3240 | L29: 1632 | M29: 1608 | N29: =SUM(O29:P29) -> 6888 | O29: 3582 | P29: 3306 | Q29: =SUM(R29:S29) -> 3979 | R29: 2037 | S29: 1942
A30: 20-24 | B30: =SUM(C30:D30) -> 96981 | C30: =SUM(F30,I30,L30,O30,R30) -> 49799 | D30: =SUM(G30,J30,M30,P30,S30) -> 47182 | E30: =SUM(E31:E35) -> 8651 | F30: =SUM(F31:F35) -> 4425 | G30: =SUM(G31:G35) -> 4226 | H30: =SUM(H31:H35) -> 20639 | I30: =SUM(I31:I35) -> 10550 | J30: =SUM(J31:J35) -> 10089 | K30: =SUM(K31:K35) -> 16197 | L30: =SUM(L31:L35) -> 8188 | ... S30: =SUM(S31:S35) -> 8352
A31: 20 세 | B31: =SUM(C31:D31) -> 19243 | C31: =SUM(F31,I31,L31,O31,R31) -> 9913 | D31: =SUM(G31,J31,M31,P31,S31) -> 9330 | E31: =SUM(F31:G31) -> 1511 | F31: 767 | G31: 744 | H31: =SUM(I31:J31) -> 4005 | I31: 2057 | J31: 1948 | K31: =SUM(L31:M31) -> 3194 | L31: 1598 | M31: 1596 | N31: =SUM(O31:P31) -> 6824 | O31: 3572 | P31: 3252 | Q31: =SUM(R31:S31) -> 3709 | R31: 1919 | S31: 1790
A32: 21 세 | B32: =SUM(C32:D32) -> 18999 | C32: =SUM(F32,I32,L32,O32,R32) -> 9661 | D32: =SUM(G32,J32,M32,P32,S32) -> 9338 | E32: =SUM(F32:G32) -> 1577 | F32: 757 | G32: 820 | H32: =SUM(I32:J32) -> 4069 | I32: 2104 | J32: 1965 | K32: =SUM(L32:M32) -> 3151 | L32: 1577 | M32: 1574 | N32: =SUM(O32:P32) -> 6682 | O32: 3406 | P32: 3276 | Q32: =SUM(R32:S32) -> 3520 | R32: 1817 | S32: 1703
A33: 22 세 | B33: =SUM(C33:D33) -> 18922 | C33: =SUM(F33,I33,L33,O33,R33) -> 9688 | D33: =SUM(G33,J33,M33,P33,S33) -> 9234 | E33: =SUM(F33:G33) -> 1679 | F33: 841 | G33: 838 | H33: =SUM(I33:J33) -> 3988 | I33: 2051 | J33: 1937 | K33: =SUM(L33:M33) -> 3109 | L33: 1590 | M33: 1519 | N33: =SUM(O33:P33) -> 6764 | O33: 3455 | P33: 3309 | Q33: =SUM(R33:S33) -> 3382 | R33: 1751 | S33: 1631
A34: 23 세 | B34: =SUM(C34:D34) -> 19729 | C34: =SUM(F34,I34,L34,O34,R34) -> 10164 | D34: =SUM(G34,J34,M34,P34,S34) -> 9565 | E34: =SUM(F34:G34) -> 1950 | F34: 1024 | G34: 926 | H34: =SUM(I34:J34) -> 4258 | I34: 2128 | J34: 2130 | K34: =SUM(L34:M34) -> 3303 | L34: 1700 | M34: 1603 | N34: =SUM(O34:P34) -> 6850 | O34: 3552 | P34: 3298 | Q34: =SUM(R34:S34) -> 3368 | R34: 1760 | S34: 1608
A35: 24 세 | B35: =SUM(C35:D35) -> 20088 | C35: =SUM(F35,I35,L35,O35,R35) -> 10373 | D35: =SUM(G35,J35,M35,P35,S35) -> 9715 | E35: =SUM(F35:G35) -> 1934 | F35: 1036 | G35: 898 | H35: =SUM(I35:J35) -> 4319 | I35: 2210 | J35: 2109 | K35: =SUM(L35:M35) -> 3440 | L35: 1723 | M35: 1717 | N35: =SUM(O35:P35) -> 7095 | O35: 3724 | P35: 3371 | Q35: =SUM(R35:S35) -> 3300 | R35: 1680 | S35: 1620
A36: 25-29 | B36: =SUM(C36:D36) -> 118844 | C36: =SUM(F36,I36,L36,O36,R36) -> 59575 | D36: =SUM(G36,J36,M36,P36,S36) -> 59269 | E36: =SUM(E37:E41) -> 10590 | F36: =SUM(F37:F41) -> 5581 | G36: =SUM(G37:G41) -> 5009 | H36: =SUM(H37:H41) -> 25462 | I36: =SUM(I37:I41) -> 12493 | J36: =SUM(J37:J41) -> 12969 | K36: =SUM(K37:K41) -> 18985 | L36: =SUM(L37:L41) -> 9706 | ... S36: =SUM(S37:S41) -> 11473
A37: 25 세 | B37: =SUM(C37:D37) -> 22598 | C37: =SUM(F37,I37,L37,O37,R37) -> 11626 | D37: =SUM(G37,J37,M37,P37,S37) -> 10972 | E37: =SUM(F37:G37) -> 2092 | F37: 1069 | G37: 1023 | H37: =SUM(I37:J37) -> 4980 | I37: 2517 | J37: 2463 | K37: =SUM(L37:M37) -> 3826 | L37: 2040 | M37: 1786 | N37: =SUM(O37:P37) -> 7901 | O37: 4053 | P37: 3848 | Q37: =SUM(R37:S37) -> 3799 | R37: 1947 | S37: 1852
A38: 26 세 | B38: =SUM(C38:D38) -> 24480 | C38: =SUM(F38,I38,L38,O38,R38) -> 12478 | D38: =SUM(G38,J38,M38,P38,S38) -> 12002 | E38: =SUM(F38:G38) -> 2328 | F38: 1250 | G38: 1078 | H38: =SUM(I38:J38) -> 5279 | I38: 2615 | J38: 2664 | K38: =SUM(L38:M38) -> 4107 | L38: 2079 | M38: 2028 | N38: =SUM(O38:P38) -> 8363 | O38: 4311 | P38: 4052 | Q38: =SUM(R38:S38) -> 4403 | R38: 2223 | S38: 2180
A39: 27 세 | B39: =SUM(C39:D39) -> 24291 | C39: =SUM(F39,I39,L39,O39,R39) -> 12098 | D39: =SUM(G39,J39,M39,P39,S39) -> 12193 | E39: =SUM(F39:G39) -> 2242 | F39: 1180 | G39: 1062 | H39: =SUM(I39:J39) -> 5149 | I39: 2578 | J39: 2571 | K39: =SUM(L39:M39) -> 3870 | L39: 1919 | M39: 1951 | N39: =SUM(O39:P39) -> 8498 | O39: 4222 | P39: 4276 | Q39: =SUM(R39:S39) -> 4532 | R39: 2199 | S39: 2333
A40: 28 세 | B40: =SUM(C40:D40) -> 23528 | C40: =SUM(F40,I40,L40,O40,R40) -> 11675 | D40: =SUM(G40,J40,M40,P40,S40) -> 11853 | E40: =SUM(F40:G40) -> 1985 | F40: 1044 | G40: 941 | H40: =SUM(I40:J40) -> 5019 | I40: 2386 | J40: 2633 | K40: =SUM(L40:M40) -> 3598 | L40: 1834 | M40: 1764 | N40: =SUM(O40:P40) -> 8308 | O40: 4167 | P40: 4141 | Q40: =SUM(R40:S40) -> 4618 | R40: 2244 | S40: 2374
...

Sheet 2009년
A1: 3. 구별·연령별 한국인 현황(외국인 제외)
R2: (단위 : 명)
A3: 구 분 | B3: 합 계 | E3: 동 구 | H3: 서 구 | K3: 남 구 | N3: 북 구 | Q3: 광 산 구
B4: 계 | C4: 남 | D4: 여 | E4: 계 | F4: 남 | G4: 여 | H4: 계 | I4: 남 | J4: 여 | K4: 계 | L4: 남 | M4: 여 | N4: 계 | O4: 남 | P4: 여 | Q4: 계 | R4: 남 | S4: 여
A5: 2009 | B5: =SUM(B6,B12,B18,B24,B30,B36,B42,B48,B54,B60,B66,B72,B78,B84,B90,B96,B102,B108,B114,B120,B126) -> 1433640 | C5: =SUM(C6,C12,C18,C24,C30,C36,C42,C48,C54,C60,C66,C72,C78,C84,C90,C96,C102,C108,C114,C120,C126) -> 711091 | D5: =SUM(D6,D12,D18,D24,D30,D36,D42,D48,D54,D60,D66,D72,D78,D84,D90,D96,D102,D108,D114,D120,D126) -> 722549 | E5: =SUM(E6,E12,E18,E24,E30,E36,E42,E48,E54,E60,E66,E72,E78,E84,E90,E96,E102,E108,E114,E120,E126) -> 107772 | F5: =SUM(F6,F12,F18,F24,F30,F36,F42,F48,F54,F60,F66,F72,F78,F84,F90,F96,F102,F108,F114,F120,F126) -> 53791 | G5: =SUM(G6,G12,G18,G24,G30,G36,G42,G48,G54,G60,G66,G72,G78,G84,G90,G96,G102,G108,G114,G120,G126) -> 53981 | H5: =SUM(H6,H12,H18,H24,H30,H36,H42,H48,H54,H60,H66,H72,H78,H84,H90,H96,H102,H108,H114,H120,H126) -> 299825 | I5: =SUM(I6,I12,I18,I24,I30,I36,I42,I48,I54,I60,I66,I72,I78,I84,I90,I96,I102,I108,I114,I120,I126) -> 147651 | ... S5: =SUM(S6,S12,S18,S24,S30,S36,S42,S48,S54,S60,S66,S72,S78,S84,S90,S96,S102,S108,S114,S120,S126) -> 170641
A6: 0 - 4 | B6: =SUM(C6:D6) -> 70512 | C6: =SUM(F6,I6,L6,O6,R6) -> 36529 | D6: =SUM(G6,J6,M6,P6,S6) -> 33983 | E6: =SUM(E7:E11) -> 3135 | F6: =SUM(F7:F11) -> 1635 | G6: =SUM(G7:G11) -> 1500 | H6: =SUM(H7:H11) -> 13912 | I6: =SUM(I7:I11) -> 7207 | J6: =SUM(J7:J11) -> 6705 | K6: =SUM(K7:K11) -> 8196 | L6: =SUM(L7:L11) -> 4163 | ... S6: =SUM(S7:S11) -> 11046
A7: 0 세 | B7: =SUM(C7:D7) -> 12787 | C7: =SUM(F7,I7,L7,O7,R7) -> 6586 | D7: =SUM(G7,J7,M7,P7,S7) -> 6201 | E7: =SUM(F7:G7) -> 560 | F7: 300 | G7: 260 | H7: =SUM(I7:J7) -> 2555 | I7: 1327 | J7: 1228 | K7: =SUM(L7:M7) -> 1487 | L7: 731 | M7: 756 | N7: =SUM(O7:P7) -> 4161 | O7: 2192 | P7: 1969 | Q7: =SUM(R7:S7) -> 4024 | R7: 2036 | S7: 1988
A8: 1 세 | B8: =SUM(C8:D8) -> 14202 | C8: =SUM(F8,I8,L8,O8,R8) -> 7285 | D8: =SUM(G8,J8,M8,P8,S8) -> 6917 | E8: =SUM(F8:G8) -> 613 | F8: 321 | G8: 292 | H8: =SUM(I8:J8) -> 2782 | I8: 1406 | J8: 1376 | K8: =SUM(L8:M8) -> 1682 | L8: 865 | M8: 817 | N8: =SUM(O8:P8) -> 4504 | O8: 2325 | P8: 2179 | Q8: =SUM(R8:S8) -> 4621 | R8: 2368 | S8: 2253
A9: 2 세 | B9: =SUM(C9:D9) -> 15442 | C9: =SUM(F9,I9,L9,O9,R9) -> 8080 | D9: =SUM(G9,J9,M9,P9,S9) -> 7362 | E9: =SUM(F9:G9) -> 717 | F9: 367 | G9: 350 | H9: =SUM(I9:J9) -> 2966 | I9: 1553 | J9: 1413 | K9: =SUM(L9:M9) -> 1766 | L9: 900 | M9: 866 | N9: =SUM(O9:P9) -> 4992 | O9: 2645 | P9: 2347 | Q9: =SUM(R9:S9) -> 5001 | R9: 2615 | S9: 2386
A10: 3 세 | B10: =SUM(C10:D10) -> 14248 | C10: =SUM(F10,I10,L10,O10,R10) -> 7387 | D10: =SUM(G10,J10,M10,P10,S10) -> 6861 | E10: =SUM(F10:G10) -> 630 | F10: 322 | G10: 308 | H10: =SUM(I10:J10) -> 2795 | I10: 1455 | J10: 1340 | K10: =SUM(L10:M10) -> 1687 | L10: 849 | M10: 838 | N10: =SUM(O10:P10) -> 4446 | O10: 2309 | P10: 2137 | Q10: =SUM(R10:S10) -> 4690 | R10: 2452 | S10: 2238
A11: 4 세 | B11: =SUM(C11:D11) -> 13833 | C11: =SUM(F11,I11,L11,O11,R11) -> 7191 | D11: =SUM(G11,J11,M11,P11,S11) -> 6642 | E11: =SUM(F11:G11) -> 615 | F11: 325 | G11: 290 | H11: =SUM(I11:J11) -> 2814 | I11: 1466 | J11: 1348 | K11: =SUM(L11:M11) -> 1574 | L11: 818 | M11: 756 | N11: =SUM(O11:P11) -> 4277 | O11: 2210 | P11: 2067 | Q11: =SUM(R11:S11) -> 4553 | R11: 2372 | S11: 2181
A12: 5 - 9 | B12: =SUM(C12:D12) -> 89830 | C12: =SUM(F12,I12,L12,O12,R12) -> 46897 | D12: =SUM(G12,J12,M12,P12,S12) -> 42933 | E12: =SUM(E13:E17) -> 4457 | F12: =SUM(F13:F17) -> 2367 | G12: =SUM(G13:G17) -> 2090 | H12: =SUM(H13:H17) -> 19353 | I12: =SUM(I13:I17) -> 10094 | J12: =SUM(J13:J17) -> 9259 | K12: =SUM(K13:K17) -> 10324 | L12: =SUM(L13:L17) -> 5384 | ... S12: =SUM(S13:S17) -> 13491
A13: 5 세 | B13: =SUM(C13:D13) -> 15242 | C13: =SUM(F13,I13,L13,O13,R13) -> 7913 | D13: =SUM(G13,J13,M13,P13,S13) -> 7329 | E13: =SUM(F13:G13) -> 752 | F13: 387 | G13: 365 | H13: =SUM(I13:J13) -> 3213 | I13: 1636 | J13: 1577 | K13: =SUM(L13:M13) -> 1700 | L13: 886 | M13: 814 | N13: =SUM(O13:P13) -> 4721 | O13: 2463 | P13: 2258 | Q13: =SUM(R13:S13) -> 4856 | R13: 2541 | S13: 2315
A14: 6 세 | B14: =SUM(C14:D14) -> 16819 | C14: =SUM(F14,I14,L14,O14,R14) -> 8859 | D14: =SUM(G14,J14,M14,P14,S14) -> 7960 | E14: =SUM(F14:G14) -> 787 | F14: 436 | G14: 351 | H14: =SUM(I14:J14) -> 3554 | I14: 1882 | J14: 1672 | K14: =SUM(L14:M14) -> 1825 | L14: 944 | M14: 881 | N14: =SUM(O14:P14) -> 5206 | O14: 2756 | P14: 2450 | Q14: =SUM(R14:S14) -> 5447 | R14: 2841 | S14: 2606
A15: 7 세 | B15: =SUM(C15:D15) -> 16485 | C15: =SUM(F15,I15,L15,O15,R15) -> 8595 | D15: =SUM(G15,J15,M15,P15,S15) -> 7890 | E15: =SUM(F15:G15) -> 813 | F15: 419 | G15: 394 | H15: =SUM(I15:J15) -> 3563 | I15: 1911 | J15: 1652 | K15: =SUM(L15:M15) -> 1942 | L15: 1023 | M15: 919 | N15: =SUM(O15:P15) -> 5107 | O15: 2633 | P15: 2474 | Q15: =SUM(R15:S15) -> 5060 | R15: 2609 | S15: 2451
A16: 8 세 | B16: =SUM(C16:D16) -> 19117 | C16: =SUM(F16,I16,L16,O16,R16) -> 9895 | D16: =SUM(G16,J16,M16,P16,S16) -> 9222 | E16: =SUM(F16:G16) -> 975 | F16: 524 | G16: 451 | H16: =SUM(I16:J16) -> 4222 | I16: 2172 | J16: 2050 | K16: =SUM(L16:M16) -> 2213 | L16: 1140 | M16: 1073 | N16: =SUM(O16:P16) -> 5837 | O16: 3050 | P16: 2787 | Q16: =SUM(R16:S16) -> 5870 | R16: 3009 | S16: 2861
A17: 9 세 | B17: =SUM(C17:D17) -> 22167 | C17: =SUM(F17,I17,L17,O17,R17) -> 11635 | D17: =SUM(G17,J17,M17,P17,S17) -> 10532 | E17: =SUM(F17:G17) -> 1130 | F17: 601 | G17: 529 | H17: =SUM(I17:J17) -> 4801 | I17: 2493 | J17: 2308 | K17: =SUM(L17:M17) -> 2644 | L17: 1391 | M17: 1253 | N17: =SUM(O17:P17) -> 6845 | O17: 3661 | P17: 3184 | Q17: =SUM(R17:S17) -> 6747 | R17: 3489 | S17: 3258
A18: 10-14 | B18: =SUM(C18:D18) -> 115920 | C18: =SUM(F18,I18,L18,O18,R18) -> 60185 | D18: =SUM(G18,J18,M18,P18,S18) -> 55735 | E18: =SUM(E19:E23) -> 5974 | F18: =SUM(F19:F23) -> 3085 | G18: =SUM(G19:G23) -> 2889 | H18: =SUM(H19:H23) -> 25388 | I18: =SUM(I19:I23) -> 13370 | J18: =SUM(J19:J23) -> 12018 | K18: =SUM(K19:K23) -> 16005 | L18: =SUM(L19:L23) -> 8263 | ... S18: =SUM(S19:S23) -> 15592
A19: 10 세 | B19: =SUM(C19:D19) -> 21406 | C19: =SUM(F19,I19,L19,O19,R19) -> 11136 | D19: =SUM(G19,J19,M19,P19,S19) -> 10270 | E19: =SUM(F19:G19) -> 1040 | F19: 542 | G19: 498 | H19: =SUM(I19:J19) -> 4719 | I19: 2477 | J19: 2242 | K19: =SUM(L19:M19) -> 2713 | L19: 1416 | M19: 1297 | N19: =SUM(O19:P19) -> 6593 | O19: 3406 | P19: 3187 | Q19: =SUM(R19:S19) -> 6341 | R19: 3295 | S19: 3046
A20: 11 세 | B20: =SUM(C20:D20) -> 22399 | C20: =SUM(F20,I20,L20,O20,R20) -> 11660 | D20: =SUM(G20,J20,M20,P20,S20) -> 10739 | E20: =SUM(F20:G20) -> 1249 | F20: 681 | G20: 568 | H20: =SUM(I20:J20) -> 4917 | I20: 2592 | J20: 2325 | K20: =SUM(L20:M20) -> 3020 | L20: 1588 | M20: 1432 | N20: =SUM(O20:P20) -> 6889 | O20: 3555 | P20: 3334 | Q20: =SUM(R20:S20) -> 6324 | R20: 3244 | S20: 3080
A21: 12 세 | B21: =SUM(C21:D21) -> 23726 | C21: =SUM(F21,I21,L21,O21,R21) -> 12235 | D21: =SUM(G21,J21,M21,P21,S21) -> 11491 | E21: =SUM(F21:G21) -> 1177 | F21: 634 | G21: 543 | H21: =SUM(I21:J21) -> 5152 | I21: 2676 | J21: 2476 | K21: =SUM(L21:M21) -> 3290 | L21: 1725 | M21: 1565 | N21: =SUM(O21:P21) -> 7457 | O21: 3788 | P21: 3669 | Q21: =SUM(R21:S21) -> 6650 | R21: 3412 | S21: 3238
A22: 13 세 | B22: =SUM(C22:D22) -> 23702 | C22: =SUM(F22,I22,L22,O22,R22) -> 12438 | D22: =SUM(G22,J22,M22,P22,S22) -> 11264 | E22: =SUM(F22:G22) -> 1248 | F22: 615 | G22: 633 | H22: =SUM(I22:J22) -> 5101 | I22: 2711 | J22: 2390 | K22: =SUM(L22:M22) -> 3372 | L22: 1729 | M22: 1643 | N22: =SUM(O22:P22) -> 7478 | O22: 3977 | P22: 3501 | Q22: =SUM(R22:S22) -> 6503 | R22: 3406 | S22: 3097
A23: 14 세 | B23: =SUM(C23:D23) -> 24687 | C23: =SUM(F23,I23,L23,O23,R23) -> 12716 | D23: =SUM(G23,J23,M23,P23,S23) -> 11971 | E23: =SUM(F23:G23) -> 1260 | F23: 613 | G23: 647 | H23: =SUM(I23:J23) -> 5499 | I23: 2914 | J23: 2585 | K23: =SUM(L23:M23) -> 3610 | L23: 1805 | M23: 1805 | N23: =SUM(O23:P23) -> 7903 | O23: 4100 | P23: 3803 | Q23: =SUM(R23:S23) -> 6415 | R23: 3284 | S23: 3131
A24: 15-19 | B24: =SUM(C24:D24) -> 114862 | C24: =SUM(F24,I24,L24,O24,R24) -> 60410 | D24: =SUM(G24,J24,M24,P24,S24) -> 54452 | E24: =SUM(E25:E29) -> 7056 | F24: =SUM(F25:F29) -> 3644 | G24: =SUM(G25:G29) -> 3412 | H24: =SUM(H25:H29) -> 24404 | I24: =SUM(I25:I29) -> 12976 | J24: =SUM(J25:J29) -> 11428 | K24: =SUM(K25:K29) -> 17881 | L24: =SUM(L25:L29) -> 9132 | ... S24: =SUM(S25:S29) -> 13003
A25: 15 세 | B25: =SUM(C25:D25) -> 24403 | C25: =SUM(F25,I25,L25,O25,R25) -> 12913 | D25: =SUM(G25,J25,M25,P25,S25) -> 11490 | E25: =SUM(F25:G25) -> 1388 | F25: 744 | G25: 644 | H25: =SUM(I25:J25) -> 5331 | I25: 2832 | J25: 2499 | K25: =SUM(L25:M25) -> 3656 | L25: 1889 | M25: 1767 | N25: =SUM(O25:P25) -> 7866 | O25: 4231 | P25: 3635 | Q25: =SUM(R25:S25) -> 6162 | R25: 3217 | S25: 2945
A26: 16 세 | B26: =SUM(C26:D26) -> 23826 | C26: =SUM(F26,I26,L26,O26,R26) -> 12516 | D26: =SUM(G26,J26,M26,P26,S26) -> 11310 | E26: =SUM(F26:G26) -> 1349 | F26: 711 | G26: 638 | H26: =SUM(I26:J26) -> 5136 | I26: 2689 | J26: 2447 | K26: =SUM(L26:M26) -> 3704 | L26: 1922 | M26: 1782 | N26: =SUM(O26:P26) -> 7732 | O26: 4106 | P26: 3626 | Q26: =SUM(R26:S26) -> 5905 | R26: 3088 | S26: 2817
A27: 17 세 | B27: =SUM(C27:D27) -> 24103 | C27: =SUM(F27,I27,L27,O27,R27) -> 12638 | D27: =SUM(G27,J27,M27,P27,S27) -> 11465 | E27: =SUM(F27:G27) -> 1520 | F27: 784 | G27: 736 | H27: =SUM(I27:J27) -> 5086 | I27: 2708 | J27: 2378 | K27: =SUM(L27:M27) -> 3710 | L27: 1875 | M27: 1835 | N27: =SUM(O27:P27) -> 7925 | O27: 4146 | P27: 3779 | Q27: =SUM(R27:S27) -> 5862 | R27: 3125 | S27: 2737
A28: 18 세 | B28: =SUM(C28:D28) -> 22470 | C28: =SUM(F28,I28,L28,O28,R28) -> 11741 | D28: =SUM(G28,J28,M28,P28,S28) -> 10729 | E28: =SUM(F28:G28) -> 1419 | F28: 695 | G28: 724 | H28: =SUM(I28:J28) -> 4695 | I28: 2497 | J28: 2198 | K28: =SUM(L28:M28) -> 3689 | L28: 1851 | M28: 1838 | N28: =SUM(O28:P28) -> 7583 | O28: 4011 | P28: 3572 | Q28: =SUM(R28:S28) -> 5084 | R28: 2687 | S28: 2397
A29: 19 세 | B29: =SUM(C29:D29) -> 20060 | C29: =SUM(F29,I29,L29,O29,R29) -> 10602 | D29: =SUM(G29,J29,M29,P29,S29) -> 9458 | E29: =SUM(F29:G29) -> 1380 | F29: 710 | G29: 670 | H29: =SUM(I29:J29) -> 4156 | I29: 2250 | J29: 1906 | K29: =SUM(L29:M29) -> 3122 | L29: 1595 | M29: 1527 | N29: =SUM(O29:P29) -> 6932 | O29: 3684 | P29: 3248 | Q29: =SUM(R29:S29) -> 4470 | R29: 2363 | S29: 2107
A30: 20-24 | B30: =SUM(C30:D30) -> 95604 | C30: =SUM(F30,I30,L30,O30,R30) -> 49024 | D30: =SUM(G30,J30,M30,P30,S30) -> 46580 | E30: =SUM(E31:E35) -> 8094 | F30: =SUM(F31:F35) -> 4074 | G30: =SUM(G31:G35) -> 4020 | H30: =SUM(H31:H35) -> 20047 | I30: =SUM(I31:I35) -> 10278 | J30: =SUM(J31:J35) -> 9769 | K30: =SUM(K31:K35) -> 15485 | L30: =SUM(L31:L35) -> 7822 | ... S30: =SUM(S31:S35) -> 9048
A31: 20 세 | B31: =SUM(C31:D31) -> 19512 | C31: =SUM(F31,I31,L31,O31,R31) -> 10044 | D31: =SUM(G31,J31,M31,P31,S31) -> 9468 | E31: =SUM(F31:G31) -> 1399 | F31: 682 | G31: 717 | H31: =SUM(I31:J31) -> 4068 | I31: 2123 | J31: 1945 | K31: =SUM(L31:M31) -> 3171 | L31: 1613 | M31: 1558 | N31: =SUM(O31:P31) -> 6744 | O31: 3494 | P31: 3250 | Q31: =SUM(R31:S31) -> 4130 | R31: 2132 | S31: 1998
A32: 21 세 | B32: =SUM(C32:D32) -> 19076 | C32: =SUM(F32,I32,L32,O32,R32) -> 9803 | D32: =SUM(G32,J32,M32,P32,S32) -> 9273 | E32: =SUM(F32:G32) -> 1525 | F32: 774 | G32: 751 | H32: =SUM(I32:J32) -> 3917 | I32: 2009 | J32: 1908 | K32: =SUM(L32:M32) -> 3085 | L32: 1539 | M32: 1546 | N32: =SUM(O32:P32) -> 6703 | O32: 3481 | P32: 3222 | Q32: =SUM(R32:S32) -> 3846 | R32: 2000 | S32: 1846
A33: 22 세 | B33: =SUM(C33:D33) -> 18816 | C33: =SUM(F33,I33,L33,O33,R33) -> 9585 | D33: =SUM(G33,J33,M33,P33,S33) -> 9231 | E33: =SUM(F33:G33) -> 1616 | F33: 775 | G33: 841 | H33: =SUM(I33:J33) -> 3949 | I33: 2039 | J33: 1910 | K33: =SUM(L33:M33) -> 3082 | L33: 1550 | M33: 1532 | N33: =SUM(O33:P33) -> 6523 | O33: 3326 | P33: 3197 | Q33: =SUM(R33:S33) -> 3646 | R33: 1895 | S33: 1751
A34: 23 세 | B34: =SUM(C34:D34) -> 18727 | C34: =SUM(F34,I34,L34,O34,R34) -> 9599 | D34: =SUM(G34,J34,M34,P34,S34) -> 9128 | E34: =SUM(F34:G34) -> 1659 | F34: 844 | G34: 815 | H34: =SUM(I34:J34) -> 3944 | I34: 2011 | J34: 1933 | K34: =SUM(L34:M34) -> 2998 | L34: 1518 | M34: 1480 | N34: =SUM(O34:P34) -> 6587 | O34: 3402 | P34: 3185 | Q34: =SUM(R34:S34) -> 3539 | R34: 1824 | S34: 1715
A35: 24 세 | B35: =SUM(C35:D35) -> 19473 | C35: =SUM(F35,I35,L35,O35,R35) -> 9993 | D35: =SUM(G35,J35,M35,P35,S35) -> 9480 | E35: =SUM(F35:G35) -> 1895 | F35: 999 | G35: 896 | H35: =SUM(I35:J35) -> 4169 | I35: 2096 | J35: 2073 | K35: =SUM(L35:M35) -> 3149 | L35: 1602 | M35: 1547 | N35: =SUM(O35:P35) -> 6720 | O35: 3494 | P35: 3226 | Q35: =SUM(R35:S35) -> 3540 | R35: 1802 | S35: 1738
A36: 25-29 | B36: =SUM(C36:D36) -> 114159 | C36: =SUM(F36,I36,L36,O36,R36) -> 57769 | D36: =SUM(G36,J36,M36,P36,S36) -> 56390 | E36: =SUM(E37:E41) -> 9811 | F36: =SUM(F37:F41) -> 5207 | G36: =SUM(G37:G41) -> 4604 | H36: =SUM(H37:H41) -> 24234 | I36: =SUM(I37:I41) -> 11958 | J36: =SUM(J37:J41) -> 12276 | K36: =SUM(K37:K41) -> 17997 | L36: =SUM(L37:L41) -> 9162 | ... S36: =SUM(S37:S41) -> 11602
A37: 25 세 | B37: =SUM(C37:D37) -> 19882 | C37: =SUM(F37,I37,L37,O37,R37) -> 10254 | D37: =SUM(G37,J37,M37,P37,S37) -> 9628 | E37: =SUM(F37:G37) -> 1804 | F37: 963 | G37: 841 | H37: =SUM(I37:J37) -> 4242 | I37: 2132 | J37: 2110 | K37: =SUM(L37:M37) -> 3302 | L37: 1652 | M37: 1650 | N37: =SUM(O37:P37) -> 6957 | O37: 3691 | P37: 3266 | Q37: =SUM(R37:S37) -> 3577 | R37: 1816 | S37: 1761
A38: 26 세 | B38: =SUM(C38:D38) -> 22429 | C38: =SUM(F38,I38,L38,O38,R38) -> 11485 | D38: =SUM(G38,J38,M38,P38,S38) -> 10944 | E38: =SUM(F38:G38) -> 1950 | F38: 1001 | G38: 949 | H38: =SUM(I38:J38) -> 4922 | I38: 2456 | J38: 2466 | K38: =SUM(L38:M38) -> 3668 | L38: 1952 | M38: 1716 | N38: =SUM(O38:P38) -> 7694 | O38: 3939 | P38: 3755 | Q38: =SUM(R38:S38) -> 4195 | R38: 2137 | S38: 2058
A39: 27 세 | B39: =SUM(C39:D39) -> 24222 | C39: =SUM(F39,I39,L39,O39,R39) -> 12269 | D39: =SUM(G39,J39,M39,P39,S39) -> 11953 | E39: =SUM(F39:G39) -> 2158 | F39: 1158 | G39: 1000 | H39: =SUM(I39:J39) -> 5163 | I39: 2522 | J39: 2641 | K39: =SUM(L39:M39) -> 3851 | L39: 1932 | M39: 1919 | N39: =SUM(O39:P39) -> 8168 | O39: 4242 | P39: 3926 | Q39: =SUM(R39:S39) -> 4882 | R39: 2415 | S39: 2467
A40: 28 세 | B40: =SUM(C40:D40) -> 24094 | C40: =SUM(F40,I40,L40,O40,R40) -> 12005 | D40: =SUM(G40,J40,M40,P40,S40) -> 12089 | E40: =SUM(F40:G40) -> 2085 | F40: 1115 | G40: 970 | H40: =SUM(I40:J40) -> 5047 | I40: 2526 | J40: 2521 | K40: =SUM(L40:M40) -> 3724 | L40: 1857 | M40: 1867 | N40: =SUM(O40:P40) -> 8208 | O40: 4099 | P40: 4109 | Q40: =SUM(R40:S40) -> 5030 | R40: 2408 | S40: 2622
...

Sheet 2010년
A1: 3. 구별·연령별 한국인 현황(외국인 제외)
S2: (단위 : 명)
A3: =[1]연령별!A3 -> 구 분 | B3: 합 계 | E3: 동 구 | H3: 서 구 | K3: 남 구 | N3: 북 구 | Q3: 광 산 구
B4: 계 | C4: 남 | D4: 여 | E4: =[1]연령별!B4 -> 계 | F4: =[1]연령별!C4 -> 남 | G4: =[1]연령별!D4 -> 여 | H4: =[2]연령별!B4 -> 계 | I4: =[2]연령별!C4 -> 남 | J4: =[2]연령별!D4 -> 여 | K4: =[3]연령별!B4 -> 계 | L4: =[3]연령별!C4 -> 남 | M4: =[3]연령별!D4 -> 여 | N4: =[4]연령별!B4 -> 계 | O4: =[4]연령별!C4 -> 남 | P4: =[4]연령별!D4 -> 여 | Q4: =[5]연령별!B4 -> 계 | R4: =[5]연령별!C4 -> 남 | S4: =[5]연령별!D4 -> 여
A5: 2010 | B5: =SUM(C5:D5) -> 1454636 | C5: =SUM(F5,I5,L5,O5,R5) -> 721780 | D5: =SUM(G5,J5,M5,P5,S5) -> 732856 | E5: =[1]연령별!B5 -> 104449 | F5: =[1]연령별!C5 -> 52221 | G5: =[1]연령별!D5 -> 52228 | H5: =[2]연령별!B5 -> 303219 | I5: =[2]연령별!C5 -> 149345 | J5: =[2]연령별!D5 -> 153874 | K5: =[3]연령별!B5 -> 216863 | L5: =[3]연령별!C5 -> 105612 | M5: =[3]연령별!D5 -> 111251 | N5: =[4]연령별!B5 -> 466866 | O5: =[4]연령별!C5 -> 232226 | P5: =[4]연령별!D5 -> 234640 | Q5: =[5]연령별!B5 -> 363239 | R5: =[5]연령별!C5 -> 182376 | S5: =[5]연령별!D5 -> 180863
A6: =[1]연령별!A6 -> 0 - 4 | B6: =SUM(C6:D6) -> 71779 | C6: =SUM(F6,I6,L6,O6,R6) -> 37124 | D6: =SUM(G6,J6,M6,P6,S6) -> 34655 | E6: =[1]연령별!B6 -> 3122 | F6: =[1]연령별!C6 -> 1650 | G6: =[1]연령별!D6 -> 1472 | H6: =[2]연령별!B6 -> 13780 | I6: =[2]연령별!C6 -> 7106 | J6: =[2]연령별!D6 -> 6674 | K6: =[3]연령별!B6 -> 8459 | L6: =[3]연령별!C6 -> 4312 | M6: =[3]연령별!D6 -> 4147 | N6: =[4]연령별!B6 -> 21758 | O6: =[4]연령별!C6 -> 11298 | P6: =[4]연령별!D6 -> 10460 | Q6: =[5]연령별!B6 -> 24660 | R6: =[5]연령별!C6 -> 12758 | S6: =[5]연령별!D6 -> 11902
A7: =[1]연령별!A7 -> 0 세 | B7: =SUM(C7:D7) -> 13506 | C7: =SUM(F7,I7,L7,O7,R7) -> 6963 | D7: =SUM(G7,J7,M7,P7,S7) -> 6543 | E7: =[1]연령별!B7 -> 646 | F7: =[1]연령별!C7 -> 356 | G7: =[1]연령별!D7 -> 290 | H7: =[2]연령별!B7 -> 2568 | I7: =[2]연령별!C7 -> 1357 | J7: =[2]연령별!D7 -> 1211 | K7: =[3]연령별!B7 -> 1676 | L7: =[3]연령별!C7 -> 845 | M7: =[3]연령별!D7 -> 831 | N7: =[4]연령별!B7 -> 4044 | O7: =[4]연령별!C7 -> 2050 | P7: =[4]연령별!D7 -> 1994 | Q7: =[5]연령별!B7 -> 4572 | R7: =[5]연령별!C7 -> 2355 | S7: =[5]연령별!D7 -> 2217
A8: =[1]연령별!A8 -> 1 세 | B8: =SUM(C8:D8) -> 13663 | C8: =SUM(F8,I8,L8,O8,R8) -> 7023 | D8: =SUM(G8,J8,M8,P8,S8) -> 6640 | E8: =[1]연령별!B8 -> 555 | F8: =[1]연령별!C8 -> 307 | G8: =[1]연령별!D8 -> 248 | H8: =[2]연령별!B8 -> 2621 | I8: =[2]연령별!C8 -> 1334 | J8: =[2]연령별!D8 -> 1287 | K8: =[3]연령별!B8 -> 1579 | L8: =[3]연령별!C8 -> 784 | M8: =[3]연령별!D8 -> 795 | N8: =[4]연령별!B8 -> 4214 | O8: =[4]연령별!C8 -> 2216 | P8: =[4]연령별!D8 -> 1998 | Q8: =[5]연령별!B8 -> 4694 | R8: =[5]연령별!C8 -> 2382 | S8: =[5]연령별!D8 -> 2312
A9: =[1]연령별!A9 -> 2 세 | B9: =SUM(C9:D9) -> 14478 | C9: =SUM(F9,I9,L9,O9,R9) -> 7403 | D9: =SUM(G9,J9,M9,P9,S9) -> 7075 | E9: =[1]연령별!B9 -> 617 | F9: =[1]연령별!C9 -> 324 | G9: =[1]연령별!D9 -> 293 | H9: =[2]연령별!B9 -> 2801 | I9: =[2]연령별!C9 -> 1423 | J9: =[2]연령별!D9 -> 1378 | K9: =[3]연령별!B9 -> 1701 | L9: =[3]연령별!C9 -> 875 | M9: =[3]연령별!D9 -> 826 | N9: =[4]연령별!B9 -> 4359 | O9: =[4]연령별!C9 -> 2229 | P9: =[4]연령별!D9 -> 2130 | Q9: =[5]연령별!B9 -> 5000 | R9: =[5]연령별!C9 -> 2552 | S9: =[5]연령별!D9 -> 2448
A10: =[1]연령별!A10 -> 3 세 | B10: =SUM(C10:D10) -> 15731 | C10: =SUM(F10,I10,L10,O10,R10) -> 8246 | D10: =SUM(G10,J10,M10,P10,S10) -> 7485 | E10: =[1]연령별!B10 -> 700 | F10: =[1]연령별!C10 -> 349 | G10: =[1]연령별!D10 -> 351 | H10: =[2]연령별!B10 -> 2999 | I10: =[2]연령별!C10 -> 1548 | J10: =[2]연령별!D10 -> 1451 | K10: =[3]연령별!B10 -> 1787 | L10: =[3]연령별!C10 -> 934 | M10: =[3]연령별!D10 -> 853 | N10: =[4]연령별!B10 -> 4818 | O10: =[4]연령별!C10 -> 2568 | P10: =[4]연령별!D10 -> 2250 | Q10: =[5]연령별!B10 -> 5427 | R10: =[5]연령별!C10 -> 2847 | S10: =[5]연령별!D10 -> 2580
A11: =[1]연령별!A11 -> 4 세 | B11: =SUM(C11:D11) -> 14401 | C11: =SUM(F11,I11,L11,O11,R11) -> 7489 | D11: =SUM(G11,J11,M11,P11,S11) -> 6912 | E11: =[1]연령별!B11 -> 604 | F11: =[1]연령별!C11 -> 314 | G11: =[1]연령별!D11 -> 290 | H11: =[2]연령별!B11 -> 2791 | I11: =[2]연령별!C11 -> 1444 | J11: =[2]연령별!D11 -> 1347 | K11: =[3]연령별!B11 -> 1716 | L11: =[3]연령별!C11 -> 874 | M11: =[3]연령별!D11 -> 842 | N11: =[4]연령별!B11 -> 4323 | O11: =[4]연령별!C11 -> 2235 | P11: =[4]연령별!D11 -> 2088 | Q11: =[5]연령별!B11 -> 4967 | R11: =[5]연령별!C11 -> 2622 | S11: =[5]연령별!D11 -> 2345
A12: =[1]연령별!A12 -> 5 - 9 | B12: =SUM(C12:D12) -> 82562 | C12: =SUM(F12,I12,L12,O12,R12) -> 43063 | D12: =SUM(G12,J12,M12,P12,S12) -> 39499 | E12: =[1]연령별!B12 -> 3692 | F12: =[1]연령별!C12 -> 1969 | G12: =[1]연령별!D12 -> 1723 | H12: =[2]연령별!B12 -> 17428 | I12: =[2]연령별!C12 -> 9117 | J12: =[2]연령별!D12 -> 8311 | K12: =[3]연령별!B12 -> 9661 | L12: =[3]연령별!C12 -> 5047 | M12: =[3]연령별!D12 -> 4614 | N12: =[4]연령별!B12 -> 24823 | O12: =[4]연령별!C12 -> 12950 | P12: =[4]연령별!D12 -> 11873 | Q12: =[5]연령별!B12 -> 26958 | R12: =[5]연령별!C12 -> 13980 | S12: =[5]연령별!D12 -> 12978
A13: =[1]연령별!A13 -> 5 세 | B13: =SUM(C13:D13) -> 14043 | C13: =SUM(F13,I13,L13,O13,R13) -> 7292 | D13: =SUM(G13,J13,M13,P13,S13) -> 6751 | E13: =[1]연령별!B13 -> 572 | F13: =[1]연령별!C13 -> 307 | G13: =[1]연령별!D13 -> 265 | H13: =[2]연령별!B13 -> 2816 | I13: =[2]연령별!C13 -> 1462 | J13: =[2]연령별!D13 -> 1354 | K13: =[3]연령별!B13 -> 1635 | L13: =[3]연령별!C13 -> 847 | M13: =[3]연령별!D13 -> 788 | N13: =[4]연령별!B13 -> 4201 | O13: =[4]연령별!C13 -> 2166 | P13: =[4]연령별!D13 -> 2035 | Q13: =[5]연령별!B13 -> 4819 | R13: =[5]연령별!C13 -> 2510 | S13: =[5]연령별!D13 -> 2309
A14: =[1]연령별!A14 -> 6 세 | B14: =SUM(C14:D14) -> 15646 | C14: =SUM(F14,I14,L14,O14,R14) -> 8143 | D14: =SUM(G14,J14,M14,P14,S14) -> 7503 | E14: =[1]연령별!B14 -> 707 | F14: =[1]연령별!C14 -> 366 | G14: =[1]연령별!D14 -> 341 | H14: =[2]연령별!B14 -> 3278 | I14: =[2]연령별!C14 -> 1682 | J14: =[2]연령별!D14 -> 1596 | K14: =[3]연령별!B14 -> 1784 | L14: =[3]연령별!C14 -> 943 | M14: =[3]연령별!D14 -> 841 | N14: =[4]연령별!B14 -> 4693 | O14: =[4]연령별!C14 -> 2444 | P14: =[4]연령별!D14 -> 2249 | Q14: =[5]연령별!B14 -> 5184 | R14: =[5]연령별!C14 -> 2708 | S14: =[5]연령별!D14 -> 2476
A15: =[1]연령별!A15 -> 7 세 | B15: =SUM(C15:D15) -> 16904 | C15: =SUM(F15,I15,L15,O15,R15) -> 8933 | D15: =SUM(G15,J15,M15,P15,S15) -> 7971 | E15: =[1]연령별!B15 -> 767 | F15: =[1]연령별!C15 -> 418 | G15: =[1]연령별!D15 -> 349 | H15: =[2]연령별!B15 -> 3535 | I15: =[2]연령별!C15 -> 1883 | J15: =[2]연령별!D15 -> 1652 | K15: =[3]연령별!B15 -> 1903 | L15: =[3]연령별!C15 -> 999 | M15: =[3]연령별!D15 -> 904 | N15: =[4]연령별!B15 -> 5093 | O15: =[4]연령별!C15 -> 2715 | P15: =[4]연령별!D15 -> 2378 | Q15: =[5]연령별!B15 -> 5606 | R15: =[5]연령별!C15 -> 2918 | S15: =[5]연령별!D15 -> 2688
A16: =[1]연령별!A16 -> 8 세 | B16: =SUM(C16:D16) -> 16649 | C16: =SUM(F16,I16,L16,O16,R16) -> 8689 | D16: =SUM(G16,J16,M16,P16,S16) -> 7960 | E16: =[1]연령별!B16 -> 757 | F16: =[1]연령별!C16 -> 400 | G16: =[1]연령별!D16 -> 357 | H16: =[2]연령별!B16 -> 3569 | I16: =[2]연령별!C16 -> 1917 | J16: =[2]연령별!D16 -> 1652 | K16: =[3]연령별!B16 -> 2025 | L16: =[3]연령별!C16 -> 1057 | M16: =[3]연령별!D16 -> 968 | N16: =[4]연령별!B16 -> 5037 | O16: =[4]연령별!C16 -> 2592 | P16: =[4]연령별!D16 -> 2445 | Q16: =[5]연령별!B16 -> 5261 | R16: =[5]연령별!C16 -> 2723 | S16: =[5]연령별!D16 -> 2538
A17: =[1]연령별!A17 -> 9 세 | B17: =SUM(C17:D17) -> 19320 | C17: =SUM(F17,I17,L17,O17,R17) -> 10006 | D17: =SUM(G17,J17,M17,P17,S17) -> 9314 | E17: =[1]연령별!B17 -> 889 | F17: =[1]연령별!C17 -> 478 | G17: =[1]연령별!D17 -> 411 | H17: =[2]연령별!B17 -> 4230 | I17: =[2]연령별!C17 -> 2173 | J17: =[2]연령별!D17 -> 2057 | K17: =[3]연령별!B17 -> 2314 | L17: =[3]연령별!C17 -> 1201 | M17: =[3]연령별!D17 -> 1113 | N17: =[4]연령별!B17 -> 5799 | O17: =[4]연령별!C17 -> 3033 | P17: =[4]연령별!D17 -> 2766 | Q17: =[5]연령별!B17 -> 6088 | R17: =[5]연령별!C17 -> 3121 | S17: =[5]연령별!D17 -> 2967
... A126: =[1]연령별!A126 -> 100+ | B126: =SUM(C126:D126) -> 261 | C126: =SUM(F126,I126,L126,O126,R126) -> 36 | D126: =SUM(G126,J126,M126,P126,S126) -> 225 | E126: =[1]연령별!B126 -> 44 | F126: =[1]연령별!C126 -> 11 | G126: =[1]연령별!D126 -> 33 | H126: =[2]연령별!B126 -> 43 | I126: =[2]연령별!C126 -> 4 | J126: =[2]연령별!D126 -> 39 | K126: =[3]연령별!B126 -> 66 | L126: =[3]연령별!C126 -> 11 | M126: =[3]연령별!D126 -> 55 | N126: =[4]연령별!B126 -> 73 | O126: =[4]연령별!C126 -> 7 | P126: =[4]연령별!D126 -> 66 | Q126: =[5]연령별!B126 -> 35 | R126: =[5]연령별!C126 -> 3 | S126: =[5]연령별!D126 -> 32
A128: 14세이하 | B128: =SUM(B6,B12,B18) -> 268670 | C128: =SUM(C6,C12,C18) -> 139731 | D128: =SUM(D6,D12,D18) -> 128939 | E128: =SUM(E6,E12,E18) -> 12319 | F128: =SUM(F6,F12,F18) -> 6487 | G128: =SUM(G6,G12,G18) -> 5832 | H128: =SUM(H6,H12,H18) -> 55954 | I128: =SUM(I6,I12,I18) -> 29216 | ... S128: =SUM(S6,S12,S18) -> 41028
A129: 15∼64세 | B129: =SUM(B24,B30,B36,B42,B48,B54,B60,B66,B72,B78) -> 1055509 | C129: =SUM(C24,C30,C36,C42,C48,C54,C60,C66,C72,C78) -> 529522 | D129: =SUM(D24,D30,D36,D42,D48,D54,D60,D66,D72,D78) -> 525987 | E129: =SUM(E24,E30,E36,E42,E48,E54,E60,E66,E72,E78) -> 76378 | F129: =SUM(F24,F30,F36,F42,F48,F54,F60,F66,F72,F78) -> 38903 | G129: =SUM(G24,G30,G36,G42,G48,G54,G60,G66,G72,G78) -> 37475 | H129: =SUM(H24,H30,H36,H42,H48,H54,H60,H66,H72,H78) -> 221367 | I129: =SUM(I24,I30,I36,I42,I48,I54,I60,I66,I72,I78) -> 109741 | ... S129: =SUM(S24,S30,S36,S42,S48,S54,S60,S66,S72,S78) -> 124646

Sheet 2011년
A1: 3. 구별·연령별 한국인 현황(외국인 제외)
S2: (단위 : 명)
A3: =[1]연령별!A3 -> 구 분 | B3: 합 계 | E3: 동 구 | H3: 서 구 | K3: 남 구 | N3: 북 구 | Q3: 광 산 구
B4: 계 | C4: 남 | D4: 여 | E4: =[1]연령별!B4 -> 계 | F4: =[1]연령별!C4 -> 남 | G4: =[1]연령별!D4 -> 여 | H4: =[2]연령별!B4 -> 계 | I4: =[2]연령별!C4 -> 남 | J4: =[2]연령별!D4 -> 여 | K4: =[3]연령별!B4 -> 계 | L4: =[3]연령별!C4 -> 남 | M4: =[3]연령별!D4 -> 여 | N4: =[4]연령별!B4 -> 계 | O4: =[4]연령별!C4 -> 남 | P4: =[4]연령별!D4 -> 여 | Q4: =[5]연령별!B4 -> 계 | R4: =[5]연령별!C4 -> 남 | S4: =[5]연령별!D4 -> 여
A5: 2011 | B5: =SUM(C5:D5) -> 1463464 | C5: =SUM(F5,I5,L5,O5,R5) -> 725606 | D5: =SUM(G5,J5,M5,P5,S5) -> 737858 | E5: 106495 | F5: 53286 | G5: 53209 | H5: 317936 | I5: 156398 | J5: 161538 | K5: 219041 | L5: 106382 | M5: 112659 | N5: 444483 | O5: 221173 | P5: 223310 | Q5: 375509 | R5: 188367 | S5: 187142
A6: =[1]연령별!A6 -> 0 - 4 | B6: =SUM(C6:D6) -> 72463 | C6: =SUM(F6,I6,L6,O6,R6) -> 37452 | D6: =SUM(G6,J6,M6,P6,S6) -> 35011 | E6: 3448 | F6: 1781 | G6: 1667 | H6: 14974 | I6: 7755 | J6: 7219 | K6: 8763 | L6: 4459 | M6: 4304 | N6: 19836 | O6: 10296 | P6: 9540 | Q6: 25442 | R6: 13161 | S6: 12281
A7: =[1]연령별!A7 -> 0 세 | B7: =SUM(C7:D7) -> 13494 | C7: =SUM(F7,I7,L7,O7,R7) -> 6979 | D7: =SUM(G7,J7,M7,P7,S7) -> 6515 | E7: 760 | F7: 378 | G7: 382 | H7: 2751 | I7: 1423 | J7: 1328 | K7: 1652 | L7: 842 | M7: 810 | N7: 3672 | O7: 1885 | P7: 1787 | Q7: 4659 | R7: 2451 | S7: 2208
A8: =[1]연령별!A8 -> 1 세 | B8: =SUM(C8:D8) -> 14403 | C8: =SUM(F8,I8,L8,O8,R8) -> 7456 | D8: =SUM(G8,J8,M8,P8,S8) -> 6947 | E8: 698 | F8: 376 | G8: 322 | H8: 2967 | I8: 1547 | J8: 1420 | K8: 1820 | L8: 913 | M8: 907 | N8: 3889 | O8: 1989 | P8: 1900 | Q8: 5029 | R8: 2631 | S8: 2398
A9: =[1]연령별!A9 -> 2 세 | B9: =SUM(C9:D9) -> 13986 | C9: =SUM(F9,I9,L9,O9,R9) -> 7195 | D9: =SUM(G9,J9,M9,P9,S9) -> 6791 | E9: 621 | F9: 327 | G9: 294 | H9: 2858 | I9: 1463 | J9: 1395 | K9: 1661 | L9: 827 | M9: 834 | N9: 3876 | O9: 2045 | P9: 1831 | Q9: 4970 | R9: 2533 | S9: 2437
A10: =[1]연령별!A10 -> 3 세 | B10: =SUM(C10:D10) -> 14668 | C10: =SUM(F10,I10,L10,O10,R10) -> 7491 | D10: =SUM(G10,J10,M10,P10,S10) -> 7177 | E10: 664 | F10: 348 | G10: 316 | H10: 3079 | I10: 1579 | J10: 1500 | K10: 1775 | L10: 909 | M10: 866 | N10: 3992 | O10: 2055 | P10: 1937 | Q10: 5158 | R10: 2600 | S10: 2558
A11: =[1]연령별!A11 -> 4 세 | B11: =SUM(C11:D11) -> 15912 | C11: =SUM(F11,I11,L11,O11,R11) -> 8331 | D11: =SUM(G11,J11,M11,P11,S11) -> 7581 | E11: 705 | F11: 352 | G11: 353 | H11: 3319 | I11: 1743 | J11: 1576 | K11: 1855 | L11: 968 | M11: 887 | N11: 4407 | O11: 2322 | P11: 2085 | Q11: 5626 | R11: 2946 | S11: 2680
A12: =[1]연령별!A12 -> 5 - 9 | B12: =SUM(C12:D12) -> 78350 | C12: =SUM(F12,I12,L12,O12,R12) -> 40844 | D12: =SUM(G12,J12,M12,P12,S12) -> 37506 | E12: 3479 | F12: 1836 | G12: 1643 | H12: 17417 | I12: 9108 | J12: 8309 | K12: 9457 | L12: 4898 | M12: 4559 | N12: 21580 | O12: 11257 | P12: 10323 | Q12: 26417 | R12: 13745 | S12: 12672
A13: =[1]연령별!A13 -> 5 세 | B13: =SUM(C13:D13) -> 14540 | C13: =SUM(F13,I13,L13,O13,R13) -> 7540 | D13: =SUM(G13,J13,M13,P13,S13) -> 7000 | E13: 635 | F13: 329 | G13: 306 | H13: 3135 | I13: 1607 | J13: 1528 | K13: 1766 | L13: 902 | M13: 864 | N13: 3905 | O13: 2042 | P13: 1863 | Q13: 5099 | R13: 2660 | S13: 2439
A14: =[1]연령별!A14 -> 6 세 | B14: =SUM(C14:D14) -> 14293 | C14: =SUM(F14,I14,L14,O14,R14) -> 7428 | D14: =SUM(G14,J14,M14,P14,S14) -> 6865 | E14: 588 | F14: 315 | G14: 273 | H14: 3139 | I14: 1636 | J14: 1503 | K14: 1697 | L14: 875 | M14: 822 | N14: 3874 | O14: 2004 | P14: 1870 | Q14: 4995 | R14: 2598 | S14: 2397
A15: =[1]연령별!A15 -> 7 세 | B15: =SUM(C15:D15) -> 15694 | C15: =SUM(F15,I15,L15,O15,R15) -> 8157 | D15: =SUM(G15,J15,M15,P15,S15) -> 7537 | E15: 715 | F15: 367 | G15: 348 | H15: 3524 | I15: 1802 | J15: 1722 | K15: 1872 | L15: 986 | M15: 886 | N15: 4299 | O15: 2253 | P15: 2046 | Q15: 5284 | R15: 2749 | S15: 2535
A16: =[1]연령별!A16 -> 8 세 | B16: =SUM(C16:D16) -> 17022 | C16: =SUM(F16,I16,L16,O16,R16) -> 8973 | D16: =SUM(G16,J16,M16,P16,S16) -> 8049 | E16: 790 | F16: 431 | G16: 359 | H16: 3786 | I16: 2013 | J16: 1773 | K16: 1992 | L16: 1046 | M16: 946 | N16: 4755 | O16: 2511 | P16: 2244 | Q16: 5699 | R16: 2972 | S16: 2727
A17: =[1]연령별!A17 -> 9 세 | B17: =SUM(C17:D17) -> 16801 | C17: =SUM(F17,I17,L17,O17,R17) -> 8746 | D17: =SUM(G17,J17,M17,P17,S17) -> 8055 | E17: 751 | F17: 394 | G17: 357 | H17: 3833 | I17: 2050 | J17: 1783 | K17: 2130 | L17: 1089 | M17: 1041 | N17: 4747 | O17: 2447 | P17: 2300 | Q17: 5340 | R17: 2766 | S17: 2574
... A126: =[1]연령별!A126 -> 100+ | B126: =SUM(C126:D126) -> 262 | C126: =SUM(F126,I126,L126,O126,R126) -> 31 | D126: =SUM(G126,J126,M126,P126,S126) -> 231 | E126: 45 | F126: 8 | G126: 37 | H126: 43 | I126: 4 | J126: 39 | K126: 68 | L126: 10 | M126: 58 | N126: 69 | O126: 6 | P126: 63 | Q126: 37 | R126: 3 | S126: 34

Sheet 2012년
A1: 3. 구별·연령별 한국인 현황(외국인 제외)
S2: (단위 : 명)
A3: =[1]연령별!A3 -> 구 분 | B3: 합 계 | E3: 동 구 | H3: 서 구 | K3: 남 구 | N3: 북 구 | Q3: 광 산 구
B4: 계 | C4: 남 | D4: 여 | E4: =[1]연령별!B4 -> 계 | F4: =[1]연령별!C4 -> 남 | G4: =[1]연령별!D4 -> 여 | H4: =[2]연령별!B4 -> 계 | I4: =[2]연령별!C4 -> 남 | J4: =[2]연령별!D4 -> 여 | K4: =[3]연령별!B4 -> 계 | L4: =[3]연령별!C4 -> 남 | M4: =[3]연령별!D4 -> 여 | N4: =[4]연령별!B4 -> 계 | O4: =[4]연령별!C4 -> 남 | P4: =[4]연령별!D4 -> 여 | Q4: =[5]연령별!B4 -> 계 | R4: =[5]연령별!C4 -> 남 | S4: =[5]연령별!D4 -> 여
A5: 2012 | B5: =SUM(C5:D5) -> 1469216 | C5: =SUM(F5,I5,L5,O5,R5) -> 728406 | D5: =SUM(G5,J5,M5,P5,S5) -> 740810 | E5: =SUM(F5,G5) -> 105580 | F5: =SUM(F6,F12,F18,F24,F30,F36,F42,F48,F54,F60,F66,F72,F78,F84,F90,F96,F102,F108,F114,F120,F126) -> 52888 | G5: =SUM(G6,G12,G18,G24,G30,G36,G42,G48,G54,G60,G66,G72,G78,G84,G90,G96,G102,G108,G114,G120,G126) -> 52692 | H5: =SUM(I5,J5) -> 316545 | I5: =SUM(I6,I12,I18,I24,I30,I36,I42,I48,I54,I60,I66,I72,I78,I84,I90,I96,I102,I108,I114,I120,I126) -> 155783 | J5: =SUM(J6,J12,J18,J24,J30,J36,J42,J48,J54,J60,J66,J72,J78,J84,J90,J96,J102,J108,J114,J120,J126) -> 160762 | K5: =SUM(L5,M5) -> 218313 | L5: =SUM(L6,L12,L18,L24,L30,L36,L42,L48,L54,L60,L66,L72,L78,L84,L90,L96,L102,L108,L114,L120,L126) -> 105840 | M5: =SUM(M6,M12,M18,M24,M30,M36,M42,M48,M54,M60,M66,M72,M78,M84,M90,M96,M102,M108,M114,M120,M126) -> 112473 | N5: =SUM(O5,P5) -> 443677 | O5: =SUM(O6,O12,O18,O24,O30,O36,O42,O48,O54,O60,O66,O72,O78,O84,O90,O96,O102,O108,O114,O120,O126) -> 220615 | P5: =SUM(P6,P12,P18,P24,P30,P36,P42,P48,P54,P60,P66,P72,P78,P84,P90,P96,P102,P108,P114,P120,P126) -> 223062 | Q5: =SUM(R5,S5) -> 385101 | R5: =SUM(R6,R12,R18,R24,R30,R36,R42,R48,R54,R60,R66,R72,R78,R84,R90,R96,R102,R108,R114,R120,R126) -> 193280 | S5: =SUM(S6,S12,S18,S24,S30,S36,S42,S48,S54,S60,S66,S72,S78,S84,S90,S96,S102,S108,S114,S120,S126) -> 191821
A6: =[1]연령별!A6 -> 0 - 4 | B6: =SUM(C6:D6) -> 71734 | C6: =SUM(F6,I6,L6,O6,R6) -> 36941 | D6: =SUM(G6,J6,M6,P6,S6) -> 34793 | E6: 3596 | F6: 1848 | G6: 1748 | H6: 14523 | I6: 7521 | J6: 7002 | K6: 8741 | L6: 4455 | M6: 4286 | N6: 19442 | O6: 10052 | P6: 9390 | Q6: 25432 | R6: 13065 | S6: 12367
A7: =[1]연령별!A7 -> 0 세 | B7: =SUM(C7:D7) -> 13917 | C7: =SUM(F7,I7,L7,O7,R7) -> 7171 | D7: =SUM(G7,J7,M7,P7,S7) -> 6746 | E7: 837 | F7: 427 | G7: 410 | H7: 2800 | I7: 1473 | J7: 1327 | K7: 1659 | L7: 855 | M7: 804 | N7: 3816 | O7: 1951 | P7: 1865 | Q7: 4805 | R7: 2465 | S7: 2340
A8: =[1]연령별!A8 -> 1 세 | B8: =SUM(C8:D8) -> 14273 | C8: =SUM(F8,I8,L8,O8,R8) -> 7380 | D8: =SUM(G8,J8,M8,P8,S8) -> 6893 | E8: 780 | F8: 375 | G8: 405 | H8: 2852 | I8: 1471 | J8: 1381 | K8: 1733 | L8: 885 | M8: 848 | N8: 3893 | O8: 2017 | P8: 1876 | Q8: 5015 | R8: 2632 | S8: 2383
A9: =[1]연령별!A9 -> 2 세 | B9: =SUM(C9:D9) -> 14601 | C9: =SUM(F9,I9,L9,O9,R9) -> 7559 | D9: =SUM(G9,J9,M9,P9,S9) -> 7042 | E9: 704 | F9: 373 | G9: 331 | H9: 2934 | I9: 1535 | J9: 1399 | K9: 1861 | L9: 946 | M9: 915 | N9: 3886 | O9: 1991 | P9: 1895 | Q9: 5216 | R9: 2714 | S9: 2502
A10: =[1]연령별!A10 -> 3 세 | B10: =SUM(C10:D10) -> 14106 | C10: =SUM(F10,I10,L10,O10,R10) -> 7257 | D10: =SUM(G10,J10,M10,P10,S10) -> 6849 | E10: 613 | F10: 319 | G10: 294 | H10: 2862 | I10: 1465 | J10: 1397 | K10: 1684 | L10: 846 | M10: 838 | N10: 3848 | O10: 2045 | P10: 1803 | Q10: 5099 | R10: 2582 | S10: 2517
A11: =[1]연령별!A11 -> 4 세 | B11: =SUM(C11:D11) -> 14837 | C11: =SUM(F11,I11,L11,O11,R11) -> 7574 | D11: =SUM(G11,J11,M11,P11,S11) -> 7263 | E11: 662 | F11: 354 | G11: 308 | H11: 3075 | I11: 1577 | J11: 1498 | K11: 1804 | L11: 923 | M11: 881 | N11: 3999 | O11: 2048 | P11: 1951 | Q11: 5297 | R11: 2672 | S11: 2625
A12: =[1]연령별!A12 -> 5 - 9 | B12: =SUM(C12:D12) -> 77910 | C12: =SUM(F12,I12,L12,O12,R12) -> 40661 | D12: =SUM(G12,J12,M12,P12,S12) -> 37249 | E12: 3428 | F12: 1821 | G12: 1607 | H12: 16764 | I12: 8725 | J12: 8039 | K12: 9417 | L12: 4906 | M12: 4511 | N12: 21126 | O12: 11079 | P12: 10047 | Q12: 27175 | R12: 14130 | S12: 13045
A13: =[1]연령별!A13 -> 5 세 | B13: =SUM(C13:D13) -> 16001 | C13: =SUM(F13,I13,L13,O13,R13) -> 8359 | D13: =SUM(G13,J13,M13,P13,S13) -> 7642 | E13: 712 | F13: 352 | G13: 360 | H13: 3321 | I13: 1721 | J13: 1600 | K13: 1870 | L13: 978 | M13: 892 | N13: 4352 | O13: 2314 | P13: 2038 | Q13: 5746 | R13: 2994 | S13: 2752
A14: =[1]연령별!A14 -> 6 세 | B14: =SUM(C14:D14) -> 14814 | C14: =SUM(F14,I14,L14,O14,R14) -> 7699 | D14: =SUM(G14,J14,M14,P14,S14) -> 7115 | E14: 642 | F14: 348 | G14: 294 | H14: 3143 | I14: 1632 | J14: 1511 | K14: 1866 | L14: 944 | M14: 922 | N14: 3934 | O14: 2049 | P14: 1885 | Q14: 5229 | R14: 2726 | S14: 2503
A15: =[1]연령별!A15 -> 7 세 | B15: =SUM(C15:D15) -> 14284 | C15: =SUM(F15,I15,L15,O15,R15) -> 7414 | D15: =SUM(G15,J15,M15,P15,S15) -> 6870 | E15: 584 | F15: 314 | G15: 270 | H15: 3075 | I15: 1582 | J15: 1493 | K15: 1724 | L15: 887 | M15: 837 | N15: 3883 | O15: 2026 | P15: 1857 | Q15: 5018 | R15: 2605 | S15: 2413
A16: =[1]연령별!A16 -> 8 세 | B16: =SUM(C16:D16) -> 15733 | C16: =SUM(F16,I16,L16,O16,R16) -> 8189 | D16: =SUM(G16,J16,M16,P16,S16) -> 7544 | E16: 710 | F16: 372 | G16: 338 | H16: 3483 | I16: 1791 | J16: 1692 | K16: 1921 | L16: 1030 | M16: 891 | N16: 4233 | O16: 2212 | P16: 2021 | Q16: 5386 | R16: 2784 | S16: 2602
A17: =[1]연령별!A17 -> 9 세 | B17: =SUM(C17:D17) -> 17078 | C17: =SUM(F17,I17,L17,O17,R17) -> 9000 | D17: =SUM(G17,J17,M17,P17,S17) -> 8078 | E17: 780 | F17: 435 | G17: 345 | H17: 3742 | I17: 1999 | J17: 1743 | K17: 2036 | L17: 1067 | M17: 969 | N17: 4724 | O17: 2478 | P17: 2246 | Q17: 5796 | R17: 3021 | S17: 2775
... A126: =[1]연령별!A126 -> 100+ | B126: =SUM(C126:D126) -> 257 | C126: =SUM(F126,I126,L126,O126,R126) -> 34 | D126: =SUM(G126,J126,M126,P126,S126) -> 223 | E126: 47 | F126: 7 | G126: 40 | H126: 42 | I126: 4 | J126: 38 | K126: 64 | L126: 13 | M126: 51 | N126: 70 | O126: 8 | P126: 62 | Q126: 34 | R126: 2 | S126: 32

Sheet 2013년
A1: 3. 구별·연령별 한국인 현황(외국인 제외)
S2: (단위 : 명)
A3: =[1]연령별!A3 -> 구 분 | B3: 합 계 | E3: 동 구 | H3: 서 구 | K3: 남 구 | N3: 북 구 | Q3: 광 산 구
B4: 계 | C4: 남 | D4: 여 | E4: =[1]연령별!B4 -> 계 | F4: =[1]연령별!C4 -> 남 | G4: =[1]연령별!D4 -> 여 | H4: =[2]연령별!B4 -> 계 | I4: =[2]연령별!C4 -> 남 | J4: =[2]연령별!D4 -> 여 | K4: =[3]연령별!B4 -> 계 | L4: =[3]연령별!C4 -> 남 | M4: =[3]연령별!D4 -> 여 | N4: =[4]연령별!B4 -> 계 | O4: =[4]연령별!C4 -> 남 | P4: =[4]연령별!D4 -> 여 | Q4: =[5]연령별!B4 -> 계 | R4: =[5]연령별!C4 -> 남 | S4: =[5]연령별!D4 -> 여
