Workbook
Name _E1: #REF!
Name _E1: #REF!
Name _E1: #REF!
Name _E1: #REF!
Name _E1: #REF!
Name _E1: #REF!
Name _E1: #REF!
Name _E1: #REF!
Name dd: [1]Sheet2!$E$1:$E$65536
Name 전체: #REF!
Name 전체: #REF!
Name 전체: #REF!
Name 전체: #REF!
Name 전체: #REF!
Name 전체: #REF!
Name 전체: #REF!
Name 전체: #REF!

Sheet 2006년
A1: 2. 동별 세대 및 인구 (동구~광산구)
A2: ○ 동 구
A3: 구 분 | B3: 세 대 | C3: 합 계 | F3: 한 국 인 | I3: 외 국 인
C4: 계 | D4: 남 | E4: 여 | F4: 계 | G4: 남 | H4: 여 | I4: 계 | J4: 남 | K4: 여
A5: 2006 | B5: =SUM(B6:B18) -> 47393 | C5: =SUM(C6:C18) -> 114936 | D5: =SUM(D6:D18) -> 57110 | E5: =SUM(E6:E18) -> 57826 | F5: =SUM(F6:F18) -> 114086 | G5: =SUM(G6:G18) -> 56735 | H5: =SUM(H6:H18) -> 57351 | I5: =SUM(I6:I18) -> 850 | ... K5: =SUM(K6:K18) -> 475
A6: 충장동 | B6: 3111 | C6: =SUM(D6:E6) -> 6206 | D6: =G6+J6 -> 3231 | E6: =H6+K6 -> 2975 | F6: =SUM(G6:H6) -> 6127 | G6: =[2]동구연령별!F5 -> 3196 | H6: =[2]동구연령별!G5 -> 2931 | I6: =SUM(J6:K6) -> 79 | J6: =[3]외국인!F5 -> 35 | K6: =[3]외국인!G5 -> 44
A7: 동명동 | B7: 3045 | C7: =SUM(D7:E7) -> 6618 | D7: =G7+J7 -> 3294 | E7: =H7+K7 -> 3324 | F7: =SUM(G7:H7) -> 6587 | G7: =[2]동구연령별!I5 -> 3281 | H7: =[2]동구연령별!J5 -> 3306 | I7: =SUM(J7:K7) -> 31 | J7: =[3]외국인!I5 -> 13 | K7: =[3]외국인!J5 -> 18
A8: 계림1동 | B8: 4419 | C8: =SUM(D8:E8) -> 9154 | D8: =G8+J8 -> 4513 | E8: =H8+K8 -> 4641 | F8: =SUM(G8:H8) -> 9121 | G8: =[2]동구연령별!L5 -> 4505 | H8: =[2]동구연령별!M5 -> 4616 | I8: =SUM(J8:K8) -> 33 | J8: =[3]외국인!L5 -> 8 | K8: =[3]외국인!M5 -> 25
A9: 계림2동 | B9: 3321 | C9: =SUM(D9:E9) -> 8718 | D9: =G9+J9 -> 4259 | E9: =H9+K9 -> 4459 | F9: =SUM(G9:H9) -> 8688 | G9: =[2]동구연령별!O5 -> 4244 | H9: =[2]동구연령별!P5 -> 4444 | I9: =SUM(J9:K9) -> 30 | J9: =[3]외국인!O5 -> 15 | K9: =[3]외국인!P5 -> 15
A10: 산수1동 | B10: 4634 | C10: =SUM(D10:E10) -> 10888 | D10: =G10+J10 -> 5423 | E10: =H10+K10 -> 5465 | F10: =SUM(G10:H10) -> 10838 | G10: =[2]동구연령별!R5 -> 5406 | H10: =[2]동구연령별!S5 -> 5432 | I10: =SUM(J10:K10) -> 50 | J10: =[3]외국인!R5 -> 17 | K10: =[3]외국인!S5 -> 33
A11: 산수2동 | B11: 4501 | C11: =SUM(D11:E11) -> 12212 | D11: =G11+J11 -> 5951 | E11: =H11+K11 -> 6261 | F11: =SUM(G11:H11) -> 12189 | G11: =[2]동구연령별!U5 -> 5945 | H11: =[2]동구연령별!V5 -> 6244 | I11: =SUM(J11:K11) -> 23 | J11: =[3]외국인!U5 -> 6 | K11: =[3]외국인!V5 -> 17
A12: 지산1동 | B12: 2477 | C12: =SUM(D12:E12) -> 5576 | D12: =G12+J12 -> 2774 | E12: =H12+K12 -> 2802 | F12: =SUM(G12:H12) -> 5536 | G12: =[2]동구연령별!X5 -> 2756 | H12: =[2]동구연령별!Y5 -> 2780 | I12: =SUM(J12:K12) -> 40 | J12: =[3]외국인!X5 -> 18 | K12: =[3]외국인!Y5 -> 22
A13: 지산2동 | B13: 2791 | C13: =SUM(D13:E13) -> 6871 | D13: =G13+J13 -> 3514 | E13: =H13+K13 -> 3357 | F13: =SUM(G13:H13) -> 6851 | G13: =[2]동구연령별!AA5 -> 3508 | H13: =[2]동구연령별!AB5 -> 3343 | I13: =SUM(J13:K13) -> 20 | J13: =[3]외국인!AA5 -> 6 | K13: =[3]외국인!AB5 -> 14
A14: 서남동 | B14: 2725 | C14: =SUM(D14:E14) -> 5794 | D14: =G14+J14 -> 2883 | E14: =H14+K14 -> 2911 | F14: =SUM(G14:H14) -> 5424 | G14: =[2]동구연령별!AD5 -> 2680 | H14: =[2]동구연령별!AE5 -> 2744 | I14: =SUM(J14:K14) -> 370 | J14: =[3]외국인!AD5 -> 203 | K14: =[3]외국인!AE5 -> 167
A15: 학 동 | B15: 4293 | C15: =SUM(D15:E15) -> 9404 | D15: =G15+J15 -> 4631 | E15: =H15+K15 -> 4773 | F15: =SUM(G15:H15) -> 9304 | G15: =[2]동구연령별!AG5 -> 4600 | H15: =[2]동구연령별!AH5 -> 4704 | I15: =SUM(J15:K15) -> 100 | J15: =[3]외국인!AG5 -> 31 | K15: =[3]외국인!AH5 -> 69
A16: 학운동 | B16: 5071 | C16: =SUM(D16:E16) -> 14611 | D16: =G16+J16 -> 7139 | E16: =H16+K16 -> 7472 | F16: =SUM(G16:H16) -> 14576 | G16: =[2]동구연령별!AJ5 -> 7133 | H16: =[2]동구연령별!AK5 -> 7443 | I16: =SUM(J16:K16) -> 35 | J16: =[3]외국인!AJ5 -> 6 | K16: =[3]외국인!AK5 -> 29
A17: 지원1동 | B17: 3483 | C17: =SUM(D17:E17) -> 9848 | D17: =G17+J17 -> 4917 | E17: =H17+K17 -> 4931 | F17: =SUM(G17:H17) -> 9813 | G17: =[2]동구연령별!AM5 -> 4901 | H17: =[2]동구연령별!AN5 -> 4912 | I17: =SUM(J17:K17) -> 35 | J17: =[3]외국인!AM5 -> 16 | K17: =[3]외국인!AN5 -> 19
A18: 지원2동 | B18: 3522 | C18: =SUM(D18:E18) -> 9036 | D18: =G18+J18 -> 4581 | E18: =H18+K18 -> 4455 | F18: =SUM(G18:H18) -> 9032 | G18: =[2]동구연령별!AP5 -> 4580 | H18: =[2]동구연령별!AQ5 -> 4452 | I18: =SUM(J18:K18) -> 4 | J18: =[3]외국인!AP5 -> 1 | K18: =[3]외국인!AQ5 -> 3
A22: ○ 서 구 | J22: (단위 : 세대, 명)
B23: 세 대 | C23: 합 계 | F23: 한 국 인 | I23: 외 국 인
C24: 계 | D24: 남 | E24: 여 | F24: 계 | G24: 남 | H24: 여 | I24: 계 | J24: 남 | K24: 여
A25: 2006 | B25: =SUM(B26:B42) -> 105446 | C25: =SUM(C26:C42) -> 310129 | D25: =SUM(D26:D42) -> 152936 | E25: =SUM(E26:E42) -> 157193 | F25: =SUM(F26:F42) -> 309362 | G25: =SUM(G26:G42) -> 152615 | H25: =SUM(H26:H42) -> 156747 | I25: =SUM(I26:I42) -> 767 | ... K25: =SUM(K26:K42) -> 446
A26: 양 동 | B26: 2547 | C26: 6435 | D26: 3219 | E26: 3216 | F26: 6415 | G26: 3217 | H26: 3198 | I26: 20 | J26: 2 | K26: 18
A27: 양 3 동 | B27: 1785 | C27: 4805 | D27: 2455 | E27: 2350 | F27: 4798 | G27: 2454 | H27: 2344 | I27: 7 | J27: 1 | K27: 6
A28: 농성1동 | B28: 4101 | C28: 10103 | D28: 5034 | E28: 5069 | F28: 10062 | G28: 5022 | H28: 5040 | I28: 41 | J28: 12 | K28: 29
A29: 농성2동 | B29: 2620 | C29: 6494 | D29: 3288 | E29: 3206 | F29: 6487 | G29: 3285 | H29: 3202 | I29: 7 | J29: 3 | K29: 4
A30: 광 천 동 | B30: 4218 | C30: 10386 | D30: 5254 | E30: 5132 | F30: 10355 | G30: 5245 | H30: 5110 | I30: 31 | J30: 9 | K30: 22
A31: 유 덕 동 | B31: 4207 | C31: 12961 | D31: 6517 | E31: 6444 | F31: 12902 | G31: 6493 | H31: 6409 | I31: 59 | J31: 24 | K31: 35
A32: 상무1동 | B32: 9206 | C32: 25288 | D32: 12501 | E32: 12787 | F32: 25201 | G32: 12465 | H32: 12736 | I32: 87 | J32: 36 | K32: 51
A33: 상무2동 | B33: 10412 | C33: 27814 | D33: 13668 | E33: 14146 | F33: 27768 | G33: 13652 | H33: 14116 | I33: 46 | J33: 16 | K33: 30
A34: 화정1동 | B34: 6531 | C34: 17811 | D34: 8684 | E34: 9127 | F34: 17718 | G34: 8645 | H34: 9073 | I34: 93 | J34: 39 | K34: 54
A35: 화정2동 | B35: 6794 | C35: 19676 | D35: 9691 | E35: 9985 | F35: 19671 | G35: 9690 | H35: 9981 | I35: 5 | J35: 1 | K35: 4
A36: 화정3동 | B36: 4707 | C36: 14043 | D36: 7070 | E36: 6973 | F36: 14030 | G36: 7067 | H36: 6963 | I36: 13 | J36: 3 | K36: 10
A37: 화정4동 | B37: 7103 | C37: 22723 | D37: 11159 | E37: 11564 | F37: 22690 | G37: 11149 | H37: 11541 | I37: 33 | J37: 10 | K37: 23
... A42: 풍 암 동 | B42: 12787 | C42: 39995 | D42: 19438 | E42: 20557 | F42: 39896 | G42: 19383 | H42: 20513 | I42: 99 | J42: 55 | K42: 44
A44: ○ 남 구 | J44: (단위 : 세대, 명)
A45: 구 분 | B45: 세 대 | C45: 합 계 | F45: 한 국 인 | I45: 외 국 인
C46: 계 | D46: 남 | E46: 여 | F46: 계 | G46: 남 | H46: 여 | I46: 계 | J46: 남 | K46: 여
A47: 2006 | B47: 74859 | C47: 212450 | D47: 103849 | E47: 108601 | F47: 211744 | G47: 103556 | H47: 108188 | I47: 706 | J47: 293 | K47: 413
A48: 양 림 동 | B48: 2135 | C48: 5014 | D48: 2509 | E48: 2505 | F48: 4941 | G48: 2456 | H48: 2485 | I48: 73 | J48: 53 | K48: 20
A49: 방림1동 | B49: 2313 | C49: 6261 | D49: 3081 | E49: 3180 | F49: 6240 | G49: 3077 | H49: 3163 | I49: 21 | J49: 4 | K49: 17
A50: 방림2동 | B50: 4794 | C50: 13628 | D50: 6643 | E50: 6985 | F50: 13608 | G50: 6634 | H50: 6974 | I50: 20 | J50: 9 | K50: 11
A51: 봉선1동 | B51: 6998 | C51: 19191 | D51: 9244 | E51: 9947 | F51: 19135 | G51: 9224 | H51: 9911 | I51: 56 | J51: 20 | K51: 36
A52: 봉선2동 | B52: 8032 | C52: 27553 | D52: 13081 | E52: 14472 | F52: 27528 | G52: 13070 | H52: 14458 | I52: 25 | J52: 11 | K52: 14
A53: 사 직 동 | B53: 3234 | C53: 7323 | D53: 3664 | E53: 3659 | F53: 7293 | G53: 3653 | H53: 3640 | I53: 30 | J53: 11 | K53: 19
A54: 월 산 동 | B54: 5467 | C54: 13237 | D54: 6618 | E54: 6619 | F54: 13180 | G54: 6599 | H54: 6581 | I54: 57 | J54: 19 | K54: 38
A55: 월산4동 | B55: 4794 | C55: 12345 | D55: 6147 | E55: 6198 | F55: 12313 | G55: 6144 | H55: 6169 | I55: 32 | J55: 3 | K55: 29
A56: 월산5동 | B56: 3432 | C56: 9121 | D56: 4499 | E56: 4622 | F56: 9109 | G56: 4495 | H56: 4614 | I56: 12 | J56: 4 | K56: 8
A57: 백운1동 | B57: 4088 | C57: 11357 | D57: 5572 | E57: 5785 | F57: 11324 | G57: 5558 | H57: 5766 | I57: 33 | J57: 14 | K57: 19
A58: 백운2동 | B58: 2891 | C58: 7305 | D58: 3704 | E58: 3601 | F58: 7300 | G58: 3703 | H58: 3597 | I58: 5 | J58: 1 | K58: 4
A59: 주월1동 | B59: 7143 | C59: 20948 | D59: 10418 | E59: 10530 | F59: 20861 | G59: 10387 | H59: 10474 | I59: 87 | J59: 31 | K59: 56
... A63: 대 촌 동 | B63: 2476 | C63: 6055 | D63: 3029 | E63: 3026 | F63: 6032 | G63: 3026 | H63: 3006 | I63: 23 | J63: 3 | K63: 20
A65: ○ 북 구 | K65: 단위 : 세대, 명
A66: 구 분 | B66: 세 대 | C66: 합 계 | F66: 한 국 인 | I66: 외 국 인
C67: 계 | D67: 남 | E67: 여 | F67: 계 | G67: 남 | H67: 여 | I67: 계 | J67: 남 | K67: 여
A68: 2006 | B68: 162988 | C68: 463088 | D68: 229974 | E68: 233114 | F68: 460985 | G68: 228959 | H68: 232026 | I68: 2103 | J68: 1015 | K68: 1088
A69: 중흥1동 | B69: 2339 | C69: 5260 | D69: 2784 | E69: 2476 | F69: 5236 | G69: 2777 | H69: 2459 | I69: 24 | J69: 7 | K69: 17
A70: 중흥2동 | B70: 4184 | C70: 10629 | D70: 5363 | E70: 5266 | F70: 10590 | G70: 5347 | H70: 5243 | I70: 39 | J70: 16 | K70: 23
A71: 중흥3동 | B71: 3234 | C71: 7776 | D71: 3899 | E71: 3877 | F71: 7753 | G71: 3895 | H71: 3858 | I71: 23 | J71: 4 | K71: 19
A72: 중 앙 동 | B72: 2213 | C72: 5072 | D72: 2645 | E72: 2427 | F72: 5044 | G72: 2635 | H72: 2409 | I72: 28 | J72: 10 | K72: 18
A73: 임 동 | B73: 4051 | C73: 10420 | D73: 5305 | E73: 5115 | F73: 10384 | G73: 5295 | H73: 5089 | I73: 36 | J73: 10 | K73: 26
A74: 신 안 동 | B74: 5856 | C74: 14189 | D74: 7313 | E74: 6876 | F74: 14130 | G74: 7296 | H74: 6834 | I74: 59 | J74: 17 | K74: 42
A75: 용 봉 동 | B75: 13804 | C75: 40456 | D75: 20341 | E75: 20115 | F75: 40053 | G75: 20126 | H75: 19927 | I75: 403 | J75: 215 | K75: 188
A76: 운암1동 | B76: 4871 | C76: 14560 | D76: 7205 | E76: 7355 | F76: 14477 | G76: 7163 | H76: 7314 | I76: 83 | J76: 42 | K76: 41
A77: 운암2동 | B77: 6621 | C77: 17959 | D77: 9050 | E77: 8909 | F77: 17904 | G77: 9026 | H77: 8878 | I77: 55 | J77: 24 | K77: 31
A78: 운암3동 | B78: 6257 | C78: 18922 | D78: 9295 | E78: 9627 | F78: 18891 | G78: 9285 | H78: 9606 | I78: 31 | J78: 10 | K78: 21
A79: 동 림 동 | B79: 8486 | C79: 26173 | D79: 12939 | E79: 13234 | F79: 26062 | G79: 12877 | H79: 13185 | I79: 111 | J79: 62 | K79: 49
A80: 우 산 동 | B80: 7235 | C80: 18045 | D80: 8734 | E80: 9311 | F80: 17984 | G80: 8704 | H80: 9280 | I80: 61 | J80: 30 | K80: 31
... A94: 건 국 동 | B94: 16925 | C94: 50150 | D94: 25329 | E94: 24821 | F94: 49601 | G94: 24989 | H94: 24612 | I94: 549 | J94: 340 | K94: 209
A97: ○ 광 산 구 | K97: 단위 : 명, 세대
A98: 구 분 | B98: 세 대 | C98: 합 계 | F98: 한 국 인 | I98: 외 국 인
C99: 계 | D99: 남 | E99: 여 | F99: 계 | G99: 남 | H99: 여 | I99: 계 | J99: 남 | K99: 여
A100: 2006 | B100: 104379 | C100: 315350 | D100: 159495 | E100: 155855 | F100: 311621 | G100: 156799 | H100: 154822 | I100: 3729 | J100: 2696 | K100: 1033
A101: 송정1동 | B101: 4400 | C101: 12713 | D101: 6428 | E101: 6285 | F101: 12594 | G101: 6390 | H101: 6204 | I101: 119 | J101: 38 | K101: 81
A102: 송정2동 | B102: 2996 | C102: 7803 | D102: 3878 | E102: 3925 | F102: 7797 | G102: 3878 | H102: 3919 | I102: 6 | J102: 0 | K102: 6
A103: 도 산 동 | B103: 5969 | C103: 17006 | D103: 8629 | E103: 8377 | F103: 16952 | G103: 8610 | H103: 8342 | I103: 54 | J103: 19 | K103: 35
A104: 신 흥 동 | B104: 2213 | C104: 6055 | D104: 3104 | E104: 2951 | F104: 6030 | G104: 3091 | H104: 2939 | I104: 25 | J104: 13 | K104: 12
A105: 어 룡 동 | B105: 7581 | C105: 23020 | D105: 11790 | E105: 11230 | F105: 22590 | G105: 11484 | H105: 11106 | I105: 430 | J105: 306 | K105: 124
A106: 우 산 동 | B106: 10424 | C106: 28039 | D106: 13880 | E106: 14159 | F106: 27930 | G106: 13842 | H106: 14088 | I106: 109 | J106: 38 | K106: 71
A107: 월곡1동 | B107: 5733 | C107: 16892 | D107: 8530 | E107: 8362 | F107: 16825 | G107: 8506 | H107: 8319 | I107: 67 | J107: 24 | K107: 43
A108: 월곡2동 | B108: 7332 | C108: 22772 | D108: 11497 | E108: 11275 | F108: 22622 | G108: 11476 | H108: 11146 | I108: 150 | J108: 21 | K108: 129
A109: 비 아 동 | B109: 3137 | C109: 8728 | D109: 4581 | E109: 4147 | F109: 8411 | G109: 4361 | H109: 4050 | I109: 317 | J109: 220 | K109: 97
A110: 첨단1동 | B110: 7080 | C110: 26352 | D110: 13056 | E110: 13296 | F110: 26335 | G110: 13048 | H110: 13287 | I110: 17 | J110: 8 | K110: 9
A111: 첨단2동 | B111: 12823 | C111: 40772 | D111: 20197 | E111: 20575 | F111: 40677 | G111: 20149 | H111: 20528 | I111: 95 | J111: 48 | K111: 47
A112: 신 가 동 | B112: 15152 | C112: 47625 | D112: 23724 | E112: 23901 | F112: 47501 | G112: 23665 | H112: 23836 | I112: 124 | J112: 59 | K112: 65
... A119: 본 량 동 | B119: 1272 | C119: 2696 | D119: 1397 | E119: 1299 | F119: 2684 | G119: 1396 | H119: 1288 | I119: 12 | J119: 1 | K119: 11

Sheet 2007년
A1: 2. 동별 세대 및 인구 (동구~광산구)
A2: ○ 동 구 | K2: (단위 : 세대, 명)
A3: 구 분 | B3: 세 대 | C3: 합 계 | F3: 한 국 인 | I3: 외 국 인
C4: 계 | D4: 남 | E4: 여 | F4: 계 | G4: 남 | H4: 여 | I4: 계 | J4: 남 | K4: 여
A5: 2007 | B5: 48606 | C5: 116112 | D5: 57825 | E5: 58287 | F5: 115066 | G5: 57347 | H5: 57719 | I5: 1046 | J5: 478 | K5: 568
A6: 충 장 동 | B6: 3059 | C6: 6038 | D6: 3164 | E6: 2874 | F6: 5935 | G6: 3120 | H6: 2815 | I6: 103 | J6: 44 | K6: 59
A7: 동 명 동 | B7: 3056 | C7: 9307 | D7: 4625 | E7: 4682 | F7: 6524 | G7: 3260 | H7: 3264 | I7: 41 | J7: 12 | K7: 29
A8: 계 림 1동 | B8: 4638 | C8: 9954 | D8: 4857 | E8: 5097 | F8: 9259 | G8: 4609 | H8: 4650 | I8: 48 | J8: 16 | K8: 32
A9: 계 림 2동 | B9: 3761 | C9: 10650 | D9: 5282 | E9: 5368 | F9: 9926 | G9: 4843 | H9: 5083 | I9: 28 | J9: 14 | K9: 14
A10: 산 수 1동 | B10: 4644 | C10: 10650 | D10: 5282 | E10: 5368 | F10: 10591 | G10: 5262 | H10: 5329 | I10: 59 | J10: 20 | K10: 39
A11: 산 수 2동 | B11: 4533 | C11: 12091 | D11: 5963 | E11: 6128 | F11: 12069 | G11: 5957 | H11: 6112 | I11: 22 | J11: 6 | K11: 16
A12: 지 산 1동 | B12: 2392 | C12: 5323 | D12: 2639 | E12: 2684 | F12: 5268 | G12: 2611 | H12: 2657 | I12: 55 | J12: 28 | K12: 27
A13: 지 산 2동 | B13: 2950 | C13: 7158 | D13: 3636 | E13: 3522 | F13: 7140 | G13: 3629 | H13: 3511 | I13: 18 | J13: 7 | K13: 11
A14: 서 남 동 | B14: 2891 | C14: 6048 | D14: 3046 | E14: 3002 | F14: 5562 | G14: 2772 | H14: 2790 | I14: 486 | J14: 274 | K14: 212
A15: 학 동 | B15: 4422 | C15: 9598 | D15: 4770 | E15: 4828 | F15: 9497 | G15: 4739 | H15: 4758 | I15: 101 | J15: 31 | K15: 70
A16: 학 운 동 | B16: 5118 | C16: 14512 | D16: 7088 | E16: 7424 | F16: 14473 | G16: 7078 | H16: 7395 | I16: 39 | J16: 10 | K16: 29
A17: 지 원 1동 | B17: 3533 | C17: 9756 | D17: 4872 | E17: 4884 | F17: 9714 | G17: 4857 | H17: 4857 | I17: 42 | J17: 15 | K17: 27
A18: 지 원 2동 | B18: 3609 | C18: 9112 | D18: 4611 | E18: 4501 | F18: 9108 | G18: 4610 | H18: 4498 | I18: 4 | J18: 1 | K18: 3
A20: ○ 서 구 | K20: (단위 : 세대, 명)
A21: 구 분 | B21: 세 대 | C21: 합 계 | F21: 한 국 인 | I21: 외 국 인
C22: 계 | D22: 남 | E22: 여 | F22: 계 | G22: 남 | H22: 여 | I22: 계 | J22: 남 | K22: 여
A23: 2007 | B23: 106561 | C23: 308050 | D23: 151795 | E23: 156255 | F23: 307072 | G23: 151441 | H23: 155631 | I23: 978 | J23: 354 | K23: 624
A24: 양 동 | B24: 2520 | C24: 6238 | D24: 3143 | E24: 3095 | F24: 6208 | G24: 3139 | H24: 3069 | I24: 30 | J24: 4 | K24: 26
A25: 양 3 동 | B25: 1643 | C25: 4419 | D25: 2229 | E25: 2190 | F25: 4415 | G25: 2229 | H25: 2186 | I25: 4 | J25: 0 | K25: 4
A26: 농 성 1동 | B26: 4030 | C26: 9692 | D26: 4793 | E26: 4899 | F26: 9641 | G26: 4781 | H26: 4860 | I26: 51 | J26: 12 | K26: 39
A27: 농 성 2동 | B27: 2610 | C27: 6254 | D27: 3170 | E27: 3084 | F27: 6249 | G27: 3169 | H27: 3080 | I27: 5 | J27: 1 | K27: 4
A28: 광 천 동 | B28: 4104 | C28: 9847 | D28: 5019 | E28: 4828 | F28: 9800 | G28: 5005 | H28: 4795 | I28: 47 | J28: 14 | K28: 33
A29: 유 덕 동 | B29: 4266 | C29: 12910 | D29: 6511 | E29: 6399 | F29: 12822 | G29: 6475 | H29: 6347 | I29: 88 | J29: 36 | K29: 52
A30: 상 무 1동 | B30: 9463 | C30: 25268 | D30: 12474 | E30: 12794 | F30: 25149 | G30: 12434 | H30: 12715 | I30: 119 | J30: 40 | K30: 79
A31: 상 무 2동 | B31: 10616 | C31: 27477 | D31: 13501 | E31: 13976 | F31: 27418 | G31: 13480 | H31: 13938 | I31: 59 | J31: 21 | K31: 38
A32: 화 정 1동 | B32: 6468 | C32: 17322 | D32: 8429 | E32: 8893 | F32: 17208 | G32: 8390 | H32: 8818 | I32: 114 | J32: 39 | K32: 75
A33: 화 정 2동 | B33: 6683 | C33: 18978 | D33: 9364 | E33: 9614 | F33: 18969 | G33: 9362 | H33: 9607 | I33: 9 | J33: 2 | K33: 7
A34: 화 정 3동 | B34: 4688 | C34: 13864 | D34: 6950 | E34: 6914 | F34: 13845 | G34: 6944 | H34: 6901 | I34: 19 | J34: 6 | K34: 13
A35: 화 정 4동 | B35: 7094 | C35: 22202 | D35: 10904 | E35: 11298 | F35: 22175 | G35: 10897 | H35: 11278 | I35: 27 | J35: 7 | K35: 20
... A40: 풍 암 동 | B40: 13285 | C40: 41176 | D40: 20082 | E40: 21094 | F40: 41053 | G40: 20026 | H40: 21027 | I40: 123 | J40: 56 | K40: 67
A43: ○ 남 구 | J43: (단위 : 세대, 명)
A44: 구 분 | B44: 세 대 | C44: 합 계 | F44: 한 국 인 | I44: 외 국 인
C45: 계 | D45: 남 | E45: 여 | F45: 계 | G45: 남 | H45: 여 | I45: 계 | J45: 남 | K45: 여
A46: 2007 | B46: 74990 | C46: 209890 | D46: 102380 | E46: 107510 | F46: 209024 | G46: 102036 | H46: 106988 | I46: 866 | J46: 344 | K46: 522
A47: 양 림 동 | B47: 2157 | C47: 4974 | D47: 2500 | E47: 2474 | F47: 4897 | G47: 2445 | H47: 2452 | I47: 77 | J47: 55 | K47: 22
A48: 방 림 1동 | B48: 2308 | C48: 6213 | D48: 2989 | E48: 3224 | F48: 6183 | G48: 2984 | H48: 3199 | I48: 30 | J48: 5 | K48: 25
A49: 방 림 2동 | B49: 4730 | C49: 13314 | D49: 6484 | E49: 6830 | F49: 13293 | G49: 6477 | H49: 6816 | I49: 21 | J49: 7 | K49: 14
A50: 봉 선 1동 | B50: 6858 | C50: 18420 | D50: 8898 | E50: 9522 | F50: 18342 | G50: 8869 | H50: 9473 | I50: 78 | J50: 29 | K50: 49
A51: 봉 선 2동 | B51: 8125 | C51: 27893 | D51: 13169 | E51: 14724 | F51: 27863 | G51: 13152 | H51: 14711 | I51: 30 | J51: 17 | K51: 13
A52: 사 직 동 | B52: 3213 | C52: 7066 | D52: 3566 | E52: 3500 | F52: 7024 | G52: 3553 | H52: 3471 | I52: 42 | J52: 13 | K52: 29
A53: 월 산 동 | B53: 5352 | C53: 12586 | D53: 6333 | E53: 6253 | F53: 12535 | G53: 6318 | H53: 6217 | I53: 51 | J53: 15 | K53: 36
A54: 월 산 4동 | B54: 4797 | C54: 12036 | D54: 6011 | E54: 6025 | F54: 11991 | G54: 6005 | H54: 5986 | I54: 45 | J54: 6 | K54: 39
A55: 월 산 5동 | B55: 3452 | C55: 8924 | D55: 4401 | E55: 4523 | F55: 8904 | G55: 4396 | H55: 4508 | I55: 20 | J55: 5 | K55: 15
A56: 백 운 1동 | B56: 3481 | C56: 9658 | D56: 4755 | E56: 4903 | F56: 9621 | G56: 4740 | H56: 4881 | I56: 37 | J56: 15 | K56: 22
A57: 백 운 2동 | B57: 2799 | C57: 6912 | D57: 3483 | E57: 3429 | F57: 6903 | G57: 3483 | H57: 3420 | I57: 9 | J57: 0 | K57: 9
A58: 주 월 1동 | B58: 7036 | C58: 20358 | D58: 10091 | E58: 10267 | F58: 20258 | G58: 10062 | H58: 10196 | I58: 100 | J58: 29 | K58: 71
... A62: 대 촌 동 | B62: 2486 | C62: 5954 | D62: 2961 | E62: 2993 | F62: 5924 | G62: 2954 | H62: 2970 | I62: 30 | J62: 7 | K62: 23
A64: ○ 북 구 | K64: 단위 : 세대, 명
A65: 구 분 | B65: 세 대 | C65: 합 계 | F65: 한 국 인 | I65: 외 국 인
C66: 계 | D66: 남 | E66: 여 | F66: 계 | G66: 남 | H66: 여 | I66: 계 | J66: 남 | K66: 여
A67: 2007 | B67: 166876 | C67: 469013 | D67: 232958 | E67: 236055 | F67: 466181 | G67: 231639 | H67: 234542 | I67: 2832 | J67: 1319 | K67: 1513
A68: 중 흥 1동 | B68: 2318 | C68: 5077 | D68: 2676 | E68: 2401 | F68: 5051 | G68: 2670 | H68: 2381 | I68: 26 | J68: 6 | K68: 20
A69: 중 흥 2동 | B69: 4186 | C69: 10469 | D69: 5314 | E69: 5155 | F69: 10416 | G69: 5296 | H69: 5120 | I69: 53 | J69: 18 | K69: 35
A70: 중 흥 3동 | B70: 3106 | C70: 7308 | D70: 3659 | E70: 3649 | F70: 7285 | G70: 3655 | H70: 3630 | I70: 23 | J70: 4 | K70: 19
A71: 중 앙 동 | B71: 2240 | C71: 4904 | D71: 2557 | E71: 2347 | F71: 4869 | G71: 2540 | H71: 2329 | I71: 35 | J71: 17 | K71: 18
A72: 임 동 | B72: 4276 | C72: 11044 | D72: 5592 | E72: 5452 | F72: 11000 | G72: 5583 | H72: 5417 | I72: 44 | J72: 9 | K72: 35
A73: 신 안 동 | B73: 5811 | C73: 13706 | D73: 7071 | E73: 6635 | F73: 13635 | G73: 7048 | H73: 6587 | I73: 71 | J73: 23 | K73: 48
A74: 용 봉 동 | B74: 14244 | C74: 41932 | D74: 21028 | E74: 20904 | F74: 41171 | G74: 20641 | H74: 20530 | I74: 761 | J74: 387 | K74: 374
A75: 운 암 1동 | B75: 5602 | C75: 16932 | D75: 8401 | E75: 8531 | F75: 16853 | G75: 8366 | H75: 8487 | I75: 79 | J75: 35 | K75: 44
A76: 운 암 2동 | B76: 6578 | C76: 17445 | D76: 8825 | E76: 8620 | F76: 17367 | G76: 8799 | H76: 8568 | I76: 78 | J76: 26 | K76: 52
A77: 운 암 3동 | B77: 6362 | C77: 19248 | D77: 9422 | E77: 9826 | F77: 19206 | G77: 9411 | H77: 9795 | I77: 42 | J77: 11 | K77: 31
A78: 동 림 동 | B78: 10272 | C78: 30841 | D78: 15196 | E78: 15645 | F78: 30692 | G78: 15121 | H78: 15571 | I78: 149 | J78: 75 | K78: 74
A79: 우 산 동 | B79: 7169 | C79: 17593 | D79: 8611 | E79: 8982 | F79: 17501 | G79: 8563 | H79: 8938 | I79: 92 | J79: 48 | K79: 44
... A93: 일 곡 동 | B93: 10606 | C93: 34796 | D93: 16983 | E93: 17813 | F93: 34721 | G93: 16950 | H93: 17771 | I93: 75 | J93: 33 | K93: 42
A95: ○ 광 산 구 | K95: 단위 : 명, 세대
A96: 구 분 | B96: 세 대 | C96: 합 계 | F96: 한 국 인 | I96: 외 국 인
C97: 계 | D97: 남 | E97: 여 | F97: 계 | G97: 남 | H97: 여 | I97: 계 | J97: 남 | K97: 여
A98: 2007 | B98: 106811 | C98: 320395 | D98: 162001 | E98: 158394 | F98: 316101 | G98: 159098 | H98: 157003 | I98: 4294 | J98: 2903 | K98: 1391
A99: 송 정 1동 | B99: 4421 | C99: 12729 | D99: 6469 | E99: 6260 | F99: 12583 | G99: 6407 | H99: 6176 | I99: 146 | J99: 62 | K99: 84
A100: 송 정 2동 | B100: 2929 | C100: 7534 | D100: 3772 | E100: 3762 | F100: 7508 | G100: 3765 | H100: 3743 | I100: 26 | J100: 7 | K100: 19
A101: 도 산 동 | B101: 5908 | C101: 16680 | D101: 8475 | E101: 8205 | F101: 16631 | G101: 8460 | H101: 8171 | I101: 49 | J101: 15 | K101: 34
A102: 신 흥 동 | B102: 2134 | C102: 5778 | D102: 2972 | E102: 2806 | F102: 5754 | G102: 2965 | H102: 2789 | I102: 24 | J102: 7 | K102: 17
A103: 어 룡 동 | B103: 7463 | C103: 22659 | D103: 11553 | E103: 11106 | F103: 22203 | G103: 11266 | H103: 10937 | I103: 456 | J103: 287 | K103: 169
A104: 우 산 동 | B104: 10493 | C104: 27788 | D104: 13733 | E104: 14055 | F104: 27639 | G104: 13687 | H104: 13952 | I104: 149 | J104: 46 | K104: 103
A105: 월 곡 1동 | B105: 5803 | C105: 16795 | D105: 8490 | E105: 8305 | F105: 16712 | G105: 8463 | H105: 8249 | I105: 83 | J105: 27 | K105: 56
A106: 월 곡 2동 | B106: 7454 | C106: 22917 | D106: 11513 | E106: 11404 | F106: 22615 | G106: 11472 | H106: 11143 | I106: 302 | J106: 41 | K106: 261
A107: 비 아 동 | B107: 3187 | C107: 8634 | D107: 4543 | E107: 4091 | F107: 8358 | G107: 4330 | H107: 4028 | I107: 276 | J107: 213 | K107: 63
A108: 첨 단 1동 | B108: 7046 | C108: 26190 | D108: 12996 | E108: 13194 | F108: 25822 | G108: 12789 | H108: 13033 | I108: 368 | J108: 207 | K108: 161
A109: 첨 단 2동 | B109: 13412 | C109: 43503 | D109: 22126 | E109: 21377 | F109: 42143 | G109: 20899 | H109: 21244 | I109: 1360 | J109: 1227 | K109: 133
A110: 신 가 동 | B110: 17088 | C110: 53509 | D110: 26745 | E110: 26764 | F110: 53490 | G110: 26739 | H110: 26751 | I110: 19 | J110: 6 | K110: 13
... A117: 본 량 동 | B117: 1265 | C117: 2803 | D117: 1422 | E117: 1381 | F117: 2668 | G117: 1366 | H117: 1302 | I117: 135 | J117: 56 | K117: 79

Sheet 2008년
A1: 2. 동별 세대 및 인구 (동구~광산구)
A2: ○ 동 구 | K2: (단위 : 세대, 명)
A3: 구 분 | B3: 세 대 | C3: 합 계 | F3: 한 국 인 | I3: 외 국 인
C4: 계 | D4: 남 | E4: 여 | F4: 계 | G4: 남 | H4: 여 | I4: 계 | J4: 남 | K4: 여
A5: 2008 | B5: =SUM(B6:B18) -> 47112 | C5: =SUM(C6:C18) -> 111167 | D5: =SUM(D6:D18) -> 56037 | E5: =SUM(E6:E18) -> 55630 | F5: =SUM(F6:F18) -> 109963 | G5: =SUM(G6:G18) -> 54988 | H5: =SUM(H6:H18) -> 54975 | I5: 1204 | J5: 549 | K5: 655
A6: 충장동 | B6: 2938 | C6: =SUM(F6,I6) -> 5595 | D6: =SUM(G6,J6) -> 3447 | E6: =SUM(H6,K6) -> 2648 | F6: =SUM(G6:H6) -> 5482 | G6: 2893 | H6: 2589 | I6: 113 | J6: 554 | K6: 59
A7: 동명동 | B7: 2951 | C7: =SUM(F7,I7) -> 6255 | D7: =SUM(G7,J7) -> 3095 | E7: =SUM(H7,K7) -> 3160 | F7: =SUM(G7:H7) -> 6209 | G7: 3082 | H7: 3127 | I7: 46 | J7: 13 | K7: 33
A8: 계림1동 | B8: 4572 | C8: =SUM(F8,I8) -> 8916 | D8: =SUM(G8,J8) -> 4478 | E8: =SUM(H8,K8) -> 4438 | F8: =SUM(G8:H8) -> 8862 | G8: 4461 | H8: 4401 | I8: 54 | J8: 17 | K8: 37
A9: 계림2동 | B9: 3776 | C9: =SUM(F9,I9) -> 9962 | D9: =SUM(G9,J9) -> 4878 | E9: =SUM(H9,K9) -> 5084 | F9: =SUM(G9:H9) -> 9934 | G9: 4866 | H9: 5068 | I9: 28 | J9: 12 | K9: 16
A10: 산수1동 | B10: 4545 | C10: =SUM(F10,I10) -> 10305 | D10: =SUM(G10,J10) -> 5151 | E10: =SUM(H10,K10) -> 5154 | F10: =SUM(G10:H10) -> 10220 | G10: 5118 | H10: 5102 | I10: 85 | J10: 33 | K10: 52
A11: 산수2동 | B11: 4463 | C11: =SUM(F11,I11) -> 11675 | D11: =SUM(G11,J11) -> 5732 | E11: =SUM(H11,K11) -> 5943 | F11: =SUM(G11:H11) -> 11653 | G11: 5725 | H11: 5928 | I11: 22 | J11: 7 | K11: 15
A12: 지산1동 | B12: 2279 | C12: =SUM(F12,I12) -> 5023 | D12: =SUM(G12,J12) -> 2525 | E12: =SUM(H12,K12) -> 2498 | F12: =SUM(G12:H12) -> 4967 | G12: 2493 | H12: 2474 | I12: 56 | J12: 32 | K12: 24
A13: 지산2동 | B13: 2836 | C13: =SUM(F13,I13) -> 6835 | D13: =SUM(G13,J13) -> 3470 | E13: =SUM(H13,K13) -> 3365 | F13: =SUM(G13:H13) -> 6818 | G13: 3463 | H13: 3355 | I13: 17 | J13: 7 | K13: 10
A14: 서남동 | B14: 2672 | C14: =SUM(F14,I14) -> 5549 | D14: =SUM(G14,J14) -> 2794 | E14: =SUM(H14,K14) -> 2755 | F14: =SUM(G14:H14) -> 5014 | G14: 2511 | H14: 2503 | I14: 535 | J14: 283 | K14: 252
A15: 학 동 | B15: 3884 | C15: =SUM(F15,I15) -> 8232 | D15: =SUM(G15,J15) -> 4104 | E15: =SUM(H15,K15) -> 4128 | F15: =SUM(G15:H15) -> 8121 | G15: 4073 | H15: 4048 | I15: 111 | J15: 31 | K15: 80
A16: 학운동 | B16: 5094 | C16: =SUM(F16,I16) -> 14386 | D16: =SUM(G16,J16) -> 7081 | E16: =SUM(H16,K16) -> 7305 | F16: =SUM(G16:H16) -> 14302 | G16: 7035 | H16: 7267 | I16: 84 | J16: 46 | K16: 38
A17: 지원1동 | B17: 3502 | C17: =SUM(F17,I17) -> 9514 | D17: =SUM(G17,J17) -> 4772 | E17: =SUM(H17,K17) -> 4742 | F17: =SUM(G17:H17) -> 9464 | G17: 4758 | H17: 4706 | I17: 50 | J17: 14 | K17: 36
A18: 지원2동 | B18: 3600 | C18: =SUM(F18,I18) -> 8920 | D18: =SUM(G18,J18) -> 4510 | E18: =SUM(H18,K18) -> 4410 | F18: =SUM(G18:H18) -> 8917 | G18: 4510 | H18: 4407 | I18: 3 | J18: 0 | K18: 3
A20: ○ 서 구 | K20: 단위 : 명, 세대
A21: 구 분 | B21: 세 대 | C21: 합 계 | F21: 한 국 인 | I21: 외 국 인
C22: 계 | D22: 남 | E22: 여 | F22: 계 | G22: 남 | H22: 여 | I22: 계 | J22: 남 | K22: 여
A23: 2008 | B23: =SUM(B24:B40) -> 107698 | C23: =SUM(C24:C40) -> 306035 | D23: =SUM(D24:D40) -> 150743 | E23: =SUM(E24:E40) -> 155292 | F23: =SUM(F24:F40) -> 304885 | G23: =SUM(G24:G40) -> 150315 | H23: =SUM(H24:H40) -> 154570 | I23: =SUM(I24:I40) -> 1150 | ... K23: =SUM(K24:K40) -> 722
A24: 양 동 | B24: 2541 | C24: =SUM(D24:E24) -> 6059 | D24: =G24+J24 -> 3047 | E24: =H24+K24 -> 3012 | F24: =SUM(G24:H24) -> 6024 | G24: 3043 | H24: 2981 | I24: =SUM(J24:K24) -> 35 | J24: 4 | K24: 31
A25: 양 3 동 | B25: 1624 | C25: =SUM(D25:E25) -> 4258 | D25: =G25+J25 -> 2150 | E25: =H25+K25 -> 2108 | F25: =SUM(G25:H25) -> 4250 | G25: 2149 | H25: 2101 | I25: =SUM(J25:K25) -> 8 | J25: 1 | K25: 7
A26: 농성1동 | B26: 3996 | C26: =SUM(D26:E26) -> 9519 | D26: =G26+J26 -> 4745 | E26: =H26+K26 -> 4774 | F26: =SUM(G26:H26) -> 9458 | G26: 4726 | H26: 4732 | I26: =SUM(J26:K26) -> 61 | J26: 19 | K26: 42
A27: 농성2동 | B27: 2612 | C27: =SUM(D27:E27) -> 6122 | D27: =G27+J27 -> 3125 | E27: =H27+K27 -> 2997 | F27: =SUM(G27:H27) -> 6116 | G27: 3124 | H27: 2992 | I27: =SUM(J27:K27) -> 6 | J27: 1 | K27: 5
A28: 광 천 동 | B28: 4005 | C28: =SUM(D28:E28) -> 9365 | D28: =G28+J28 -> 4815 | E28: =H28+K28 -> 4550 | F28: =SUM(G28:H28) -> 9315 | G28: 4800 | H28: 4515 | I28: =SUM(J28:K28) -> 50 | J28: 15 | K28: 35
A29: 유 덕 동 | B29: 4357 | C29: =SUM(D29:E29) -> 12885 | D29: =G29+J29 -> 6476 | E29: =H29+K29 -> 6409 | F29: =SUM(G29:H29) -> 12756 | G29: 6416 | H29: 6340 | I29: =SUM(J29:K29) -> 129 | J29: 60 | K29: 69
A30: 상무1동 | B30: 9528 | C30: =SUM(D30:E30) -> 25195 | D30: =G30+J30 -> 12412 | E30: =H30+K30 -> 12783 | F30: =SUM(G30:H30) -> 25044 | G30: 12361 | H30: 12683 | I30: =SUM(J30:K30) -> 151 | J30: 51 | K30: 100
A31: 상무2동 | B31: 10453 | C31: =SUM(D31:E31) -> 26457 | D31: =G31+J31 -> 12960 | E31: =H31+K31 -> 13497 | F31: =SUM(G31:H31) -> 26413 | G31: 12946 | H31: 13467 | I31: =SUM(J31:K31) -> 44 | J31: 14 | K31: 30
A32: 화정1동 | B32: 6650 | C32: =SUM(D32:E32) -> 17300 | D32: =G32+J32 -> 8368 | E32: =H32+K32 -> 8932 | F32: =SUM(G32:H32) -> 17198 | G32: 8337 | H32: 8861 | I32: =SUM(J32:K32) -> 102 | J32: 31 | K32: 71
A33: 화정2동 | B33: 6728 | C33: =SUM(D33:E33) -> 18656 | D33: =G33+J33 -> 9200 | E33: =H33+K33 -> 9456 | F33: =SUM(G33:H33) -> 18645 | G33: 9197 | H33: 9448 | I33: =SUM(J33:K33) -> 11 | J33: 3 | K33: 8
A34: 화정3동 | B34: 4711 | C34: =SUM(D34:E34) -> 13634 | D34: =G34+J34 -> 6836 | E34: =H34+K34 -> 6798 | F34: =SUM(G34:H34) -> 13622 | G34: 6834 | H34: 6788 | I34: =SUM(J34:K34) -> 12 | J34: 2 | K34: 10
A35: 화정4동 | B35: 7263 | C35: =SUM(D35:E35) -> 22571 | D35: =G35+J35 -> 11092 | E35: =H35+K35 -> 11479 | F35: =SUM(G35:H35) -> 22543 | G35: 11084 | H35: 11459 | I35: =SUM(J35:K35) -> 28 | J35: 8 | K35: 20
... A38: 금호2동 | B38: 9041 | C38: =SUM(D38:E38) -> 30154 | D38: =G38+J38 -> 14751 | E38: =H38+K38 -> 15403 | F38: =SUM(G38:H38) -> 30122 | G38: 14734 | H38: 15388 | I38: =SUM(J38:K38) -> 32 | J38: 17 | K38: 15
A39: 치평동 | B39: 9924 | C39: 31206 | D39: 15287 | E39: 15919 | F39: =SUM(G39:H39) -> 31024 | G39: 15208 | H39: 15816 | I39: =SUM(J39:K39) -> 182 | J39: 79 | K39: 103
A40: 풍암동 | B40: 13536 | C40: =SUM(D40:E40) -> 41415 | D40: =G40+J40 -> 20197 | E40: =H40+K40 -> 21218 | F40: =SUM(G40:H40) -> 41267 | G40: 20129 | H40: 21138 | I40: =SUM(J40:K40) -> 148 | J40: 68 | K40: 80
A42: ○ 남 구
A43: 구 분 | B43: 세 대 | C43: 합 계 | F43: 한 국 인 | I43: 외 국 인
C44: 계 | D44: 남 | E44: 여 | F44: 계 | G44: 남 | H44: 여 | I44: 계 | J44: 남 | K44: 여
A45: 2008 | B45: =SUM(B46:B61) -> 77480 | C45: =SUM(C46:C61) -> 214091 | D45: =SUM(D46:D61) -> 104290 | E45: =SUM(E46:E61) -> 109801 | F45: =SUM(F46:F61) -> 213073 | G45: =SUM(G46:G61) -> 103919 | H45: =SUM(H46:H61) -> 109154 | I45: =SUM(I46:I61) -> 1018 | ... K45: =SUM(K46:K61) -> 647
A46: 양 림 동 | B46: 3318 | C46: =SUM(D46:E46) -> 8336 | D46: =G46+J46 -> 4057 | E46: =H46+K46 -> 4279 | F46: =SUM(G46:H46) -> 8274 | G46: 4032 | H46: 4242 | I46: 62 | J46: 25 | K46: 37
A47: 방림1동 | B47: 2257 | C47: =SUM(D47:E47) -> 5941 | D47: =G47+J47 -> 2838 | E47: =H47+K47 -> 3103 | F47: =SUM(G47:H47) -> 5902 | G47: 2833 | H47: 3069 | I47: 39 | J47: 5 | K47: 34
A48: 방림2동 | B48: 4678 | C48: =SUM(D48:E48) -> 12830 | D48: =G48+J48 -> 6241 | E48: =H48+K48 -> 6589 | F48: =SUM(G48:H48) -> 12805 | G48: 6232 | H48: 6573 | I48: 25 | J48: 9 | K48: 16
A49: 봉선1동 | B49: 6859 | C49: =SUM(D49:E49) -> 18146 | D49: =G49+J49 -> 8756 | E49: =H49+K49 -> 9390 | F49: =SUM(G49:H49) -> 18066 | G49: 8730 | H49: 9336 | I49: 80 | J49: 26 | K49: 54
A50: 봉선2동 | B50: 8117 | C50: =SUM(D50:E50) -> 27772 | D50: =G50+J50 -> 13140 | E50: =H50+K50 -> 14632 | F50: =SUM(G50:H50) -> 27744 | G50: 13125 | H50: 14619 | I50: 28 | J50: 15 | K50: 13
A51: 사 직 동 | B51: 3225 | C51: =SUM(D51:E51) -> 6874 | D51: =G51+J51 -> 3471 | E51: =H51+K51 -> 3403 | F51: =SUM(G51:H51) -> 6830 | G51: 3457 | H51: 3373 | I51: 44 | J51: 14 | K51: 30
A52: 월 산 동 | B52: 5314 | C52: =SUM(D52:E52) -> 12108 | D52: =G52+J52 -> 6156 | E52: =H52+K52 -> 5952 | F52: =SUM(G52:H52) -> 12043 | G52: 6138 | H52: 5905 | I52: 65 | J52: 18 | K52: 47
A53: 월산4동 | B53: 4765 | C53: =SUM(D53:E53) -> 11710 | D53: =G53+J53 -> 5920 | E53: =H53+K53 -> 5790 | F53: =SUM(G53:H53) -> 11669 | G53: 5910 | H53: 5759 | I53: 41 | J53: 10 | K53: 31
A54: 월산5동 | B54: 3459 | C54: =SUM(D54:E54) -> 8828 | D54: =G54+J54 -> 4378 | E54: =H54+K54 -> 4450 | F54: =SUM(G54:H54) -> 8806 | G54: 4374 | H54: 4432 | I54: 22 | J54: 4 | K54: 18
A55: 백운1동 | B55: 3221 | C55: =SUM(D55:E55) -> 8878 | D55: =G55+J55 -> 4369 | E55: =H55+K55 -> 4509 | F55: =SUM(G55:H55) -> 8822 | G55: 4343 | H55: 4479 | I55: 56 | J55: 26 | K55: 30
A56: 백운2동 | B56: 2777 | C56: =SUM(D56:E56) -> 6690 | D56: =G56+J56 -> 3368 | E56: =H56+K56 -> 3322 | F56: =SUM(G56:H56) -> 6683 | G56: 3368 | H56: 3315 | I56: 7 | J56: 0 | K56: 7
A57: 주월1동 | B57: 7231 | C57: =SUM(D57:E57) -> 20684 | D57: =G57+J57 -> 10237 | E57: =H57+K57 -> 10447 | F57: =SUM(G57:H57) -> 20553 | G57: 10192 | H57: 10361 | I57: 131 | J57: 45 | K57: 86
... A61: 대 촌 동 | B61: 2572 | C61: =SUM(D61:E61) -> 5967 | D61: =G61+J61 -> 2940 | E61: =H61+K61 -> 3027 | F61: =SUM(G61:H61) -> 5935 | G61: 2931 | H61: 3004 | I61: 32 | J61: 9 | K61: 23
A63: ○ 북 구 | K63: 단위 : 세대,명
A64: 구 분 | B64: 세 대 | C64: 합 계 | F64: 한 국 인 | I64: 외 국 인
C65: 계 | D65: 남 | E65: 여 | F65: 계 | G65: 남 | H65: 여 | I65: 계 | J65: 남 | K65: 여
A66: 2008 | B66: 171341 | C66: 477513 | D66: 236946 | E66: 240567 | F66: 474121 | G66: 235363 | H66: 238758 | I66: 3392 | J66: 1583 | K66: 1809
A67: 중흥1동 | B67: 2358 | C67: 5016 | D67: 2678 | E67: 2338 | F67: 4987 | G67: 2669 | H67: 2318 | I67: 29 | J67: 9 | K67: 20
A68: 중흥2동 | B68: 4138 | C68: 10185 | D68: 5182 | E68: 5003 | F68: 10127 | G68: 5165 | H68: 4962 | I68: 58 | J68: 17 | K68: 41
A69: 중흥3동 | B69: 3013 | C69: 6987 | D69: 3531 | E69: 3456 | F69: 6960 | G69: 3526 | H69: 3434 | I69: 27 | J69: 5 | K69: 22
A70: 중 앙 동 | B70: 2226 | C70: 4719 | D70: 2450 | E70: 2269 | F70: 4682 | G70: 2431 | H70: 2251 | I70: 37 | J70: 19 | K70: 18
A71: 임 동 | B71: 4446 | C71: 11398 | D71: 5799 | E71: 5599 | F71: 11350 | G71: 5789 | H71: 5561 | I71: 48 | J71: 10 | K71: 38
A72: 신 안 동 | B72: 5783 | C72: 13439 | D72: 6927 | E72: 6512 | F72: 13364 | G72: 6901 | H72: 6463 | I72: 75 | J72: 26 | K72: 49
A73: 용 봉 동 | B73: 14333 | C73: 42262 | D73: 21250 | E73: 21012 | F73: 41127 | G73: 20648 | H73: 20479 | I73: 1135 | J73: 602 | K73: 533
A74: 운암1동 | B74: 7360 | C74: 22238 | D74: 10918 | E74: 11320 | F74: 22158 | G74: 10886 | H74: 11272 | I74: 80 | J74: 32 | K74: 48
A75: 운암2동 | B75: 6501 | C75: 17017 | D75: 8589 | E75: 8428 | F75: 16953 | G75: 8573 | H75: 8380 | I75: 64 | J75: 16 | K75: 48
A76: 운암3동 | B76: 6464 | C76: 19323 | D76: 9398 | E76: 9925 | F76: 19273 | G76: 9387 | H76: 9886 | I76: 50 | J76: 11 | K76: 39
A77: 동 림 동 | B77: 11312 | C77: 34043 | D77: 16749 | E77: 17294 | F77: 33877 | G77: 16669 | H77: 17208 | I77: 166 | J77: 80 | K77: 86
A78: 우 산 동 | B78: 7150 | C78: 17175 | D78: 8412 | E78: 8763 | F78: 17091 | G78: 8373 | H78: 8718 | I78: 84 | J78: 39 | K78: 45
... A92: 일 곡 동 | B92: 10827 | C92: 35181 | D92: 17137 | E92: 18044 | F92: 35096 | G92: 17100 | H92: 17996 | I92: 85 | J92: 37 | K92: 48
A97: ○ 광 산 구 | K97: (단위 : 명, 세대)
A98: 구 분 | B98: 세대 | C98: 합 계 | F98: 한 국 인 | I98: 외 국 인
C99: 계 | D99: 남 | E99: 여 | F99: 계 | G99: 남 | H99: 여 | I99: 계 | J99: 남 | K99: 여
A100: 2008 | B100: 109390 | C100: 325822 | D100: 164622 | E100: 161200 | F100: 320660 | G100: 161232 | H100: 159428 | I100: 5162 | J100: 3390 | K100: 1772
A101: 송정1동 | B101: 4525 | C101: 13015 | D101: 6619 | E101: 6396 | F101: 12787 | G101: 6532 | H101: 6255 | I101: 228 | J101: 87 | K101: 141
A102: 송정2동 | B102: 2912 | C102: 7369 | D102: 3696 | E102: 3673 | F102: 7327 | G102: 3681 | H102: 3646 | I102: 42 | J102: 15 | K102: 27
A103: 도 산 동 | B103: 5970 | C103: 16811 | D103: 8522 | E103: 8289 | F103: 16750 | G103: 8504 | H103: 8246 | I103: 61 | J103: 18 | K103: 43
A104: 신 흥 동 | B104: 2067 | C104: 5600 | D104: 2883 | E104: 2717 | F104: 5563 | G104: 2868 | H104: 2695 | I104: 37 | J104: 15 | K104: 22
A105: 어 룡 동 | B105: 7511 | C105: 22624 | D105: 11527 | E105: 11097 | F105: 21994 | G105: 11159 | H105: 10835 | I105: 630 | J105: 368 | K105: 262
A106: 우 산 동 | B106: 10651 | C106: 27661 | D106: 13685 | E106: 13976 | F106: 27476 | G106: 13626 | H106: 13850 | I106: 185 | J106: 59 | K106: 126
A107: 월곡1동 | B107: 5793 | C107: 16750 | D107: 8469 | E107: 8281 | F107: 16612 | G107: 8413 | H107: 8199 | I107: 138 | J107: 56 | K107: 82
A108: 월곡2동 | B108: 7616 | C108: 23017 | D108: 11592 | E108: 11425 | F108: 22670 | G108: 11530 | H108: 11140 | I108: 347 | J108: 62 | K108: 285
A109: 비 아 동 | B109: 3171 | C109: 8481 | D109: 4456 | E109: 4025 | F109: 8170 | G109: 4233 | H109: 3937 | I109: 311 | J109: 223 | K109: 88
A110: 첨단1동 | B110: 7021 | C110: 25729 | D110: 12757 | E110: 12972 | F110: 25690 | G110: 12739 | H110: 12951 | I110: 39 | J110: 18 | K110: 21
A111: 첨단2동 | B111: 13807 | C111: 43313 | D111: 21401 | E111: 21912 | F111: 43161 | G111: 21342 | H111: 21819 | I111: 152 | J111: 59 | K111: 93
A112: 신 가 동 | B112: 18715 | C112: 58682 | D112: 29245 | E112: 29437 | F112: 58218 | G112: 28992 | H112: 29226 | I112: 464 | J112: 253 | K112: 211
... A119: 본 량 동 | B119: 1291 | C119: 2711 | D119: 1389 | E119: 1322 | F119: 2670 | G119: 1359 | H119: 1311 | I119: 41 | J119: 30 | K119: 11

Sheet 2009년
A1: 2. 동별 세대 및 인구 (동구~광산구)
A2: ○ 동 구
A3: 구 분 | B3: 세 대 | C3: 합 계 | F3: 한 국 인 | I3: 외 국 인
C4: 계 | D4: 남 | E4: 여 | F4: 계 | G4: 남 | H4: 여 | I4: 계 | J4: 남 | K4: 여
A5: 2009 | B5: =SUM(B6:B18) -> 46854 | C5: =SUM(C6:C18) -> 108924 | D5: =SUM(D6:D18) -> 54329 | E5: =SUM(E6:E18) -> 54595 | F5: =SUM(F6:F18) -> 107772 | G5: =SUM(G6:G18) -> 53791 | H5: =SUM(H6:H18) -> 53981 | I5: =SUM(I6:I18) -> 1152 | ... K5: =SUM(K6:K18) -> 614
A6: 충장동 | B6: 3008 | C6: =SUM(D6:E6) -> 5627 | D6: =G6+J6 -> 2936 | E6: =H6+K6 -> 2691 | F6: =SUM(G6:H6) -> 5514 | G6: =[4]연령별!F5 -> 2885 | H6: =[4]연령별!G5 -> 2629 | I6: =SUM(J6:K6) -> 113 | J6: 51 | K6: 62
A7: 동명동 | B7: 2884 | C7: =SUM(D7:E7) -> 6049 | D7: =G7+J7 -> 2996 | E7: =H7+K7 -> 3053 | F7: =SUM(G7:H7) -> 6002 | G7: =[4]연령별!I5 -> 2977 | H7: =[4]연령별!J5 -> 3025 | I7: =SUM(J7:K7) -> 47 | J7: 19 | K7: 28
A8: 계림1동 | B8: 4541 | C8: =SUM(D8:E8) -> 8614 | D8: =G8+J8 -> 4351 | E8: =H8+K8 -> 4263 | F8: =SUM(G8:H8) -> 8555 | G8: =[4]연령별!L5 -> 4334 | H8: =[4]연령별!M5 -> 4221 | I8: =SUM(J8:K8) -> 59 | J8: 17 | K8: 42
A9: 계림2동 | B9: 3742 | C9: =SUM(D9:E9) -> 9810 | D9: =G9+J9 -> 4809 | E9: =H9+K9 -> 5001 | F9: =SUM(G9:H9) -> 9784 | G9: =[4]연령별!O5 -> 4796 | H9: =[4]연령별!P5 -> 4988 | I9: =SUM(J9:K9) -> 26 | J9: 13 | K9: 13
A10: 산수1동 | B10: 4459 | C10: =SUM(D10:E10) -> 9935 | D10: =G10+J10 -> 4977 | E10: =H10+K10 -> 4958 | F10: =SUM(G10:H10) -> 9854 | G10: =[4]연령별!R5 -> 4943 | H10: =[4]연령별!S5 -> 4911 | I10: =SUM(J10:K10) -> 81 | J10: 34 | K10: 47
A11: 산수2동 | B11: 4442 | C11: =SUM(D11:E11) -> 11365 | D11: =G11+J11 -> 5566 | E11: =H11+K11 -> 5799 | F11: =SUM(G11:H11) -> 11349 | G11: =[4]연령별!U5 -> 5561 | H11: =[4]연령별!V5 -> 5788 | I11: =SUM(J11:K11) -> 16 | J11: 5 | K11: 11
A12: 지산1동 | B12: 2225 | C12: =SUM(D12:E12) -> 4814 | D12: =G12+J12 -> 2415 | E12: =H12+K12 -> 2399 | F12: =SUM(G12:H12) -> 4741 | G12: =[4]연령별!X5 -> 2381 | H12: =[4]연령별!Y5 -> 2360 | I12: =SUM(J12:K12) -> 73 | J12: 34 | K12: 39
A13: 지산2동 | B13: 2804 | C13: =SUM(D13:E13) -> 6643 | D13: =G13+J13 -> 3366 | E13: =H13+K13 -> 3277 | F13: =SUM(G13:H13) -> 6624 | G13: =[4]연령별!AA5 -> 3358 | H13: =[4]연령별!AB5 -> 3266 | I13: =SUM(J13:K13) -> 19 | J13: 8 | K13: 11
A14: 서남동 | B14: 2616 | C14: =SUM(D14:E14) -> 5405 | D14: =G14+J14 -> 2734 | E14: =H14+K14 -> 2671 | F14: =SUM(G14:H14) -> 4921 | G14: =[4]연령별!AD5 -> 2462 | H14: =[4]연령별!AE5 -> 2459 | I14: =SUM(J14:K14) -> 484 | J14: 272 | K14: 212
A15: 학 동 | B15: 3846 | C15: =SUM(D15:E15) -> 8028 | D15: =G15+J15 -> 3977 | E15: =H15+K15 -> 4051 | F15: =SUM(G15:H15) -> 7926 | G15: =[4]연령별!AG5 -> 3950 | H15: =[4]연령별!AH5 -> 3976 | I15: =SUM(J15:K15) -> 102 | J15: 27 | K15: 75
A16: 학운동 | B16: 5028 | C16: =SUM(D16:E16) -> 14062 | D16: =G16+J16 -> 6914 | E16: =H16+K16 -> 7148 | F16: =SUM(G16:H16) -> 13977 | G16: =[4]연령별!AJ5 -> 6867 | H16: =[4]연령별!AK5 -> 7110 | I16: =SUM(J16:K16) -> 85 | J16: 47 | K16: 38
A17: 지원1동 | B17: 3555 | C17: =SUM(D17:E17) -> 9646 | D17: =G17+J17 -> 4827 | E17: =H17+K17 -> 4819 | F17: =SUM(G17:H17) -> 9604 | G17: =[4]연령별!AM5 -> 4817 | H17: =[4]연령별!AN5 -> 4787 | I17: =SUM(J17:K17) -> 42 | J17: 10 | K17: 32
A18: 지원2동 | B18: 3704 | C18: =SUM(D18:E18) -> 8926 | D18: =G18+J18 -> 4461 | E18: =H18+K18 -> 4465 | F18: =SUM(G18:H18) -> 8921 | G18: =[4]연령별!AP5 -> 4460 | H18: =[4]연령별!AQ5 -> 4461 | I18: =SUM(J18:K18) -> 5 | J18: 1 | K18: 4
A20: ○ 서 구 | K20: 단위 : 명, 세대
A21: 구 분 | B21: 세 대 | C21: 합 계 | F21: 한 국 인 | I21: 외 국 인
C22: 계 | D22: 남 | E22: 여 | F22: 계 | G22: 남 | H22: 여 | I22: 계 | J22: 남 | K22: 여
A23: 2009 | B23: =SUM(B24:B40) -> 108212 | C23: =SUM(C24:C40) -> 300999 | D23: =SUM(D24:D40) -> 148094 | E23: =SUM(E24:E40) -> 152905 | F23: =SUM(F24:F40) -> 299825 | G23: =SUM(G24:G40) -> 147651 | H23: =SUM(H24:H40) -> 152174 | I23: =SUM(I24:I40) -> 1174 | ... K23: =SUM(K24:K40) -> 731
A24: 양 동 | B24: 2524 | C24: =SUM(D24:E24) -> 5868 | D24: =G24+J24 -> 2945 | E24: =H24+K24 -> 2923 | F24: =SUM(G24:H24) -> 5834 | G24: 2942 | H24: 2892 | I24: =SUM(J24:K24) -> 34 | J24: 3 | K24: 31
A25: 양 3 동 | B25: 1577 | C25: =SUM(D25:E25) -> 4003 | D25: =G25+J25 -> 2025 | E25: =H25+K25 -> 1978 | F25: =SUM(G25:H25) -> 3999 | G25: 2025 | H25: 1974 | I25: =SUM(J25:K25) -> 4 | J25: 0 | K25: 4
A26: 농성1동 | B26: 3891 | C26: =SUM(D26:E26) -> 9080 | D26: =G26+J26 -> 4526 | E26: =H26+K26 -> 4554 | F26: =SUM(G26:H26) -> 9008 | G26: 4504 | H26: 4504 | I26: =SUM(J26:K26) -> 72 | J26: 22 | K26: 50
A27: 농성2동 | B27: 2636 | C27: =SUM(D27:E27) -> 5988 | D27: =G27+J27 -> 3094 | E27: =H27+K27 -> 2894 | F27: =SUM(G27:H27) -> 5981 | G27: 3093 | H27: 2888 | I27: =SUM(J27:K27) -> 7 | J27: 1 | K27: 6
A28: 광 천 동 | B28: 3947 | C28: =SUM(D28:E28) -> 8917 | D28: =G28+J28 -> 4618 | E28: =H28+K28 -> 4299 | F28: =SUM(G28:H28) -> 8858 | G28: 4592 | H28: 4266 | I28: =SUM(J28:K28) -> 59 | J28: 26 | K28: 33
A29: 유 덕 동 | B29: 4424 | C29: =SUM(D29:E29) -> 12667 | D29: =G29+J29 -> 6382 | E29: =H29+K29 -> 6285 | F29: =SUM(G29:H29) -> 12547 | G29: 6332 | H29: 6215 | I29: =SUM(J29:K29) -> 120 | J29: 50 | K29: 70
A30: 상무1동 | B30: 9554 | C30: =SUM(D30:E30) -> 24555 | D30: =G30+J30 -> 12050 | E30: =H30+K30 -> 12505 | F30: =SUM(G30:H30) -> 24414 | G30: 11999 | H30: 12415 | I30: =SUM(J30:K30) -> 141 | J30: 51 | K30: 90
A31: 상무2동 | B31: 10417 | C31: =SUM(D31:E31) -> 25816 | D31: =G31+J31 -> 12656 | E31: =H31+K31 -> 13160 | F31: =SUM(G31:H31) -> 25753 | G31: 12638 | H31: 13115 | I31: =SUM(J31:K31) -> 63 | J31: 18 | K31: 45
A32: 화정1동 | B32: 6702 | C32: =SUM(D32:E32) -> 16876 | D32: =G32+J32 -> 8145 | E32: =H32+K32 -> 8731 | F32: =SUM(G32:H32) -> 16778 | G32: 8119 | H32: 8659 | I32: =SUM(J32:K32) -> 98 | J32: 26 | K32: 72
A33: 화정2동 | B33: 6774 | C33: =SUM(D33:E33) -> 18348 | D33: =G33+J33 -> 9053 | E33: =H33+K33 -> 9295 | F33: =SUM(G33:H33) -> 18334 | G33: 9051 | H33: 9283 | I33: =SUM(J33:K33) -> 14 | J33: 2 | K33: 12
A34: 화정3동 | B34: 4701 | C34: =SUM(D34:E34) -> 13225 | D34: =G34+J34 -> 6619 | E34: =H34+K34 -> 6606 | F34: =SUM(G34:H34) -> 13207 | G34: 6615 | H34: 6592 | I34: =SUM(J34:K34) -> 18 | J34: 4 | K34: 14
A35: 화정4동 | B35: 7279 | C35: =SUM(D35:E35) -> 22290 | D35: =G35+J35 -> 10925 | E35: =H35+K35 -> 11365 | F35: =SUM(G35:H35) -> 22266 | G35: 10916 | H35: 11350 | I35: =SUM(J35:K35) -> 24 | J35: 9 | K35: 15
... A40: 풍암동 | B40: 13730 | C40: =SUM(D40:E40) -> 41398 | D40: =G40+J40 -> 20106 | E40: =H40+K40 -> 21292 | F40: =SUM(G40:H40) -> 41248 | G40: 20041 | H40: 21207 | I40: =SUM(J40:K40) -> 150 | J40: 65 | K40: 85
A42: ○ 남 구
A43: 구 분 | B43: 세 대 | C43: 합 계 | F43: 한 국 인 | I43: 외 국 인
C44: 계 | D44: 남 | E44: 여 | F44: 계 | G44: 남 | H44: 여 | I44: 계 | J44: 남 | K44: 여
A45: 2009 | B45: =SUM(B46:B61) -> 78872 | C45: =SUM(C46:C61) -> 214640 | D45: =SUM(D46:D61) -> 104440 | E45: =SUM(E46:E61) -> 110200 | F45: =SUM(F46:F61) -> 213697 | G45: =SUM(G46:G61) -> 104113 | H45: =SUM(H46:H61) -> 109584 | I45: =SUM(I46:I61) -> 943 | ... K45: =SUM(K46:K61) -> 616
A46: 양 림 동 | B46: 3428 | C46: =SUM(D46:E46) -> 8555 | D46: =G46+J46 -> 4159 | E46: =H46+K46 -> 4396 | F46: =SUM(G46:H46) -> 8510 | G46: 4142 | H46: 4368 | I46: 45 | J46: 17 | K46: 28
A47: 방림1동 | B47: 3232 | C47: =SUM(D47:E47) -> 8408 | D47: =G47+J47 -> 4068 | E47: =H47+K47 -> 4340 | F47: =SUM(G47:H47) -> 8356 | G47: 4058 | H47: 4298 | I47: 52 | J47: 10 | K47: 42
A48: 방림2동 | B48: 4547 | C48: =SUM(D48:E48) -> 12207 | D48: =G48+J48 -> 5922 | E48: =H48+K48 -> 6285 | F48: =SUM(G48:H48) -> 12193 | G48: 5918 | H48: 6275 | I48: 14 | J48: 4 | K48: 10
A49: 봉선1동 | B49: 6738 | C49: =SUM(D49:E49) -> 17450 | D49: =G49+J49 -> 8387 | E49: =H49+K49 -> 9063 | F49: =SUM(G49:H49) -> 17373 | G49: 8360 | H49: 9013 | I49: 77 | J49: 27 | K49: 50
A50: 봉선2동 | B50: 8365 | C50: =SUM(D50:E50) -> 28242 | D50: =G50+J50 -> 13336 | E50: =H50+K50 -> 14906 | F50: =SUM(G50:H50) -> 28218 | G50: 13323 | H50: 14895 | I50: 24 | J50: 13 | K50: 11
A51: 사 직 동 | B51: 3146 | C51: =SUM(D51:E51) -> 6531 | D51: =G51+J51 -> 3343 | E51: =H51+K51 -> 3188 | F51: =SUM(G51:H51) -> 6486 | G51: 3328 | H51: 3158 | I51: 45 | J51: 15 | K51: 30
A52: 월 산 동 | B52: 5144 | C52: =SUM(D52:E52) -> 11344 | D52: =G52+J52 -> 5777 | E52: =H52+K52 -> 5567 | F52: =SUM(G52:H52) -> 11279 | G52: 5761 | H52: 5518 | I52: 65 | J52: 16 | K52: 49
A53: 월산4동 | B53: 4775 | C53: =SUM(D53:E53) -> 11427 | D53: =G53+J53 -> 5792 | E53: =H53+K53 -> 5635 | F53: =SUM(G53:H53) -> 11404 | G53: 5785 | H53: 5619 | I53: 23 | J53: 7 | K53: 16
A54: 월산5동 | B54: 3450 | C54: =SUM(D54:E54) -> 8577 | D54: =G54+J54 -> 4275 | E54: =H54+K54 -> 4302 | F54: =SUM(G54:H54) -> 8563 | G54: 4272 | H54: 4291 | I54: 14 | J54: 3 | K54: 11
A55: 백운1동 | B55: 3187 | C55: =SUM(D55:E55) -> 8602 | D55: =G55+J55 -> 4204 | E55: =H55+K55 -> 4398 | F55: =SUM(G55:H55) -> 8552 | G55: 4180 | H55: 4372 | I55: 50 | J55: 24 | K55: 26
A56: 백운2동 | B56: 2721 | C56: =SUM(D56:E56) -> 6412 | D56: =G56+J56 -> 3219 | E56: =H56+K56 -> 3193 | F56: =SUM(G56:H56) -> 6404 | G56: 3219 | H56: 3185 | I56: 8 | J56: 0 | K56: 8
A57: 주월1동 | B57: 7322 | C57: =SUM(D57:E57) -> 20613 | D57: =G57+J57 -> 10177 | E57: =H57+K57 -> 10436 | F57: =SUM(G57:H57) -> 20489 | G57: 10141 | H57: 10348 | I57: 124 | J57: 36 | K57: 88
... A61: 대 촌 동 | B61: 2873 | C61: =SUM(D61:E61) -> 6761 | D61: =G61+J61 -> 3296 | E61: =H61+K61 -> 3465 | F61: =SUM(G61:H61) -> 6723 | G61: 3289 | H61: 3434 | I61: 38 | J61: 7 | K61: 31
A63: ○ 북 구 | K63: 단위 : 세대, 명
A64: 구 분 | B64: 세 대 | C64: 합 계 | F64: 한 국 인 | I64: 외 국 인
C65: 계 | D65: 남 | E65: 여 | F65: 계 | G65: 남 | H65: 여 | I65: 계 | J65: 남 | K65: 여
A66: 2009 | B66: 171900 | C66: 472753 | D66: 234769 | E66: 237984 | F66: 469410 | G66: 233241 | H66: 236169 | I66: 3343 | J66: 1528 | K66: 1815
A67: 중흥1동 | B67: 2304 | C67: 4758 | D67: 2567 | E67: 2191 | F67: 4739 | G67: 2562 | H67: 2177 | I67: 19 | J67: 5 | K67: 14
A68: 중흥2동 | B68: 4015 | C68: 9759 | D68: 4971 | E68: 4788 | F68: 9693 | G68: 4951 | H68: 4742 | I68: 66 | J68: 20 | K68: 46
A69: 중흥3동 | B69: 3010 | C69: 6692 | D69: 3431 | E69: 3261 | F69: 6669 | G69: 3428 | H69: 3241 | I69: 23 | J69: 3 | K69: 20
A70: 중 앙 동 | B70: 2196 | C70: 4487 | D70: 2334 | E70: 2153 | F70: 4449 | G70: 2317 | H70: 2132 | I70: 38 | J70: 17 | K70: 21
A71: 임 동 | B71: 4380 | C71: 11103 | D71: 5652 | E71: 5451 | F71: 11058 | G71: 5641 | H71: 5417 | I71: 45 | J71: 11 | K71: 34
A72: 신 안 동 | B72: 5676 | C72: 12943 | D72: 6689 | E72: 6254 | F72: 12871 | G72: 6666 | H72: 6205 | I72: 72 | J72: 23 | K72: 49
A73: 용 봉 동 | B73: 14569 | C73: 42599 | D73: 21381 | E73: 21218 | F73: 41470 | G73: 20790 | H73: 20680 | I73: 1129 | J73: 591 | K73: 538
A74: 운암1동 | B74: 7920 | C74: 23974 | D74: 11737 | E74: 12237 | F74: 23905 | G74: 11709 | H74: 12196 | I74: 69 | J74: 28 | K74: 41
A75: 운암2동 | B75: 6444 | C75: 16320 | D75: 8298 | E75: 8022 | F75: 16262 | G75: 8283 | H75: 7979 | I75: 58 | J75: 15 | K75: 43
A76: 운암3동 | B76: 6545 | C76: 19337 | D76: 9396 | E76: 9941 | F76: 19282 | G76: 9384 | H76: 9898 | I76: 55 | J76: 12 | K76: 43
A77: 동 림 동 | B77: 12211 | C77: 36528 | D77: 18005 | E77: 18523 | F77: 36378 | G77: 17942 | H77: 18436 | I77: 150 | J77: 63 | K77: 87
A78: 우 산 동 | B78: 7031 | C78: 16490 | D78: 8022 | E78: 8468 | F78: 16417 | G78: 7995 | H78: 8422 | I78: 73 | J78: 27 | K78: 46
... A92: 건 국 동 | B92: 19146 | C92: 56183 | D92: 28229 | E92: 27954 | F92: 55444 | G92: 27808 | H92: 27636 | I92: 739 | J92: 421 | K92: 318
A98: ○ 광 산 구 | K98: 단위 : 명, 세대
A99: 구 분 | B99: 세 대 | C99: 합 계 | F99: 한 국 인 | I99: 외 국 인
C100: 계 | D100: 남 | E100: 여 | F100: 계 | G100: 남 | H100: 여 | I100: 계 | J100: 남 | K100: 여
A101: 2009 | B101: 118255 | C101: 348512 | D101: 175822 | E101: 172690 | F101: 342936 | G101: 172295 | H101: 170641 | I101: 5576 | J101: 3527 | K101: 2049
A102: 송정1동 | B102: 4465 | C102: 12726 | D102: 6466 | E102: 6260 | F102: 12492 | G102: 6379 | H102: 6113 | I102: 234 | J102: 87 | K102: 147
A103: 송정2동 | B103: 2838 | C103: 7006 | D103: 3565 | E103: 3441 | F103: 6963 | G103: 3550 | H103: 3413 | I103: 43 | J103: 15 | K103: 28
A104: 도 산 동 | B104: 5591 | C104: 15676 | D104: 7942 | E104: 7734 | F104: 15611 | G104: 7927 | H104: 7684 | I104: 65 | J104: 15 | K104: 50
A105: 신 흥 동 | B105: 2058 | C105: 5503 | D105: 2822 | E105: 2681 | F105: 5466 | G105: 2810 | H105: 2656 | I105: 37 | J105: 12 | K105: 25
A106: 어 룡 동 | B106: 7365 | C106: 22020 | D106: 11279 | E106: 10741 | F106: 21127 | G106: 10782 | H106: 10345 | I106: 893 | J106: 497 | K106: 396
A107: 우 산 동 | B107: 10429 | C107: 25891 | D107: 12827 | E107: 13064 | F107: 25718 | G107: 12771 | H107: 12947 | I107: 173 | J107: 56 | K107: 117
A108: 월곡1동 | B108: 5545 | C108: 15733 | D108: 7935 | E108: 7798 | F108: 15574 | G108: 7873 | H108: 7701 | I108: 159 | J108: 62 | K108: 97
A109: 월곡2동 | B109: 7182 | C109: 21320 | D109: 10742 | E109: 10578 | F109: 20935 | G109: 10675 | H109: 10260 | I109: 385 | J109: 67 | K109: 318
A110: 비 아 동 | B110: 3113 | C110: 8228 | D110: 4347 | E110: 3881 | F110: 7901 | G110: 4119 | H110: 3782 | I110: 327 | J110: 228 | K110: 99
A111: 첨단1동 | B111: 6977 | C111: 25155 | D111: 12409 | E111: 12746 | F111: 25118 | G111: 12393 | H111: 12725 | I111: 37 | J111: 16 | K111: 21
A112: 첨단2동 | B112: 13395 | C112: 41582 | D112: 20525 | E112: 21057 | F112: 41428 | G112: 20477 | H112: 20951 | I112: 154 | J112: 48 | K112: 106
A113: 신 가 동 | B113: 18795 | C113: 58145 | D113: 28762 | E113: 29383 | F113: 57809 | G113: 28609 | H113: 29200 | I113: 336 | J113: 153 | K113: 183
... A121: 본 량 동 | B121: 1314 | C121: 2778 | D121: 1406 | E121: 1372 | F121: 2750 | G121: 1390 | H121: 1360 | I121: 28 | J121: 16 | K121: 12

Sheet 2010년
A1: 2. 동별 세대 및 인구 (동구~광산구)
A2: ○ 동 구
A3: 구 분 | B3: 세 대 | C3: 총 계 | F3: 한 국 인 | I3: 외 국 인
C4: 계 | D4: 남 | E4: 여 | F4: 계 | G4: 남 | H4: 여 | I4: 계 | J4: 남 | K4: 여
A5: 2010 | B5: 46449 | C5: 105483 | D5: 52705 | E5: 52778 | F5: 104449 | G5: 52221 | H5: 52228 | I5: 1034 | J5: 484 | K5: 550
A6: 충장동 | B6: 2999 | C6: 5421 | D6: 2871 | E6: 2550 | F6: 5308 | G6: 2815 | H6: 2493 | I6: 113 | J6: 56 | K6: 57
A7: 동명동 | B7: 2888 | C7: 5880 | D7: 2905 | E7: 2975 | F7: 5831 | G7: 2881 | H7: 2950 | I7: 49 | J7: 24 | K7: 25
A8: 계림1동 | B8: 4429 | C8: 8297 | D8: 4205 | E8: 4092 | F8: 8231 | G8: 4182 | H8: 4049 | I8: 66 | J8: 23 | K8: 43
A9: 계림2동 | B9: 3672 | C9: 9494 | D9: 4665 | E9: 4829 | F9: 9466 | G9: 4654 | H9: 4812 | I9: 28 | J9: 11 | K9: 17
A10: 산수1동 | B10: 4331 | C10: 9278 | D10: 4658 | E10: 4620 | F10: 9204 | G10: 4633 | H10: 4571 | I10: 74 | J10: 25 | K10: 49
A11: 산수2동 | B11: 4435 | C11: 11195 | D11: 5482 | E11: 5713 | F11: 11176 | G11: 5476 | H11: 5700 | I11: 19 | J11: 6 | K11: 13
A12: 지산1동 | B12: 2491 | C12: 5558 | D12: 2774 | E12: 2784 | F12: 5467 | G12: 2731 | H12: 2736 | I12: 91 | J12: 43 | K12: 48
A13: 지산2동 | B13: 2778 | C13: 6533 | D13: 3327 | E13: 3206 | F13: 6506 | G13: 3316 | H13: 3190 | I13: 27 | J13: 11 | K13: 16
A14: 서남동 | B14: 2593 | C14: 4935 | D14: 2510 | E14: 2425 | F14: 4567 | G14: 2298 | H14: 2269 | I14: 368 | J14: 212 | K14: 156
A15: 학 동 | B15: 3698 | C15: 7414 | D15: 3700 | E15: 3714 | F15: 7319 | G15: 3668 | H15: 3651 | I15: 95 | J15: 32 | K15: 63
A16: 학운동 | B16: 5031 | C16: 13789 | D16: 6719 | E16: 7070 | F16: 13733 | G16: 6690 | H16: 7043 | I16: 56 | J16: 29 | K16: 27
A17: 지원1동 | B17: 3521 | C17: 9259 | D17: 4634 | E17: 4625 | F17: 9218 | G17: 4623 | H17: 4595 | I17: 41 | J17: 11 | K17: 30
A18: 지원2동 | B18: 3583 | C18: 8430 | D18: 4255 | E18: 4175 | F18: 8423 | G18: 4254 | H18: 4169 | I18: 7 | J18: 1 | K18: 6
A21: ○ 서 구 | K21: 단위 : 명, 세대
A22: 구 분 | B22: 세 대 | C22: 합 계 | F22: 한 국 인 | I22: 외 국 인
C23: 계 | D23: 남 | E23: 여 | F23: 계 | G23: 남 | H23: 여 | I23: 계 | J23: 남 | K23: 여
A24: 2010 | B24: 111381 | C24: 304417 | D24: 149792 | E24: 154625 | F24: 303219 | G24: 149345 | H24: 153874 | I24: 1198 | J24: 447 | K24: 751
A25: 양 동 | B25: 2583 | C25: 5700 | D25: 2854 | E25: 2846 | F25: 5661 | G25: 2849 | H25: 2812 | I25: 39 | J25: 5 | K25: 34
A26: 양 3 동 | B26: 2238 | C26: 5530 | D26: 2753 | E26: 2777 | F26: 5522 | G26: 2753 | H26: 2769 | I26: 8 | J26: 0 | K26: 8
A27: 농성1동 | B27: 3940 | C27: 8842 | D27: 4399 | E27: 4443 | F27: 8787 | G27: 4388 | H27: 4399 | I27: 55 | J27: 11 | K27: 44
A28: 농성2동 | B28: 2745 | C28: 6007 | D28: 3104 | E28: 2903 | F28: 5984 | G28: 3097 | H28: 2887 | I28: 23 | J28: 7 | K28: 16
A29: 광 천 동 | B29: 4699 | C29: 11089 | D29: 5660 | E29: 5429 | F29: 11036 | G29: 5635 | H29: 5401 | I29: 53 | J29: 25 | K29: 28
A30: 유 덕 동 | B30: 4478 | C30: 12670 | D30: 6336 | E30: 6334 | F30: 12495 | G30: 6272 | H30: 6223 | I30: 175 | J30: 64 | K30: 111
A31: 상무1동 | B31: 10070 | C31: 25381 | D31: 12426 | E31: 12955 | F31: 25279 | G31: 12390 | H31: 12889 | I31: 102 | J31: 36 | K31: 66
A32: 상무2동 | B32: 10576 | C32: 25426 | D32: 12491 | E32: 12935 | F32: 25375 | G32: 12476 | H32: 12899 | I32: 51 | J32: 15 | K32: 36
A33: 화정1동 | B33: 6696 | C33: 16658 | D33: 8028 | E33: 8630 | F33: 16583 | G33: 8017 | H33: 8566 | I33: 75 | J33: 11 | K33: 64
A34: 화정2동 | B34: 6750 | C34: 17878 | D34: 8915 | E34: 8963 | F34: 17857 | G34: 8910 | H34: 8947 | I34: 21 | J34: 5 | K34: 16
A35: 화정3동 | B35: 4645 | C35: 12853 | D35: 6459 | E35: 6394 | F35: 12840 | G35: 6458 | H35: 6382 | I35: 13 | J35: 1 | K35: 12
A36: 화정4동 | B36: 7341 | C36: 22171 | D36: 10890 | E36: 11281 | F36: 22145 | G36: 10881 | H36: 11264 | I36: 26 | J36: 9 | K36: 17
... A41: 풍암동 | B41: 14061 | C41: 41823 | D41: 20372 | E41: 21451 | F41: 41685 | G41: 20304 | H41: 21381 | I41: 138 | J41: 68 | K41: 70
A43: ○ 남 구
A44: 구 분 | B44: 세 대 | C44: 합 계 | F44: 한 국 인 | I44: 외 국 인
C45: 계 | D45: 남 | E45: 여 | F45: 계 | G45: 남 | H45: 여 | I45: 계 | J45: 남 | K45: 여
A46: 2010 | B46: 81316 | C46: 217844 | D46: 105930 | E46: 111914 | F46: 216863 | G46: 105612 | H46: 111251 | I46: 981 | J46: 318 | K46: 663
A47: 양 림 동 | B47: 3914 | C47: 9772 | D47: 4676 | E47: 5096 | F47: 9721 | G47: 4659 | H47: 5062 | I47: 51 | J47: 17 | K47: 34
A48: 방림1동 | B48: 3377 | C48: 8710 | D48: 4227 | E48: 4483 | F48: 8655 | G48: 4216 | H48: 4439 | I48: 55 | J48: 11 | K48: 44
A49: 방림2동 | B49: 4611 | C49: 12171 | D49: 5881 | E49: 6290 | F49: 12161 | G49: 5881 | H49: 6280 | I49: 10 | J49: 0 | K49: 10
A50: 봉선1동 | B50: 6741 | C50: 17226 | D50: 8226 | E50: 9000 | F50: 17121 | G50: 8189 | H50: 8932 | I50: 105 | J50: 37 | K50: 68
A51: 봉선2동 | B51: 8560 | C51: 28750 | D51: 13537 | E51: 15213 | F51: 28731 | G51: 13527 | H51: 15204 | I51: 19 | J51: 10 | K51: 9
A52: 사 직 동 | B52: 3196 | C52: 6354 | D52: 3269 | E52: 3085 | F52: 6316 | G52: 3258 | H52: 3058 | I52: 38 | J52: 11 | K52: 27
A53: 월 산 동 | B53: 5107 | C53: 10854 | D53: 5543 | E53: 5311 | F53: 10772 | G53: 5526 | H53: 5246 | I53: 82 | J53: 17 | K53: 65
A54: 월산4동 | B54: 4863 | C54: 11388 | D54: 5794 | E54: 5594 | F54: 11370 | G54: 5790 | H54: 5580 | I54: 18 | J54: 4 | K54: 14
A55: 월산5동 | B55: 3485 | C55: 8410 | D55: 4206 | E55: 4204 | F55: 8396 | G55: 4204 | H55: 4192 | I55: 14 | J55: 2 | K55: 12
A56: 백운1동 | B56: 3253 | C56: 8612 | D56: 4219 | E56: 4393 | F56: 8559 | G56: 4197 | H56: 4362 | I56: 53 | J56: 22 | K56: 31
A57: 백운2동 | B57: 2790 | C57: 6308 | D57: 3175 | E57: 3133 | F57: 6297 | G57: 3174 | H57: 3123 | I57: 11 | J57: 1 | K57: 10
A58: 주월1동 | B58: 7405 | C58: 20303 | D58: 10013 | E58: 10290 | F58: 20192 | G58: 9974 | H58: 10218 | I58: 111 | J58: 39 | K58: 72
... A62: 대 촌 동 | B62: 2848 | C62: 6579 | D62: 3220 | E62: 3359 | F62: 6539 | G62: 3212 | H62: 3327 | I62: 40 | J62: 8 | K62: 32
A64: ○ 북 구 | K64: (단위 : 명, 세대)
A65: 구 분 | B65: 세 대 | C65: 합 계 | F65: 한 국 인 | I65: 외 국 인
C66: 계 | D66: 남 | E66: 여 | F66: 계 | G66: 남 | H66: 여 | I66: 계 | J66: 남 | K66: 여
A67: 2010 | B67: =SUM(B68:B93) -> 174151 | C67: =SUM(C68:C93) -> 470407 | D67: =SUM(D68:D93) -> 233830 | E67: =SUM(E68:E93) -> 236577 | F67: =SUM(F68:F93) -> 466866 | G67: =SUM(G68:G93) -> 232226 | H67: =SUM(H68:H93) -> 234640 | I67: =SUM(I68:I93) -> 3541 | ... K67: =SUM(K68:K93) -> 1937
A68: 중흥1동 | B68: 2320 | C68: =SUM(D68:E68) -> 4644 | D68: 2512 | E68: 2132 | F68: =SUM(G68:H68) -> 4626 | G68: 2507 | H68: 2119 | I68: =SUM(J68:K68) -> 18 | J68: 5 | K68: 13
A69: 중흥2동 | B69: 4031 | C69: =SUM(D69:E69) -> 9492 | D69: 4831 | E69: 4661 | F69: =SUM(G69:H69) -> 9436 | G69: 4813 | H69: 4623 | I69: =SUM(J69:K69) -> 56 | J69: 18 | K69: 38
A70: 중흥3동 | B70: 3007 | C70: =SUM(D70:E70) -> 6482 | D70: 3336 | E70: 3146 | F70: =SUM(G70:H70) -> 6453 | G70: 3333 | H70: 3120 | I70: =SUM(J70:K70) -> 29 | J70: 3 | K70: 26
A71: 중 앙 동 | B71: 2257 | C71: =SUM(D71:E71) -> 4445 | D71: 2330 | E71: 2115 | F71: =SUM(G71:H71) -> 4406 | G71: 2310 | H71: 2096 | I71: =SUM(J71:K71) -> 39 | J71: 20 | K71: 19
A72: 임 동 | B72: 4387 | C72: =SUM(D72:E72) -> 10856 | D72: 5506 | E72: 5350 | F72: =SUM(G72:H72) -> 10808 | G72: 5493 | H72: 5315 | I72: =SUM(J72:K72) -> 48 | J72: 13 | K72: 35
A73: 신 안 동 | B73: 5757 | C73: =SUM(D73:E73) -> 12574 | D73: 6520 | E73: 6054 | F73: =SUM(G73:H73) -> 12499 | G73: 6504 | H73: 5995 | I73: =SUM(J73:K73) -> 75 | J73: 16 | K73: 59
A74: 용 봉 동 | B74: 14725 | C74: =SUM(D74:E74) -> 42277 | D74: 21282 | E74: 20995 | F74: =SUM(G74:H74) -> 41037 | G74: 20630 | H74: 20407 | I74: =SUM(J74:K74) -> 1240 | J74: 652 | K74: 588
A75: 운암1동 | B75: 8211 | C75: =SUM(D75:E75) -> 24620 | D75: 12069 | E75: 12551 | F75: =SUM(G75:H75) -> 24541 | G75: 12038 | H75: 12503 | I75: =SUM(J75:K75) -> 79 | J75: 31 | K75: 48
A76: 운암2동 | B76: 6363 | C76: =SUM(D76:E76) -> 15821 | D76: 8043 | E76: 7778 | F76: =SUM(G76:H76) -> 15754 | G76: 8027 | H76: 7727 | I76: =SUM(J76:K76) -> 67 | J76: 16 | K76: 51
A77: 운암3동 | B77: 6612 | C77: =SUM(D77:E77) -> 19265 | D77: 9344 | E77: 9921 | F77: =SUM(G77:H77) -> 19211 | G77: 9330 | H77: 9881 | I77: =SUM(J77:K77) -> 54 | J77: 14 | K77: 40
A78: 동 림 동 | B78: 12527 | C78: =SUM(D78:E78) -> 37019 | D78: 18317 | E78: 18702 | F78: =SUM(G78:H78) -> 36863 | G78: 18255 | H78: 18608 | I78: =SUM(J78:K78) -> 156 | J78: 62 | K78: 94
A79: 우 산 동 | B79: 7101 | C79: =SUM(D79:E79) -> 16154 | D79: 7911 | E79: 8243 | F79: =SUM(G79:H79) -> 16073 | G79: 7882 | H79: 8191 | I79: =SUM(J79:K79) -> 81 | J79: 29 | K79: 52
... A93: 건 국 동 | B93: 19732 | C93: =SUM(D93:E93) -> 57074 | D93: 28716 | E93: 28358 | F93: =SUM(G93:H93) -> 56261 | G93: 28259 | H93: 28002 | I93: =SUM(J93:K93) -> 813 | J93: 457 | K93: 356
A98: ○ 광 산 구 | K98: 단위 : 명, 세대
A99: 구 분 | B99: 세 대 | C99: 합 계 | F99: 한 국 인 | I99: 외 국 인
C100: 계 | D100: 남 | E100: 여 | F100: 계 | G100: 남 | H100: 여 | I100: 계 | J100: 남 | K100: 여
A101: 총 계 | B101: 127578 | C101: 369845 | D101: 186635 | E101: 183210 | F101: 363239 | G101: 182376 | H101: 180863 | I101: 6606 | J101: 4259 | K101: 2347
A102: 송정1동 | B102: 4545 | C102: 12497 | D102: 6307 | E102: 6190 | F102: 12301 | G102: 6245 | H102: 6056 | I102: 196 | J102: 62 | K102: 134
A103: 송정2동 | B103: 3043 | C103: 7220 | D103: 3625 | E103: 3595 | F103: 7167 | G103: 3607 | H103: 3560 | I103: 53 | J103: 18 | K103: 35
A104: 도 산 동 | B104: 5516 | C104: 15121 | D104: 7658 | E104: 7463 | F104: 15038 | G104: 7633 | H104: 7405 | I104: 83 | J104: 25 | K104: 58
A105: 신 흥 동 | B105: 2133 | C105: 5573 | D105: 2830 | E105: 2743 | F105: 5522 | G105: 2819 | H105: 2703 | I105: 51 | J105: 11 | K105: 40
A106: 어 룡 동 | B106: 7436 | C106: 21893 | D106: 11185 | E106: 10708 | F106: 20883 | G106: 10645 | H106: 10238 | I106: 1010 | J106: 540 | K106: 470
A107: 우 산 동 | B107: 10721 | C107: 25478 | D107: 12672 | E107: 12806 | F107: 25269 | G107: 12607 | H107: 12662 | I107: 209 | J107: 65 | K107: 144
A108: 월곡1동 | B108: 5530 | C108: 15341 | D108: 7783 | E108: 7558 | F108: 15183 | G108: 7718 | H108: 7465 | I108: 158 | J108: 65 | K108: 93
A109: 월곡2동 | B109: 7289 | C109: 21279 | D109: 10801 | E109: 10478 | F109: 20863 | G109: 10686 | H109: 10177 | I109: 416 | J109: 115 | K109: 301
A110: 비 아 동 | B110: 3075 | C110: 7986 | D110: 4298 | E110: 3688 | F110: 7578 | G110: 3987 | H110: 3591 | I110: 408 | J110: 311 | K110: 97
A111: 첨단1동 | B111: 7044 | C111: 25171 | D111: 12377 | E111: 12794 | F111: 25132 | G111: 12357 | H111: 12775 | I111: 39 | J111: 20 | K111: 19
A112: 첨단2동 | B112: 13997 | C112: 42762 | D112: 21164 | E112: 21598 | F112: 42581 | G112: 21099 | H112: 21482 | I112: 181 | J112: 65 | K112: 116
... A122: 본 량 동 | B122: 1346 | C122: 2779 | D122: 1400 | E122: 1379 | F122: 2762 | G122: 1396 | H122: 1366 | I122: 17 | J122: 4 | K122: 13

Sheet 2011년
A1: 2. 동별 세대 및 인구 (동구~광산구)
A2: ○ 동 구
A3: 구 분 | B3: 세 대 | C3: 합 계 | F3: 한 국 인 | I3: 외 국 인
C4: 계 | D4: 남 | E4: 여 | F4: 계 | G4: 남 | H4: 여 | I4: 계 | J4: 남 | K4: 여
A5: 2011 | B5: =SUM(B6:B18) -> 47472 | C5: =SUM(C6:C18) -> 107559 | D5: =SUM(D6:D18) -> 53782 | E5: =SUM(E6:E18) -> 53777 | F5: =SUM(F6:F18) -> 106495 | G5: =SUM(G6:G18) -> 53286 | H5: =SUM(H6:H18) -> 53209 | I5: =SUM(I6:I18) -> 1064 | ... K5: =SUM(K6:K18) -> 568
A6: 충장동 | B6: 2901 | C6: 5107 | D6: 2702 | E6: 2405 | F6: 4995 | G6: 2645 | H6: 2350 | I6: 112 | J6: 57 | K6: 55
A7: 동명동 | B7: 2710 | C7: 5430 | D7: 2672 | E7: 2758 | F7: 5380 | G7: 2645 | H7: 2735 | I7: 50 | J7: 27 | K7: 23
A8: 계림1동 | B8: 4753 | C8: 8884 | D8: 4566 | E8: 4318 | F8: 8806 | G8: 4538 | H8: 4268 | I8: 78 | J8: 28 | K8: 50
A9: 계림2동 | B9: 4624 | C9: 11519 | D9: 5737 | E9: 5782 | F9: 11477 | G9: 5724 | H9: 5753 | I9: 42 | J9: 13 | K9: 29
A10: 산수1동 | B10: 4201 | C10: 8971 | D10: 4501 | E10: 4470 | F10: 8895 | G10: 4477 | H10: 4418 | I10: 76 | J10: 24 | K10: 52
A11: 산수2동 | B11: 4550 | C11: 11973 | D11: 5878 | E11: 6095 | F11: 11954 | G11: 5873 | H11: 6081 | I11: 19 | J11: 5 | K11: 14
A12: 지산1동 | B12: 2458 | C12: 5545 | D12: 2726 | E12: 2819 | F12: 5441 | G12: 2686 | H12: 2755 | I12: 104 | J12: 40 | K12: 64
A13: 지산2동 | B13: 2715 | C13: 6298 | D13: 3179 | E13: 3119 | F13: 6257 | G13: 3157 | H13: 3100 | I13: 41 | J13: 22 | K13: 19
A14: 서남동 | B14: 2553 | C14: 4720 | D14: 2413 | E14: 2307 | F14: 4359 | G14: 2206 | H14: 2153 | I14: 361 | J14: 207 | K14: 154
A15: 학 동 | B15: 3893 | C15: 7979 | D15: 3962 | E15: 4017 | F15: 7895 | G15: 3930 | H15: 3965 | I15: 84 | J15: 32 | K15: 52
A16: 학운동 | B16: 5016 | C16: 13532 | D16: 6577 | E16: 6955 | F16: 13498 | G16: 6557 | H16: 6941 | I16: 34 | J16: 20 | K16: 14
A17: 지원1동 | B17: 3671 | C17: 9532 | D17: 4773 | E17: 4759 | F17: 9483 | G17: 4757 | H17: 4726 | I17: 49 | J17: 16 | K17: 33
A18: 지원2동 | B18: 3427 | C18: 8069 | D18: 4096 | E18: 3973 | F18: 8055 | G18: 4091 | H18: 3964 | I18: 14 | J18: 5 | K18: 9
A21: ○ 서 구 | K21: 단위 : 명, 세대
A22: 구 분 | B22: 세 대 | C22: 합 계 | F22: 한 국 인 | I22: 외 국 인
C23: 계 | D23: 남 | E23: 여 | F23: 계 | G23: 남 | H23: 여 | I23: 계 | J23: 남 | K23: 여
A24: 2011 | B24: =SUM(B25:B42) -> 116992 | C24: =SUM(C25:C42) -> 319330 | D24: =SUM(D25:D42) -> 156959 | E24: =SUM(E25:E42) -> 162371 | F24: =SUM(F25:F42) -> 317936 | G24: =SUM(G25:G42) -> 156398 | H24: =SUM(H25:H42) -> 161538 | I24: =SUM(I25:I42) -> 1394 | ... K24: =SUM(K25:K42) -> 833
A25: 양 동 | B25: 2537 | C25: =SUM(D25:E25) -> 5488 | D25: =SUM(G25,J25) -> 2738 | E25: =SUM(H25,K25) -> 2750 | F25: 5446 | G25: 2732 | H25: 2714 | I25: 42 | J25: 6 | K25: 36
A26: 양 3 동 | B26: 2267 | C26: =SUM(D26:E26) -> 5715 | D26: =SUM(G26,J26) -> 2853 | E26: =SUM(H26,K26) -> 2862 | F26: 5707 | G26: 2853 | H26: 2854 | I26: 8 | J26: 0 | K26: 8
A27: 농성1동 | B27: 3975 | C27: =SUM(D27:E27) -> 8737 | D27: =SUM(G27,J27) -> 4385 | E27: =SUM(H27,K27) -> 4352 | F27: 8682 | G27: 4375 | H27: 4307 | I27: 55 | J27: 10 | K27: 45
A28: 농성2동 | B28: 2771 | C28: =SUM(D28:E28) -> 6017 | D28: =SUM(G28,J28) -> 3100 | E28: =SUM(H28,K28) -> 2917 | F28: 5993 | G28: 3092 | H28: 2901 | I28: 24 | J28: 8 | K28: 16
A29: 광 천 동 | B29: 4753 | C29: =SUM(D29:E29) -> 11330 | D29: =SUM(G29,J29) -> 5732 | E29: =SUM(H29,K29) -> 5598 | F29: 11275 | G29: 5709 | H29: 5566 | I29: 55 | J29: 23 | K29: 32
A30: 유 덕 동 | B30: 4480 | C30: =SUM(D30:E30) -> 12577 | D30: =SUM(G30,J30) -> 6320 | E30: =SUM(H30,K30) -> 6257 | F30: 12301 | G30: 6195 | H30: 6106 | I30: 276 | J30: 125 | K30: 151
A31: 치 평 동 | B31: 10440 | C31: =SUM(D31:E31) -> 31175 | D31: =SUM(G31,J31) -> 15194 | E31: =SUM(H31,K31) -> 15981 | F31: 31035 | G31: 15131 | H31: 15904 | I31: 140 | J31: 63 | K31: 77
A32: 상무1동 | B32: 10121 | C32: =SUM(D32:E32) -> 25399 | D32: =SUM(G32,J32) -> 12480 | E32: =SUM(H32,K32) -> 12919 | F32: 25313 | G32: 12457 | H32: 12856 | I32: 86 | J32: 23 | K32: 63
A33: 상무2동 | B33: 11032 | C33: =SUM(D33:E33) -> 26517 | D33: =SUM(G33,J33) -> 12974 | E33: =SUM(H33,K33) -> 13543 | F33: 26462 | G33: 12954 | H33: 13508 | I33: 55 | J33: 20 | K33: 35
A34: 화정1동 | B34: 6717 | C34: =SUM(D34:E34) -> 16611 | D34: =SUM(G34,J34) -> 7988 | E34: =SUM(H34,K34) -> 8623 | F34: 16528 | G34: 7969 | H34: 8559 | I34: 83 | J34: 19 | K34: 64
A35: 화정2동 | B35: 4972 | C35: =SUM(D35:E35) -> 13373 | D35: =SUM(G35,J35) -> 6755 | E35: =SUM(H35,K35) -> 6618 | F35: 13352 | G35: 6748 | H35: 6604 | I35: 21 | J35: 7 | K35: 14
A36: 화정3동 | B36: 4636 | C36: =SUM(D36:E36) -> 12931 | D36: =SUM(G36,J36) -> 6462 | E36: =SUM(H36,K36) -> 6469 | F36: 12917 | G36: 6459 | H36: 6458 | I36: 14 | J36: 3 | K36: 11
... A42: 동 천 동 | B42: 6036 | C42: =SUM(D42:E42) -> 17997 | D42: =SUM(G42,J42) -> 8727 | E42: =SUM(H42,K42) -> 9270 | F42: 17907 | G42: 8683 | H42: 9224 | I42: 90 | J42: 44 | K42: 46
A45: ○ 남 구
A46: 구 분 | B46: 세 대 | C46: 합 계 | F46: 한 국 인 | I46: 외 국 인
C47: 계 | D47: 남 | E47: 여 | F47: 계 | G47: 남 | H47: 여 | I47: 계 | J47: 남 | K47: 여
A48: 2011 | B48: =SUM(B49:B64) -> 82854 | C48: =SUM(C49:C64) -> 220103 | D48: =SUM(D49:D64) -> 106739 | E48: =SUM(E49:E64) -> 113364 | F48: =SUM(F49:F64) -> 219041 | G48: =SUM(G49:G64) -> 106382 | H48: =SUM(H49:H64) -> 112659 | I48: =SUM(I49:I64) -> 1062 | ... K48: =SUM(K49:K64) -> 705
A49: 양 림 동 | B49: 3901 | C49: 9607 | D49: 4600 | E49: 5007 | F49: 9536 | G49: 4578 | H49: 4958 | I49: 71 | J49: 22 | K49: 49
A50: 방림1동 | B50: 3395 | C50: 8763 | D50: 4256 | E50: 4507 | F50: 8726 | G50: 4250 | H50: 4476 | I50: 37 | J50: 6 | K50: 31
A51: 방림2동 | B51: 4273 | C51: 11136 | D51: 5354 | E51: 5782 | F51: 11120 | G51: 5351 | H51: 5769 | I51: 16 | J51: 3 | K51: 13
A52: 봉선1동 | B52: 6753 | C52: 17059 | D52: 8132 | E52: 8927 | F52: 16917 | G52: 8085 | H52: 8832 | I52: 142 | J52: 47 | K52: 95
A53: 봉선2동 | B53: 8798 | C53: 29210 | D53: 13741 | E53: 15469 | F53: 29179 | G53: 13726 | H53: 15453 | I53: 31 | J53: 15 | K53: 16
A54: 사 직 동 | B54: 3091 | C54: 6045 | D54: 3128 | E54: 2917 | F54: 6006 | G54: 3114 | H54: 2892 | I54: 39 | J54: 14 | K54: 25
A55: 월 산 동 | B55: 4954 | C55: 10465 | D55: 5304 | E55: 5161 | F55: 10343 | G55: 5275 | H55: 5068 | I55: 122 | J55: 29 | K55: 93
A56: 월산4동 | B56: 4847 | C56: 11180 | D56: 5678 | E56: 5502 | F56: 11164 | G56: 5674 | H56: 5490 | I56: 16 | J56: 4 | K56: 12
A57: 월산5동 | B57: 3523 | C57: 8402 | D57: 4220 | E57: 4182 | F57: 8390 | G57: 4215 | H57: 4175 | I57: 12 | J57: 5 | K57: 7
A58: 백운1동 | B58: 4813 | C58: 13101 | D58: 6302 | E58: 6799 | F58: 13039 | G58: 6275 | H58: 6764 | I58: 62 | J58: 27 | K58: 35
A59: 백운2동 | B59: 2706 | C59: 5955 | D59: 2986 | E59: 2969 | F59: 5941 | G59: 2982 | H59: 2959 | I59: 14 | J59: 4 | K59: 10
A60: 주월1동 | B60: 7436 | C60: 20077 | D60: 9875 | E60: 10202 | F60: 19981 | G60: 9851 | H60: 10130 | I60: 96 | J60: 24 | K60: 72
... A64: 대 촌 동 | B64: 2830 | C64: 6464 | D64: 3159 | E64: 3305 | F64: 6424 | G64: 3153 | H64: 3271 | I64: 40 | J64: 6 | K64: 34
A66: ○ 북 구
A67: 구 분 | B67: 세 대 | C67: 합 계 | F67: 한 국 인 | I67: 외 국 인
C68: 계 | D68: 남 | E68: 여 | F68: 계 | G68: 남 | H68: 여 | I68: 계 | J68: 남 | K68: 여
A69: 2011 | B69: =SUM(B70:B95) -> 168485 | C69: =SUM(C70:C95) -> 448198 | D69: =SUM(D70:D95) -> 222855 | E69: =SUM(E70:E95) -> 225343 | F69: =SUM(F70:F95) -> 444483 | G69: =SUM(G70:G95) -> 221173 | H69: =SUM(H70:H95) -> 223310 | I69: =SUM(I70:I95) -> 3715 | ... K69: =SUM(K70:K95) -> 2033
A70: 중흥1동 | B70: 1963 | C70: =SUM(D70:E70) -> 3820 | D70: =G70+J70 -> 2095 | E70: =H70+K70 -> 1725 | F70: 3800 | G70: 2089 | H70: 1711 | I70: 20 | J70: 6 | K70: 14
A71: 중흥2동 | B71: 3973 | C71: =SUM(D71:E71) -> 9277 | D71: =G71+J71 -> 4755 | E71: =H71+K71 -> 4522 | F71: 9219 | G71: 4734 | H71: 4485 | I71: 58 | J71: 21 | K71: 37
A72: 중흥3동 | B72: 2937 | C72: =SUM(D72:E72) -> 6179 | D72: =G72+J72 -> 3178 | E72: =H72+K72 -> 3001 | F72: 6145 | G72: 3171 | H72: 2974 | I72: 34 | J72: 7 | K72: 27
A73: 중 앙 동 | B73: 2183 | C73: =SUM(D73:E73) -> 4269 | D73: =G73+J73 -> 2230 | E73: =H73+K73 -> 2039 | F73: 4233 | G73: 2210 | H73: 2023 | I73: 36 | J73: 20 | K73: 16
A74: 임 동 | B74: 4339 | C74: =SUM(D74:E74) -> 10604 | D74: =G74+J74 -> 5372 | E74: =H74+K74 -> 5232 | F74: 10547 | G74: 5358 | H74: 5189 | I74: 57 | J74: 14 | K74: 43
A75: 신 안 동 | B75: 5805 | C75: =SUM(D75:E75) -> 12397 | D75: =G75+J75 -> 6452 | E75: =H75+K75 -> 5945 | F75: 12327 | G75: 6435 | H75: 5892 | I75: 70 | J75: 17 | K75: 53
A76: 용 봉 동 | B76: 14583 | C76: =SUM(D76:E76) -> 41740 | D76: =G76+J76 -> 20896 | E76: =H76+K76 -> 20844 | F76: 40391 | G76: 20210 | H76: 20181 | I76: 1349 | J76: 686 | K76: 663
A77: 운암1동 | B77: 7086 | C77: =SUM(D77:E77) -> 21680 | D77: =G77+J77 -> 10618 | E77: =H77+K77 -> 11062 | F77: 21611 | G77: 10590 | H77: 11021 | I77: 69 | J77: 28 | K77: 41
A78: 운암2동 | B78: 6304 | C78: =SUM(D78:E78) -> 15639 | D78: =G78+J78 -> 7959 | E78: =H78+K78 -> 7680 | F78: 15547 | G78: 7928 | H78: 7619 | I78: 92 | J78: 31 | K78: 61
A79: 운암3동 | B79: 6606 | C79: =SUM(D79:E79) -> 19181 | D79: =G79+J79 -> 9314 | E79: =H79+K79 -> 9867 | F79: 19129 | G79: 9299 | H79: 9830 | I79: 52 | J79: 15 | K79: 37
A80: 동 림 동 | B80: 7974 | C80: =SUM(D80:E80) -> 22718 | D80: =G80+J80 -> 11291 | E80: =H80+K80 -> 11427 | F80: 22638 | G80: 11263 | H80: 11375 | I80: 80 | J80: 28 | K80: 52
A81: 우 산 동 | B81: 6908 | C81: =SUM(D81:E81) -> 15526 | D81: =G81+J81 -> 7607 | E81: =H81+K81 -> 7919 | F81: 15436 | G81: 7575 | H81: 7861 | I81: 90 | J81: 32 | K81: 58
... A95: 건 국 동 | B95: 22157 | C95: =SUM(D95:E95) -> 61882 | D95: =G95+J95 -> 31149 | E95: =H95+K95 -> 30733 | F95: 60993 | G95: 30651 | H95: 30342 | I95: 889 | J95: 498 | K95: 391
A100: ○ 광 산 구 | K100: 단위 : 명, 세대
A101: 구 분 | B101: 세 대 | C101: 합 계 | F101: 한 국 인 | I101: 외 국 인
C102: 계 | D102: 남 | E102: 여 | F102: 계 | G102: 남 | H102: 여 | I102: 계 | J102: 남 | K102: 여
A103: 2011 | B103: =SUM(B104:B124) -> 133302 | C103: =SUM(C104:C124) -> 382380 | D103: =SUM(D104:D124) -> 192759 | E103: =SUM(E104:E124) -> 189621 | F103: =SUM(F104:F124) -> 375509 | G103: =SUM(G104:G124) -> 188367 | H103: =SUM(H104:H124) -> 187142 | I103: =SUM(I104:I124) -> 6871 | ... K103: =SUM(K104:K124) -> 2479
A104: 송정1동 | B104: 4518 | C104: 12341 | D104: 6223 | E104: 6118 | F104: 12153 | G104: 6153 | H104: 6000 | I104: 188 | J104: 70 | K104: 118
A105: 송정2동 | B105: 3020 | C105: 7099 | D105: 3554 | E105: 3545 | F105: 7041 | G105: 3536 | H105: 3505 | I105: 58 | J105: 18 | K105: 40
A106: 도 산 동 | B106: 5614 | C106: 15160 | D106: 7700 | E106: 7460 | F106: 15059 | G106: 7672 | H106: 7387 | I106: 101 | J106: 28 | K106: 73
A107: 신 흥 동 | B107: 2211 | C107: 5779 | D107: 2921 | E107: 2858 | F107: 5718 | G107: 2895 | H107: 2823 | I107: 61 | J107: 26 | K107: 35
A108: 어 룡 동 | B108: 8364 | C108: 23621 | D108: 12047 | E108: 11574 | F108: 22667 | G108: 11530 | H108: 11137 | I108: 954 | J108: 517 | K108: 437
A109: 우 산 동 | B109: 10877 | C109: 25378 | D109: 12670 | E109: 12708 | F109: 25143 | G109: 12591 | H109: 12552 | I109: 235 | J109: 79 | K109: 156
A110: 월곡1동 | B110: 5565 | C110: 15303 | D110: 7728 | E110: 7575 | F110: 15051 | G110: 7612 | H110: 7439 | I110: 252 | J110: 116 | K110: 136
A111: 월곡2동 | B111: 7401 | C111: 21295 | D111: 10880 | E111: 10415 | F111: 20835 | G111: 10737 | H111: 10098 | I111: 460 | J111: 143 | K111: 317
A112: 비 아 동 | B112: 3106 | C112: 8101 | D112: 4371 | E112: 3730 | F112: 7564 | G112: 4014 | H112: 3550 | I112: 537 | J112: 357 | K112: 180
A113: 첨단1동 | B113: 7001 | C113: 24771 | D113: 12189 | E113: 12582 | F113: 24734 | G113: 12170 | H113: 12564 | I113: 37 | J113: 19 | K113: 18
A114: 첨단2동 | B114: 14260 | C114: 43209 | D114: 21407 | E114: 21802 | F114: 43031 | G114: 21327 | H114: 21704 | I114: 178 | J114: 80 | K114: 98
A115: 신 가 동 | B115: 8825 | C115: 25618 | D115: 12813 | E115: 12805 | F115: 25369 | G115: 12711 | H115: 12658 | I115: 249 | J115: 102 | K115: 147
... A124: 본 량 동 | B124: 1319 | C124: 2694 | D124: 1339 | E124: 1355 | F124: 2675 | G124: 1333 | H124: 1342 | I124: 19 | J124: 6 | K124: 13

Sheet 2012년
A1: 2. 동별 세대 및 인구 (동구~광산구)
A2: ○ 동 구
B3: 합 계 | F3: 한 국 인 | J3: 외 국 인
A4: 구 분 | B4: 세 대 | C4: 인 구 | F4: 세 대 | G4: 인 구 | J4: 인 구
C5: 계 | D5: 남 | E5: 여 | G5: 계 | H5: 남 | I5: 여 | J5: 계 | K5: 남 | L5: 여
A6: 2012 | B6: =SUM(B7:B19) -> 47283 | C6: =SUM(C7:C19) -> 106658 | D6: =SUM(D7:D19) -> 53387 | E6: =SUM(E7:E19) -> 53271 | F6: =SUM(F7:F19) -> 47283 | G6: =SUM(G7:G19) -> 105580 | H6: =SUM(H7:H19) -> 52888 | I6: =SUM(I7:I19) -> 52692 | ... L6: =SUM(L7:L19) -> 579
A7: 충장동 | B7: =F7 -> 2850 | C7: =SUM(D7:E7) -> 4960 | D7: =SUM(H7,K7) -> 2658 | E7: =SUM(I7,L7) -> 2302 | F7: 2850 | G7: =SUM(H7:I7) -> 4859 | H7: =[5]연령별!F5 -> 2606 | I7: =[5]연령별!G5 -> 2253 | J7: =SUM(K7:L7) -> 101 | K7: =[5]외국인!F5 -> 52 | L7: =[5]외국인!G5 -> 49
A8: 동명동 | B8: =F8 -> 2692 | C8: =SUM(D8:E8) -> 5305 | D8: =SUM(H8,K8) -> 2627 | E8: =SUM(I8,L8) -> 2678 | F8: 2692 | G8: =SUM(H8:I8) -> 5245 | H8: =[5]연령별!I5 -> 2592 | I8: =[5]연령별!J5 -> 2653 | J8: =SUM(K8:L8) -> 60 | K8: =[5]외국인!I5 -> 35 | L8: =[5]외국인!J5 -> 25
A9: 계림1동 | B9: =F9 -> 4661 | C9: =SUM(D9:E9) -> 8670 | D9: =SUM(H9,K9) -> 4491 | E9: =SUM(I9,L9) -> 4179 | F9: 4661 | G9: =SUM(H9:I9) -> 8599 | H9: =[5]연령별!L5 -> 4473 | I9: =[5]연령별!M5 -> 4126 | J9: =SUM(K9:L9) -> 71 | K9: =[5]외국인!L5 -> 18 | L9: =[5]외국인!M5 -> 53
A10: 계림2동 | B10: =F10 -> 4594 | C10: =SUM(D10:E10) -> 11286 | D10: =SUM(H10,K10) -> 5625 | E10: =SUM(I10,L10) -> 5661 | F10: 4594 | G10: =SUM(H10:I10) -> 11243 | H10: =[5]연령별!O5 -> 5612 | I10: =[5]연령별!P5 -> 5631 | J10: =SUM(K10:L10) -> 43 | K10: =[5]외국인!O5 -> 13 | L10: =[5]외국인!P5 -> 30
A11: 산수1동 | B11: =F11 -> 4155 | C11: =SUM(D11:E11) -> 8869 | D11: =SUM(H11,K11) -> 4437 | E11: =SUM(I11,L11) -> 4432 | F11: 4155 | G11: =SUM(H11:I11) -> 8797 | H11: =[5]연령별!R5 -> 4409 | I11: =[5]연령별!S5 -> 4388 | J11: =SUM(K11:L11) -> 72 | K11: =[5]외국인!R5 -> 28 | L11: =[5]외국인!S5 -> 44
A12: 산수2동 | B12: =F12 -> 4453 | C12: =SUM(D12:E12) -> 11707 | D12: =SUM(H12,K12) -> 5748 | E12: =SUM(I12,L12) -> 5959 | F12: 4453 | G12: =SUM(H12:I12) -> 11684 | H12: =[5]연령별!U5 -> 5738 | I12: =[5]연령별!V5 -> 5946 | J12: =SUM(K12:L12) -> 23 | K12: =[5]외국인!U5 -> 10 | L12: =[5]외국인!V5 -> 13
A13: 지산1동 | B13: =F13 -> 2413 | C13: =SUM(D13:E13) -> 5385 | D13: =SUM(H13,K13) -> 2635 | E13: =SUM(I13,L13) -> 2750 | F13: 2413 | G13: =SUM(H13:I13) -> 5298 | H13: =[5]연령별!X5 -> 2596 | I13: =[5]연령별!Y5 -> 2702 | J13: =SUM(K13:L13) -> 87 | K13: =[5]외국인!X5 -> 39 | L13: =[5]외국인!Y5 -> 48
A14: 지산2동 | B14: =F14 -> 2741 | C14: =SUM(D14:E14) -> 6318 | D14: =SUM(H14,K14) -> 3155 | E14: =SUM(I14,L14) -> 3163 | F14: 2741 | G14: =SUM(H14:I14) -> 6251 | H14: =[5]연령별!AA5 -> 3124 | I14: =[5]연령별!AB5 -> 3127 | J14: =SUM(K14:L14) -> 67 | K14: =[5]외국인!AA5 -> 31 | L14: =[5]외국인!AB5 -> 36
A15: 서남동 | B15: =F15 -> 2483 | C15: =SUM(D15:E15) -> 4557 | D15: =SUM(H15,K15) -> 2323 | E15: =SUM(I15,L15) -> 2234 | F15: 2483 | G15: =SUM(H15:I15) -> 4207 | H15: =[5]연령별!AD5 -> 2132 | I15: =[5]연령별!AE5 -> 2075 | J15: =SUM(K15:L15) -> 350 | K15: =[5]외국인!AD5 -> 191 | L15: =[5]외국인!AE5 -> 159
A16: 학 동 | B16: =F16 -> 4204 | C16: =SUM(D16:E16) -> 8867 | D16: =SUM(H16,K16) -> 4362 | E16: =SUM(I16,L16) -> 4505 | F16: 4204 | G16: =SUM(H16:I16) -> 8784 | H16: =[5]연령별!AG5 -> 4331 | I16: =[5]연령별!AH5 -> 4453 | J16: =SUM(K16:L16) -> 83 | K16: =[5]외국인!AG5 -> 31 | L16: =[5]외국인!AH5 -> 52
A17: 학운동 | B17: =F17 -> 5015 | C17: =SUM(D17:E17) -> 13450 | D17: =SUM(H17,K17) -> 6529 | E17: =SUM(I17,L17) -> 6921 | F17: 5015 | G17: =SUM(H17:I17) -> 13398 | H17: =[5]연령별!AJ5 -> 6500 | I17: =[5]연령별!AK5 -> 6898 | J17: =SUM(K17:L17) -> 52 | K17: =[5]외국인!AJ5 -> 29 | L17: =[5]외국인!AK5 -> 23
A18: 지원1동 | B18: =F18 -> 3656 | C18: =SUM(D18:E18) -> 9398 | D18: =SUM(H18,K18) -> 4746 | E18: =SUM(I18,L18) -> 4652 | F18: 3656 | G18: =SUM(H18:I18) -> 9357 | H18: =[5]연령별!AM5 -> 4734 | I18: =[5]연령별!AN5 -> 4623 | J18: =SUM(K18:L18) -> 41 | K18: =[5]외국인!AM5 -> 12 | L18: =[5]외국인!AN5 -> 29
A19: 지원2동 | B19: =F19 -> 3366 | C19: =SUM(D19:E19) -> 7886 | D19: =SUM(H19,K19) -> 4051 | E19: =SUM(I19,L19) -> 3835 | F19: 3366 | G19: =SUM(H19:I19) -> 7858 | H19: =[5]연령별!AP5 -> 4041 | I19: =[5]연령별!AQ5 -> 3817 | J19: =SUM(K19:L19) -> 28 | K19: =[5]외국인!AP5 -> 10 | L19: =[5]외국인!AQ5 -> 18
A21: ○ 서 구
B22: 합 계 | F22: 한 국 인 | J22: 외 국 인
A23: 구 분 | B23: 세 대 | C23: 인 구 | F23: 세 대 | G23: 인 구 | J23: 인 구
C24: 계 | D24: 남 | E24: 여 | G24: 계 | H24: 남 | I24: 여 | J24: 계 | K24: 남 | L24: 여
A25: 2012 | B25: =SUM(B26:B43) -> 117665 | C25: =SUM(C26:C43) -> 317923 | D25: =SUM(D26:D43) -> 156315 | E25: =SUM(E26:E43) -> 161608 | F25: =SUM(F26:F43) -> 117665 | G25: =SUM(G26:G43) -> 316545 | H25: =SUM(H26:H43) -> 155783 | I25: =SUM(I26:I43) -> 160762 | ... L25: =SUM(L26:L43) -> 846
A26: 양 동 | B26: =F26 -> 2489 | C26: =SUM(D26:E26) -> 5376 | D26: =SUM(H26,K26) -> 2673 | E26: =SUM(I26,L26) -> 2703 | F26: 2489 | G26: =SUM(H26:I26) -> 5333 | H26: 2666 | I26: 2667 | J26: 43 | K26: 7 | L26: 36
A27: 양 3 동 | B27: =F27 -> 2304 | C27: =SUM(D27:E27) -> 5748 | D27: =SUM(H27,K27) -> 2885 | E27: =SUM(I27,L27) -> 2863 | F27: 2304 | G27: =SUM(H27:I27) -> 5736 | H27: 2883 | I27: 2853 | J27: 12 | K27: 2 | L27: 10
A28: 농성 1동 | B28: =F28 -> 4049 | C28: =SUM(D28:E28) -> 8743 | D28: =SUM(H28,K28) -> 4403 | E28: =SUM(I28,L28) -> 4340 | F28: 4049 | G28: =SUM(H28:I28) -> 8702 | H28: 4395 | I28: 4307 | J28: 41 | K28: 8 | L28: 33
A29: 농성 2동 | B29: =F29 -> 2874 | C29: =SUM(D29:E29) -> 6150 | D29: =SUM(H29,K29) -> 3124 | E29: =SUM(I29,L29) -> 3026 | F29: 2874 | G29: =SUM(H29:I29) -> 6116 | H29: 3113 | I29: 3003 | J29: 34 | K29: 11 | L29: 23
A30: 광 천 동 | B30: =F30 -> 4714 | C30: =SUM(D30:E30) -> 11127 | D30: =SUM(H30,K30) -> 5598 | E30: =SUM(I30,L30) -> 5529 | F30: 4714 | G30: =SUM(H30:I30) -> 11077 | H30: 5581 | I30: 5496 | J30: 50 | K30: 17 | L30: 33
A31: 유 덕 동 | B31: =F31 -> 4485 | C31: =SUM(D31:E31) -> 12373 | D31: =SUM(H31,K31) -> 6221 | E31: =SUM(I31,L31) -> 6152 | F31: 4485 | G31: =SUM(H31:I31) -> 12220 | H31: 6164 | I31: 6056 | J31: 153 | K31: 57 | L31: 96
A32: 치 평 동 | B32: =F32 -> 10561 | C32: =SUM(D32:E32) -> 31280 | D32: =SUM(H32,K32) -> 15203 | E32: =SUM(I32,L32) -> 16077 | F32: 10561 | G32: =SUM(H32:I32) -> 31072 | H32: 15105 | I32: 15967 | J32: 208 | K32: 98 | L32: 110
A33: 상무 1동 | B33: =F33 -> 10243 | C33: =SUM(D33:E33) -> 25392 | D33: =SUM(H33,K33) -> 12531 | E33: =SUM(I33,L33) -> 12861 | F33: 10243 | G33: =SUM(H33:I33) -> 25300 | H33: 12499 | I33: 12801 | J33: 92 | K33: 32 | L33: 60
A34: 상무 2동 | B34: =F34 -> 11365 | C34: =SUM(D34:E34) -> 26700 | D34: =SUM(H34,K34) -> 13065 | E34: =SUM(I34,L34) -> 13635 | F34: 11365 | G34: =SUM(H34:I34) -> 26597 | H34: 13022 | I34: 13575 | J34: 103 | K34: 43 | L34: 60
A35: 화정 1동 | B35: =F35 -> 6810 | C35: =SUM(D35:E35) -> 16510 | D35: =SUM(H35,K35) -> 7967 | E35: =SUM(I35,L35) -> 8543 | F35: 6810 | G35: =SUM(H35:I35) -> 16423 | H35: 7947 | I35: 8476 | J35: 87 | K35: 20 | L35: 67
A36: 화정 2동 | B36: =F36 -> 4473 | C36: =SUM(D36:E36) -> 12318 | D36: =SUM(H36,K36) -> 6212 | E36: =SUM(I36,L36) -> 6106 | F36: 4473 | G36: =SUM(H36:I36) -> 12291 | H36: 6201 | I36: 6090 | J36: 27 | K36: 11 | L36: 16
A37: 화정 3동 | B37: =F37 -> 4623 | C37: =SUM(D37:E37) -> 12779 | D37: =SUM(H37,K37) -> 6397 | E37: =SUM(I37,L37) -> 6382 | F37: 4623 | G37: =SUM(H37:I37) -> 12759 | H37: 6393 | I37: 6366 | J37: 20 | K37: 4 | L37: 16
... A43: 동 천 동 | B43: =F43 -> 6143 | C43: =SUM(D43:E43) -> 18287 | D43: =SUM(H43,K43) -> 8868 | E43: =SUM(I43,L43) -> 9419 | F43: 6143 | G43: =SUM(H43:I43) -> 18231 | H43: 8846 | I43: 9385 | J43: 56 | K43: 22 | L43: 34
A45: ○ 남 구
B46: 합 계 | F46: 한 국 인 | J46: 외 국 인
A47: 구 분 | B47: 세 대 | C47: 인 구 | F47: 세 대 | G47: 인 구 | J47: 인 구
C48: 계 | D48: 남 | E48: 여 | G48: 계 | H48: 남 | I48: 여 | J48: 계 | K48: 남 | L48: 여
A49: 2012 | B49: =SUM(B50:B65) -> 83255 | C49: =SUM(C50:C65) -> 219385 | D49: =SUM(D50:D65) -> 106187 | E49: =SUM(E50:E65) -> 113198 | F49: =SUM(F50:F65) -> 83255 | G49: =SUM(G50:G65) -> 218313 | H49: =SUM(H50:H65) -> 105840 | I49: =SUM(I50:I65) -> 112473 | ... L49: =SUM(L50:L65) -> 725
A50: 양 림 동 | B50: =F50 -> 3761 | C50: =SUM(D50:E50) -> 9407 | D50: =H50+K50 -> 4519 | E50: =I50+L50 -> 4888 | F50: 3761 | G50: 9349 | H50: 4503 | I50: 4846 | J50: =SUM(K50:L50) -> 58 | K50: 16 | L50: 42
A51: 방림1동 | B51: =F51 -> 3383 | C51: =SUM(D51:E51) -> 8739 | D51: =H51+K51 -> 4202 | E51: =I51+L51 -> 4537 | F51: 3383 | G51: 8704 | H51: 4197 | I51: 4507 | J51: =SUM(K51:L51) -> 35 | K51: 5 | L51: 30
A52: 방림2동 | B52: =F52 -> 4270 | C52: =SUM(D52:E52) -> 11045 | D52: =H52+K52 -> 5316 | E52: =I52+L52 -> 5729 | F52: 4270 | G52: 11018 | H52: 5312 | I52: 5706 | J52: =SUM(K52:L52) -> 27 | K52: 4 | L52: 23
A53: 봉선1동 | B53: =F53 -> 6846 | C53: =SUM(D53:E53) -> 17092 | D53: =H53+K53 -> 8191 | E53: =I53+L53 -> 8901 | F53: 6846 | G53: 16987 | H53: 8161 | I53: 8826 | J53: =SUM(K53:L53) -> 105 | K53: 30 | L53: 75
A54: 봉선2동 | B54: =F54 -> 8887 | C54: =SUM(D54:E54) -> 29337 | D54: =H54+K54 -> 13777 | E54: =I54+L54 -> 15560 | F54: 8887 | G54: 29294 | H54: 13758 | I54: 15536 | J54: =SUM(K54:L54) -> 43 | K54: 19 | L54: 24
A55: 사 직 동 | B55: =F55 -> 3075 | C55: =SUM(D55:E55) -> 5939 | D55: =H55+K55 -> 3056 | E55: =I55+L55 -> 2883 | F55: 3075 | G55: 5901 | H55: 3041 | I55: 2860 | J55: =SUM(K55:L55) -> 38 | K55: 15 | L55: 23
A56: 월 산 동 | B56: =F56 -> 4947 | C56: =SUM(D56:E56) -> 10161 | D56: =H56+K56 -> 5155 | E56: =I56+L56 -> 5006 | F56: 4947 | G56: 10073 | H56: 5139 | I56: 4934 | J56: =SUM(K56:L56) -> 88 | K56: 16 | L56: 72
A57: 월산4동 | B57: =F57 -> 4838 | C57: =SUM(D57:E57) -> 11056 | D57: =H57+K57 -> 5591 | E57: =I57+L57 -> 5465 | F57: 4838 | G57: 11017 | H57: 5580 | I57: 5437 | J57: =SUM(K57:L57) -> 39 | K57: 11 | L57: 28
A58: 월산5동 | B58: =F58 -> 3533 | C58: =SUM(D58:E58) -> 8335 | D58: =H58+K58 -> 4148 | E58: =I58+L58 -> 4187 | F58: 3533 | G58: 8318 | H58: 4144 | I58: 4174 | J58: =SUM(K58:L58) -> 17 | K58: 4 | L58: 13
A59: 백운1동 | B59: =F59 -> 4981 | C59: =SUM(D59:E59) -> 13619 | D59: =H59+K59 -> 6510 | E59: =I59+L59 -> 7109 | F59: 4981 | G59: 13567 | H59: 6494 | I59: 7073 | J59: =SUM(K59:L59) -> 52 | K59: 16 | L59: 36
A60: 백운2동 | B60: =F60 -> 2753 | C60: =SUM(D60:E60) -> 5904 | D60: =H60+K60 -> 2974 | E60: =I60+L60 -> 2930 | F60: 2753 | G60: 5885 | H60: 2969 | I60: 2916 | J60: =SUM(K60:L60) -> 19 | K60: 5 | L60: 14
A61: 주월1동 | B61: =F61 -> 7445 | C61: =SUM(D61:E61) -> 19884 | D61: =H61+K61 -> 9752 | E61: =I61+L61 -> 10132 | F61: 7445 | G61: 19769 | H61: 9715 | I61: 10054 | J61: =SUM(K61:L61) -> 115 | K61: 37 | L61: 78
... A65: 대 촌 동 | B65: =F65 -> 2833 | C65: =SUM(D65:E65) -> 6404 | D65: =H65+K65 -> 3101 | E65: =I65+L65 -> 3303 | F65: 2833 | G65: 6362 | H65: 3093 | I65: 3269 | J65: =SUM(K65:L65) -> 42 | K65: 8 | L65: 34
A66: ○ 북 구
B67: 합 계 | F67: 한 국 인 | J67: 외 국 인
A68: 구 분 | B68: 세 대 | C68: 인 구 | F68: 세 대 | G68: 인 구 | J68: 인 구
C69: 계 | D69: 남 | E69: 여 | G69: 계 | H69: 남 | I69: 여 | J69: 계 | K69: 남 | L69: 여
A70: 2012 | B70: =SUM(B71:B96) -> 170004 | C70: =SUM(C71:C96) -> 447587 | D70: =SUM(D71:D96) -> 222392 | E70: =SUM(E71:E96) -> 225195 | F70: =SUM(F71:F96) -> 170004 | G70: =SUM(G71:G96) -> 443677 | H70: =SUM(H71:H96) -> 220615 | I70: =SUM(I71:I96) -> 223062 | ... L70: =SUM(L71:L96) -> 2133
A71: 중흥1동 | B71: 1958 | C71: =SUM(D71:E71) -> 3768 | D71: =H71+K71 -> 2063 | E71: =I71+L71 -> 1705 | F71: 1958 | G71: =SUM(H71:I71) -> 3742 | H71: 2050 | I71: 1692 | J71: =SUM(K71:L71) -> 26 | K71: 13 | L71: 13
A72: 중흥2동 | B72: 4081 | C72: =SUM(D72:E72) -> 9274 | D72: =H72+K72 -> 4735 | E72: =I72+L72 -> 4539 | F72: 4081 | G72: =SUM(H72:I72) -> 9215 | H72: 4713 | I72: 4502 | J72: =SUM(K72:L72) -> 59 | K72: 22 | L72: 37
A73: 중흥3동 | B73: 2928 | C73: =SUM(D73:E73) -> 6071 | D73: =H73+K73 -> 3118 | E73: =I73+L73 -> 2953 | F73: 2928 | G73: =SUM(H73:I73) -> 6036 | H73: 3113 | I73: 2923 | J73: =SUM(K73:L73) -> 35 | K73: 5 | L73: 30
A74: 중 앙 동 | B74: 2158 | C74: =SUM(D74:E74) -> 4100 | D74: =H74+K74 -> 2167 | E74: =I74+L74 -> 1933 | F74: 2158 | G74: =SUM(H74:I74) -> 4070 | H74: 2152 | I74: 1918 | J74: =SUM(K74:L74) -> 30 | K74: 15 | L74: 15
A75: 임 동 | B75: 4353 | C75: =SUM(D75:E75) -> 10527 | D75: =H75+K75 -> 5320 | E75: =I75+L75 -> 5207 | F75: 4353 | G75: =SUM(H75:I75) -> 10451 | H75: 5296 | I75: 5155 | J75: =SUM(K75:L75) -> 76 | K75: 24 | L75: 52
A76: 신 안 동 | B76: 5851 | C76: =SUM(D76:E76) -> 12203 | D76: =H76+K76 -> 6361 | E76: =I76+L76 -> 5842 | F76: 5851 | G76: =SUM(H76:I76) -> 12122 | H76: 6337 | I76: 5785 | J76: =SUM(K76:L76) -> 81 | K76: 24 | L76: 57
A77: 용 봉 동 | B77: 14608 | C77: =SUM(D77:E77) -> 41517 | D77: =H77+K77 -> 20759 | E77: =I77+L77 -> 20758 | F77: 14608 | G77: =SUM(H77:I77) -> 40077 | H77: 20014 | I77: 20063 | J77: =SUM(K77:L77) -> 1440 | K77: 745 | L77: 695
A78: 운암1동 | B78: 7105 | C78: =SUM(D78:E78) -> 21578 | D78: =H78+K78 -> 10537 | E78: =I78+L78 -> 11041 | F78: 7105 | G78: =SUM(H78:I78) -> 21512 | H78: 10511 | I78: 11001 | J78: =SUM(K78:L78) -> 66 | K78: 26 | L78: 40
A79: 운암2동 | B79: 6231 | C79: =SUM(D79:E79) -> 15339 | D79: =H79+K79 -> 7792 | E79: =I79+L79 -> 7547 | F79: 6231 | G79: =SUM(H79:I79) -> 15258 | H79: 7759 | I79: 7499 | J79: =SUM(K79:L79) -> 81 | K79: 33 | L79: 48
A80: 운암3동 | B80: 6559 | C80: =SUM(D80:E80) -> 18939 | D80: =H80+K80 -> 9217 | E80: =I80+L80 -> 9722 | F80: 6559 | G80: =SUM(H80:I80) -> 18893 | H80: 9200 | I80: 9693 | J80: =SUM(K80:L80) -> 46 | K80: 17 | L80: 29
A81: 동 림 동 | B81: 7986 | C81: =SUM(D81:E81) -> 22747 | D81: =H81+K81 -> 11318 | E81: =I81+L81 -> 11429 | F81: 7986 | G81: =SUM(H81:I81) -> 22612 | H81: 11247 | I81: 11365 | J81: =SUM(K81:L81) -> 135 | K81: 71 | L81: 64
A82: 우 산 동 | B82: 6943 | C82: =SUM(D82:E82) -> 15433 | D82: =H82+K82 -> 7564 | E82: =I82+L82 -> 7869 | F82: 6943 | G82: =SUM(H82:I82) -> 15331 | H82: 7531 | I82: 7800 | J82: =SUM(K82:L82) -> 102 | K82: 33 | L82: 69
... A96: 건 국 동 | B96: 23060 | C96: =SUM(D96:E96) -> 63858 | D96: =H96+K96 -> 32130 | E96: =I96+L96 -> 31728 | F96: 23060 | G96: =SUM(H96:I96) -> 62950 | H96: 31621 | I96: 31329 | J96: =SUM(K96:L96) -> 908 | K96: 509 | L96: 399
A97: ○ 광 산 구
B98: 합 계 | F98: 한 국 인 | J98: 외 국 인
A99: 구 분 | B99: 세 대 | C99: 인 구 | F99: 세 대 | G99: 인 구 | J99: 인 구
C100: 계 | D100: 남 | E100: 여 | G100: 계 | H100: 남 | I100: 여 | J100: 계 | K100: 남 | L100: 여
A101: 2012 | B101: =SUM(B102:B122) -> 137331 | C101: =SUM(C102:C122) -> 392155 | D101: =SUM(D102:D122) -> 197714 | E101: =SUM(E102:E122) -> 194441 | F101: =SUM(F102:F122) -> 137331 | G101: =SUM(G102:G122) -> 385101 | H101: =SUM(H102:H122) -> 193280 | I101: =SUM(I102:I122) -> 191821 | ... L101: =SUM(L102:L122) -> 2620
A102: 송정1동 | B102: =F102 -> 4558 | C102: =SUM(D102:E102) -> 12370 | D102: =H102+K102 -> 6223 | E102: =I102+L102 -> 6147 | F102: 4558 | G102: =SUM(H102:I102) -> 12199 | H102: 6167 | I102: 6032 | J102: =SUM(K102:L102) -> 171 | K102: 56 | L102: 115
A103: 송정2동 | B103: =F103 -> 2976 | C103: =SUM(D103:E103) -> 6951 | D103: =H103+K103 -> 3462 | E103: =I103+L103 -> 3489 | F103: 2976 | G103: =SUM(H103:I103) -> 6892 | H103: 3442 | I103: 3450 | J103: =SUM(K103:L103) -> 59 | K103: 20 | L103: 39
A104: 도 산 동 | B104: =F104 -> 5700 | C104: =SUM(D104:E104) -> 15275 | D104: =H104+K104 -> 7737 | E104: =I104+L104 -> 7538 | F104: 5700 | G104: =SUM(H104:I104) -> 15165 | H104: 7713 | I104: 7452 | J104: =SUM(K104:L104) -> 110 | K104: 24 | L104: 86
A105: 신 흥 동 | B105: =F105 -> 2102 | C105: =SUM(D105:E105) -> 5421 | D105: =H105+K105 -> 2743 | E105: =I105+L105 -> 2678 | F105: 2102 | G105: =SUM(H105:I105) -> 5359 | H105: 2714 | I105: 2645 | J105: =SUM(K105:L105) -> 62 | K105: 29 | L105: 33
A106: 어 룡 동 | B106: =F106 -> 8844 | C106: =SUM(D106:E106) -> 24327 | D106: =H106+K106 -> 12435 | E106: =I106+L106 -> 11892 | F106: 8844 | G106: =SUM(H106:I106) -> 23497 | H106: 12013 | I106: 11484 | J106: =SUM(K106:L106) -> 830 | K106: 422 | L106: 408
A107: 우 산 동 | B107: =F107 -> 10851 | C107: =SUM(D107:E107) -> 25133 | D107: =H107+K107 -> 12523 | E107: =I107+L107 -> 12610 | F107: 10851 | G107: =SUM(H107:I107) -> 24883 | H107: 12438 | I107: 12445 | J107: =SUM(K107:L107) -> 250 | K107: 85 | L107: 165
A108: 월곡1동 | B108: =F108 -> 5564 | C108: =SUM(D108:E108) -> 15115 | D108: =H108+K108 -> 7694 | E108: =I108+L108 -> 7421 | F108: 5564 | G108: =SUM(H108:I108) -> 14820 | H108: 7559 | I108: 7261 | J108: =SUM(K108:L108) -> 295 | K108: 135 | L108: 160
A109: 월곡2동 | B109: =F109 -> 7460 | C109: =SUM(D109:E109) -> 21413 | D109: =H109+K109 -> 10879 | E109: =I109+L109 -> 10534 | F109: 7460 | G109: =SUM(H109:I109) -> 20747 | H109: 10663 | I109: 10084 | J109: =SUM(K109:L109) -> 666 | K109: 216 | L109: 450
A110: 비 아 동 | B110: =F110 -> 3146 | C110: =SUM(D110:E110) -> 8153 | D110: =H110+K110 -> 4387 | E110: =I110+L110 -> 3766 | F110: 3146 | G110: =SUM(H110:I110) -> 7623 | H110: 4039 | I110: 3584 | J110: =SUM(K110:L110) -> 530 | K110: 348 | L110: 182
A111: 첨단1동 | B111: =F111 -> 7046 | C111: =SUM(D111:E111) -> 24614 | D111: =H111+K111 -> 12164 | E111: =I111+L111 -> 12450 | F111: 7046 | G111: =SUM(H111:I111) -> 24563 | H111: 12143 | I111: 12420 | J111: =SUM(K111:L111) -> 51 | K111: 21 | L111: 30
A112: 첨단2동 | B112: =F112 -> 14390 | C112: =SUM(D112:E112) -> 43515 | D112: =H112+K112 -> 21602 | E112: =I112+L112 -> 21913 | F112: 14390 | G112: =SUM(H112:I112) -> 43207 | H112: 21453 | I112: 21754 | J112: =SUM(K112:L112) -> 308 | K112: 149 | L112: 159
A113: 신 가 동 | B113: =F113 -> 8887 | C113: =SUM(D113:E113) -> 25618 | D113: =H113+K113 -> 12864 | E113: =I113+L113 -> 12754 | F113: 8887 | G113: =SUM(H113:I113) -> 25393 | H113: 12774 | I113: 12619 | J113: =SUM(K113:L113) -> 225 | K113: 90 | L113: 135
A114: 운 남 동 | B114: =F114 -> 11160 | C114: =SUM(D114:E114) -> 33862 | D114: =H114+K114 -> 16784 | E114: =I114+L114 -> 17078 | F114: 11160 | G114: =SUM(H114:I114) -> 33696 | H114: 16740 | I114: 16956 | J114: =SUM(K114:L114) -> 166 | K114: 44 | L114: 122
A115: 신 창 동 | B115: 11748 | C115: =SUM(D115:E115) -> 34252 | D115: =H115+K115 -> 17287 | E115: =I115+L115 -> 16965 | F115: 20677 | G115: =SUM(H115:I115) -> 34129 | H115: 17241 | I115: 16888 | J115: =SUM(K115:L115) -> 123 | K115: 46 | L115: 77
A116: 수 완 동 | B116: 20677 | C116: =SUM(D116:E116) -> 64373 | D116: =H116+K116 -> 31472 | E116: =I116+L116 -> 32901 | F116: 5143 | G116: =SUM(H116:I116) -> 64079 | H116: 31337 | I116: 32742 | J116: =SUM(K116:L116) -> 294 | K116: 135 | L116: 159
A117: 하 남 동 | B117: 5143 | C117: =SUM(D117:E117) -> 16574 | D117: =H117+K117 -> 9167 | E117: =I117+L117 -> 7407 | F117: 1314 | G117: =SUM(H117:I117) -> 14800 | H117: 7583 | I117: 7217 | J117: =SUM(K117:L117) -> 1774 | K117: 1584 | L117: 190
A118: 임 곡 동 | B118: 1314 | C118: =SUM(D118:E118) -> 2482 | D118: =H118+K118 -> 1310 | E118: =I118+L118 -> 1172 | F118: 1083 | G118: =SUM(H118:I118) -> 2454 | H118: 1293 | I118: 1161 | J118: =SUM(K118:L118) -> 28 | K118: 17 | L118: 11
A119: 동 곡 동 | B119: 1083 | C119: =SUM(D119:E119) -> 2312 | D119: =H119+K119 -> 1200 | E119: =I119+L119 -> 1112 | F119: 1978 | G119: =SUM(H119:I119) -> 2271 | H119: 1165 | I119: 1106 | J119: =SUM(K119:L119) -> 41 | K119: 35 | L119: 6
A120: 평 동 | B120: 1978 | C120: =SUM(D120:E120) -> 4931 | D120: =H120+K120 -> 3035 | E120: =I120+L120 -> 1896 | F120: 1399 | G120: =SUM(H120:I120) -> 3919 | H120: 2092 | I120: 1827 | J120: =SUM(K120:L120) -> 1012 | K120: 943 | L120: 69
A121: 삼 도 동 | B121: 1399 | C121: =SUM(D121:E121) -> 2836 | D121: =H121+K121 -> 1432 | E121: =I121+L121 -> 1404 | F121: 1305 | G121: =SUM(H121:I121) -> 2797 | H121: 1405 | I121: 1392 | J121: =SUM(K121:L121) -> 39 | K121: 27 | L121: 12
A122: 본 량 동 | B122: 1305 | C122: =SUM(D122:E122) -> 2628 | D122: =H122+K122 -> 1314 | E122: =I122+L122 -> 1314 | F122: 11748 | G122: =SUM(H122:I122) -> 2608 | H122: 1306 | I122: 1302 | J122: =SUM(K122:L122) -> 20 | K122: 8 | L122: 12

Sheet 2013년
A1: 2. 동별 세대 및 인구 (동구~광산구)
A2: ○ 동 구
B3: 합 계 | F3: 한 국 인 | J3: 외 국 인
A4: 구 분 | B4: 세 대 | C4: 인 구 | F4: 세 대 | G4: 인 구 | J4: 인 구
C5: 계 | D5: 남 | E5: 여 | G5: 계 | H5: 남 | I5: 여 | J5: 계 | K5: 남 | L5: 여
A6: 2013 | B6: =SUM(B7:B19) -> 46428 | C6: =SUM(C7:C19) -> 104032 | D6: =SUM(D7:D19) -> 52084 | E6: =SUM(E7:E19) -> 51948 | F6: =SUM(F7:F19) -> 46428 | G6: =SUM(G7:G19) -> 103016 | H6: =SUM(H7:H19) -> 51584 | I6: =SUM(I7:I19) -> 51432 | ... L6: =SUM(L7:L19) -> 516
A7: 충 장 동 | B7: =F7 -> 2759 | C7: =SUM(D7:E7) -> 4826 | D7: =SUM(H7,K7) -> 2628 | E7: =SUM(I7,L7) -> 2198 | F7: 2759 | G7: =SUM(H7:I7) -> 4722 | H7: ='[6]2. 동별, 연령별(외국인 제외)'!F5 -> 2566 | I7: ='[6]2. 동별, 연령별(외국인 제외)'!G5 -> 2156 | J7: =SUM(K7:L7) -> 104 | K7: ='[6]3. 동별, 연령별 외국인'!F5 -> 62 | L7: ='[6]3. 동별, 연령별 외국인'!G5 -> 42
A8: 동 명 동 | B8: =F8 -> 2624 | C8: =SUM(D8:E8) -> 5162 | D8: =SUM(H8,K8) -> 2532 | E8: =SUM(I8,L8) -> 2630 | F8: 2624 | G8: =SUM(H8:I8) -> 5108 | H8: ='[6]2. 동별, 연령별(외국인 제외)'!I5 -> 2503 | I8: ='[6]2. 동별, 연령별(외국인 제외)'!J5 -> 2605 | J8: =SUM(K8:L8) -> 54 | K8: ='[6]3. 동별, 연령별 외국인'!I5 -> 29 | L8: ='[6]3. 동별, 연령별 외국인'!J5 -> 25
A9: 계림1동 | B9: =F9 -> 4650 | C9: =SUM(D9:E9) -> 8594 | D9: =SUM(H9,K9) -> 4465 | E9: =SUM(I9,L9) -> 4129 | F9: 4650 | G9: =SUM(H9:I9) -> 8528 | H9: ='[6]2. 동별, 연령별(외국인 제외)'!L5 -> 4449 | I9: ='[6]2. 동별, 연령별(외국인 제외)'!M5 -> 4079 | J9: =SUM(K9:L9) -> 66 | K9: ='[6]3. 동별, 연령별 외국인'!L5 -> 16 | L9: ='[6]3. 동별, 연령별 외국인'!M5 -> 50
A10: 계림2동 | B10: =F10 -> 4576 | C10: =SUM(D10:E10) -> 11013 | D10: =SUM(H10,K10) -> 5481 | E10: =SUM(I10,L10) -> 5532 | F10: 4576 | G10: =SUM(H10:I10) -> 10971 | H10: ='[6]2. 동별, 연령별(외국인 제외)'!O5 -> 5468 | I10: ='[6]2. 동별, 연령별(외국인 제외)'!P5 -> 5503 | J10: =SUM(K10:L10) -> 42 | K10: ='[6]3. 동별, 연령별 외국인'!O5 -> 13 | L10: ='[6]3. 동별, 연령별 외국인'!P5 -> 29
A11: 산수1동 | B11: =F11 -> 4025 | C11: =SUM(D11:E11) -> 8484 | D11: =SUM(H11,K11) -> 4273 | E11: =SUM(I11,L11) -> 4211 | F11: 4025 | G11: =SUM(H11:I11) -> 8409 | H11: ='[6]2. 동별, 연령별(외국인 제외)'!R5 -> 4241 | I11: ='[6]2. 동별, 연령별(외국인 제외)'!S5 -> 4168 | J11: =SUM(K11:L11) -> 75 | K11: ='[6]3. 동별, 연령별 외국인'!R5 -> 32 | L11: ='[6]3. 동별, 연령별 외국인'!S5 -> 43
A12: 산수2동 | B12: =F12 -> 4468 | C12: =SUM(D12:E12) -> 11553 | D12: =SUM(H12,K12) -> 5642 | E12: =SUM(I12,L12) -> 5911 | F12: 4468 | G12: =SUM(H12:I12) -> 11521 | H12: ='[6]2. 동별, 연령별(외국인 제외)'!U5 -> 5629 | I12: ='[6]2. 동별, 연령별(외국인 제외)'!V5 -> 5892 | J12: =SUM(K12:L12) -> 32 | K12: ='[6]3. 동별, 연령별 외국인'!U5 -> 13 | L12: ='[6]3. 동별, 연령별 외국인'!V5 -> 19
A13: 지산1동 | B13: =F13 -> 2406 | C13: =SUM(D13:E13) -> 5315 | D13: =SUM(H13,K13) -> 2618 | E13: =SUM(I13,L13) -> 2697 | F13: 2406 | G13: =SUM(H13:I13) -> 5241 | H13: ='[6]2. 동별, 연령별(외국인 제외)'!X5 -> 2586 | I13: ='[6]2. 동별, 연령별(외국인 제외)'!Y5 -> 2655 | J13: =SUM(K13:L13) -> 74 | K13: ='[6]3. 동별, 연령별 외국인'!X5 -> 32 | L13: ='[6]3. 동별, 연령별 외국인'!Y5 -> 42
A14: 지산2동 | B14: =F14 -> 2701 | C14: =SUM(D14:E14) -> 6201 | D14: =SUM(H14,K14) -> 3107 | E14: =SUM(I14,L14) -> 3094 | F14: 2701 | G14: =SUM(H14:I14) -> 6153 | H14: ='[6]2. 동별, 연령별(외국인 제외)'!AA5 -> 3081 | I14: ='[6]2. 동별, 연령별(외국인 제외)'!AB5 -> 3072 | J14: =SUM(K14:L14) -> 48 | K14: ='[6]3. 동별, 연령별 외국인'!AA5 -> 26 | L14: ='[6]3. 동별, 연령별 외국인'!AB5 -> 22
A15: 서 남 동 | B15: =F15 -> 2395 | C15: =SUM(D15:E15) -> 4375 | D15: =SUM(H15,K15) -> 2252 | E15: =SUM(I15,L15) -> 2123 | F15: 2395 | G15: =SUM(H15:I15) -> 4068 | H15: ='[6]2. 동별, 연령별(외국인 제외)'!AD5 -> 2069 | I15: ='[6]2. 동별, 연령별(외국인 제외)'!AE5 -> 1999 | J15: =SUM(K15:L15) -> 307 | K15: ='[6]3. 동별, 연령별 외국인'!AD5 -> 183 | L15: ='[6]3. 동별, 연령별 외국인'!AE5 -> 124
A16: 학 동 | B16: =F16 -> 3846 | C16: =SUM(D16:E16) -> 8082 | D16: =SUM(H16,K16) -> 3966 | E16: =SUM(I16,L16) -> 4116 | F16: 3846 | G16: =SUM(H16:I16) -> 8007 | H16: ='[6]2. 동별, 연령별(외국인 제외)'!AG5 -> 3940 | I16: ='[6]2. 동별, 연령별(외국인 제외)'!AH5 -> 4067 | J16: =SUM(K16:L16) -> 75 | K16: ='[6]3. 동별, 연령별 외국인'!AG5 -> 26 | L16: ='[6]3. 동별, 연령별 외국인'!AH5 -> 49
A17: 학 운 동 | B17: =F17 -> 5017 | C17: =SUM(D17:E17) -> 13401 | D17: =SUM(H17,K17) -> 6486 | E17: =SUM(I17,L17) -> 6915 | F17: 5017 | G17: =SUM(H17:I17) -> 13346 | H17: ='[6]2. 동별, 연령별(외국인 제외)'!AJ5 -> 6458 | I17: ='[6]2. 동별, 연령별(외국인 제외)'!AK5 -> 6888 | J17: =SUM(K17:L17) -> 55 | K17: ='[6]3. 동별, 연령별 외국인'!AJ5 -> 28 | L17: ='[6]3. 동별, 연령별 외국인'!AK5 -> 27
A18: 지원1동 | B18: =F18 -> 3638 | C18: =SUM(D18:E18) -> 9261 | D18: =SUM(H18,K18) -> 4645 | E18: =SUM(I18,L18) -> 4616 | F18: 3638 | G18: =SUM(H18:I18) -> 9212 | H18: ='[6]2. 동별, 연령별(외국인 제외)'!AM5 -> 4625 | I18: ='[6]2. 동별, 연령별(외국인 제외)'!AN5 -> 4587 | J18: =SUM(K18:L18) -> 49 | K18: ='[6]3. 동별, 연령별 외국인'!AM5 -> 20 | L18: ='[6]3. 동별, 연령별 외국인'!AN5 -> 29
A19: 지원2동 | B19: =F19 -> 3323 | C19: =SUM(D19:E19) -> 7765 | D19: =SUM(H19,K19) -> 3989 | E19: =SUM(I19,L19) -> 3776 | F19: 3323 | G19: =SUM(H19:I19) -> 7730 | H19: ='[6]2. 동별, 연령별(외국인 제외)'!AP5 -> 3969 | I19: ='[6]2. 동별, 연령별(외국인 제외)'!AQ5 -> 3761 | J19: =SUM(K19:L19) -> 35 | K19: ='[6]3. 동별, 연령별 외국인'!AP5 -> 20 | L19: ='[6]3. 동별, 연령별 외국인'!AQ5 -> 15
A21: ○ 서 구
B22: 합 계 | F22: 한 국 인 | J22: 외 국 인
A23: 구 분 | B23: 세 대 | C23: 인 구 | F23: 세 대 | G23: 인 구 | J23: 인 구
C24: 계 | D24: 남 | E24: 여 | G24: 계 | H24: 남 | I24: 여 | J24: 계 | K24: 남 | L24: 여
A25: 2013 | B25: =SUM(B26:B43) -> 119155 | C25: =D25+E25 -> 316725 | D25: =H25+K25 -> 155705 | E25: =I25+L25 -> 161020 | F25: =SUM(F26:F43) -> 119155 | G25: =SUM(G26:G43) -> 315276 | H25: =SUM(H26:H43) -> 155104 | I25: =SUM(I26:I43) -> 160172 | J25: =SUM(J26:J43) -> 1449 | K25: =SUM(K26:K43) -> 601 | L25: =SUM(L26:L43) -> 848
A26: 양 동 | B26: 2461 | C26: =D26+E26 -> 5238 | D26: =H26+K26 -> 2613 | E26: =I26+L26 -> 2625 | F26: 2461 | G26: 5193 | H26: 2603 | I26: 2590 | J26: =K26+L26 -> 45 | K26: 10 | L26: 35
A27: 양 3 동 | B27: 2276 | C27: =D27+E27 -> 5630 | D27: =H27+K27 -> 2811 | E27: =I27+L27 -> 2819 | F27: 2276 | G27: =SUM(H27:I27) -> 5611 | H27: 2806 | I27: 2805 | J27: =K27+L27 -> 19 | K27: 5 | L27: 14
A28: 농성1동 | B28: 4207 | C28: =D28+E28 -> 8824 | D28: =H28+K28 -> 4491 | E28: =I28+L28 -> 4333 | F28: 4207 | G28: =SUM(H28:I28) -> 8782 | H28: 4477 | I28: 4305 | J28: =K28+L28 -> 42 | K28: 14 | L28: 28
A29: 농성2동 | B29: 2942 | C29: =D29+E29 -> 6206 | D29: =H29+K29 -> 3184 | E29: =I29+L29 -> 3022 | F29: 2942 | G29: =SUM(H29:I29) -> 6171 | H29: 3173 | I29: 2998 | J29: =K29+L29 -> 35 | K29: 11 | L29: 24
A30: 광 천 동 | B30: 4703 | C30: =D30+E30 -> 10848 | D30: =H30+K30 -> 5479 | E30: =I30+L30 -> 5369 | F30: 4703 | G30: =SUM(H30:I30) -> 10802 | H30: 5466 | I30: 5336 | J30: =K30+L30 -> 46 | K30: 13 | L30: 33
A31: 유 덕 동 | B31: 4492 | C31: =D31+E31 -> 12219 | D31: =H31+K31 -> 6154 | E31: =I31+L31 -> 6065 | F31: 4492 | G31: =SUM(H31:I31) -> 12058 | H31: 6077 | I31: 5981 | J31: =K31+L31 -> 161 | K31: 77 | L31: 84
A32: 치 평 동 | B32: 10648 | C32: =D32+E32 -> 30771 | D32: =H32+K32 -> 14919 | E32: =I32+L32 -> 15852 | F32: 10648 | G32: =SUM(H32:I32) -> 30577 | H32: 14823 | I32: 15754 | J32: =K32+L32 -> 194 | K32: 96 | L32: 98
A33: 상무1동 | B33: 10289 | C33: =D33+E33 -> 25112 | D33: =H33+K33 -> 12380 | E33: =I33+L33 -> 12732 | F33: 10289 | G33: =SUM(H33:I33) -> 24994 | H33: 12344 | I33: 12650 | J33: =K33+L33 -> 118 | K33: 36 | L33: 82
A34: 상무2동 | B34: 11530 | C34: =D34+E34 -> 26494 | D34: =H34+K34 -> 13017 | E34: =I34+L34 -> 13477 | F34: 11530 | G34: =SUM(H34:I34) -> 26378 | H34: 12975 | I34: 13403 | J34: =K34+L34 -> 116 | K34: 42 | L34: 74
A35: 화정1동 | B35: 7140 | C35: =D35+E35 -> 16751 | D35: =H35+K35 -> 8074 | E35: =I35+L35 -> 8677 | F35: 7140 | G35: =SUM(H35:I35) -> 16661 | H35: 8050 | I35: 8611 | J35: =K35+L35 -> 90 | K35: 24 | L35: 66
A36: 화정2동 | B36: 4394 | C36: =D36+E36 -> 11899 | D36: =H36+K36 -> 5994 | E36: =I36+L36 -> 5905 | F36: 4394 | G36: =SUM(H36:I36) -> 11867 | H36: 5986 | I36: 5881 | J36: =K36+L36 -> 32 | K36: 8 | L36: 24
A37: 화정3동 | B37: 4646 | C37: =D37+E37 -> 12597 | D37: =H37+K37 -> 6304 | E37: =I37+L37 -> 6293 | F37: 4646 | G37: =SUM(H37:I37) -> 12570 | H37: 6294 | I37: 6276 | J37: =K37+L37 -> 27 | K37: 10 | L37: 17
A38: 화정4동 | B38: 7298 | C38: =D38+E38 -> 21088 | D38: =H38+K38 -> 10290 | E38: =I38+L38 -> 10798 | F38: 7298 | G38: =SUM(H38:I38) -> 21034 | H38: 10273 | I38: 10761 | J38: =K38+L38 -> 54 | K38: 17 | L38: 37
... A43: 동 천 동 | B43: 6234 | C43: =D43+E43 -> 18444 | D43: =H43+K43 -> 8926 | E43: =I43+L43 -> 9518 | F43: 6234 | G43: =SUM(H43:I43) -> 18399 | H43: 8907 | I43: 9492 | J43: =K43+L43 -> 45 | K43: 19 | L43: 26
A47: ○ 남 구
A48: 구 분 | B48: 합 계 | F48: 한 국 인 | J48: 외 국 인
B49: 세 대 | C49: 인 구 | F49: 세 대 | G49: 인 구 | J49: 인 구
C50: 계 | D50: 남 | E50: 여 | G50: 계 | H50: 남 | I50: 여 | J50: 계 | K50: 남 | L50: 여
A51: 2013 | B51: 83402 | C51: 217445 | D51: 105308 | E51: 112137 | F51: 83402 | G51: 216254 | H51: 104891 | I51: 111363 | J51: 1191 | K51: 417 | L51: 774
A52: 양 림 동 | B52: 3708 | C52: 9160 | D52: 4390 | E52: 4770 | F52: 3708 | G52: 9106 | H52: 4377 | I52: 4729 | J52: 54 | K52: 13 | L52: 41
A53: 방림1동 | B53: 3347 | C53: 8646 | D53: 4182 | E53: 4464 | F53: 3347 | G53: 8610 | H53: 4177 | I53: 4433 | J53: 36 | K53: 5 | L53: 31
A54: 방림2동 | B54: 4481 | C54: 11456 | D54: 5511 | E54: 5945 | F54: 4481 | G54: 11425 | H54: 5505 | I54: 5920 | J54: 31 | K54: 6 | L54: 25
A55: 봉선1동 | B55: 6873 | C55: 17086 | D55: 8163 | E55: 8923 | F55: 6873 | G55: 16971 | H55: 8122 | I55: 8849 | J55: 115 | K55: 41 | L55: 74
A56: 봉선2동 | B56: 8937 | C56: 29250 | D56: 13768 | E56: 15482 | F56: 8937 | G56: 29195 | H56: 13739 | I56: 15456 | J56: 55 | K56: 29 | L56: 26
A57: 사 직 동 | B57: 3001 | C57: 5726 | D57: 2949 | E57: 2777 | F57: 3001 | G57: 5694 | H57: 2940 | I57: 2754 | J57: 32 | K57: 9 | L57: 23
A58: 월 산 동 | B58: 4878 | C58: 9815 | D58: 4999 | E58: 4816 | F58: 4878 | G58: 9758 | H58: 4986 | I58: 4772 | J58: 57 | K58: 13 | L58: 44
A59: 월산4동 | B59: 4867 | C59: 10962 | D59: 5549 | E59: 5413 | F59: 4867 | G59: 10897 | H59: 5529 | I59: 5368 | J59: 65 | K59: 20 | L59: 45
A60: 월산5동 | B60: 3607 | C60: 8288 | D60: 4133 | E60: 4155 | F60: 3607 | G60: 8264 | H60: 4127 | I60: 4137 | J60: 24 | K60: 6 | L60: 18
A61: 백운1동 | B61: 4984 | C61: 13499 | D61: 6440 | E61: 7059 | F61: 4984 | G61: 13445 | H61: 6423 | I61: 7022 | J61: 54 | K61: 17 | L61: 37
A62: 백운2동 | B62: 2652 | C62: 5533 | D62: 2803 | E62: 2730 | F62: 2652 | G62: 5504 | H62: 2797 | I62: 2707 | J62: 29 | K62: 6 | L62: 23
A63: 주월1동 | B63: 7646 | C63: 20137 | D63: 9856 | E63: 10281 | F63: 7646 | G63: 20025 | H63: 9819 | I63: 10206 | J63: 112 | K63: 37 | L63: 75
... A67: 대 촌 동 | B67: 2824 | C67: 6241 | D67: 3020 | E67: 3221 | F67: 2824 | G67: 6190 | H67: 3007 | I67: 3183 | J67: 51 | K67: 13 | L67: 38
A69: ○ 북 구
A70: 구 분 | B70: 합 계 | F70: 한 국 인 | J70: 외 국 인
B71: 세 대 | C71: 인 구 | F71: 세 대 | G71: 인 구 | J71: 인 구
C72: 계 | D72: 남 | E72: 여 | G72: 계 | H72: 남 | I72: 여 | J72: 계 | K72: 남 | L72: 여
A73: 2013 | B73: =SUM(B74:B100) -> 173165 | C73: =SUM(C74:C100) -> 449652 | D73: =SUM(D74:D100) -> 223281 | E73: =SUM(E74:E100) -> 226371 | F73: =SUM(F74:F100) -> 173165 | G73: =SUM(G74:G100) -> 445489 | H73: =SUM(H74:H100) -> 221433 | I73: =SUM(I74:I100) -> 224056 | ... L73: =SUM(L74:L100) -> 2315
A74: 중흥1동 | B74: 1975 | C74: =SUM(D74:E74) -> 3731 | D74: =H74+K74 -> 2033 | E74: =I74+L74 -> 1698 | F74: 1975 | G74: =SUM(H74:I74) -> 3699 | H74: 2016 | I74: 1683 | J74: =SUM(K74:L74) -> 32 | K74: 17 | L74: 15
A75: 중흥2동 | B75: 4128 | C75: =SUM(D75:E75) -> 9080 | D75: =H75+K75 -> 4614 | E75: =I75+L75 -> 4466 | F75: 4128 | G75: =SUM(H75:I75) -> 9018 | H75: 4593 | I75: 4425 | J75: =SUM(K75:L75) -> 62 | K75: 21 | L75: 41
A76: 중흥3동 | B76: 2930 | C76: =SUM(D76:E76) -> 5910 | D76: =H76+K76 -> 3030 | E76: =I76+L76 -> 2880 | F76: 2930 | G76: =SUM(H76:I76) -> 5875 | H76: 3025 | I76: 2850 | J76: =SUM(K76:L76) -> 35 | K76: 5 | L76: 30
A77: 중 앙 동 | B77: 2173 | C77: =SUM(D77:E77) -> 4064 | D77: =H77+K77 -> 2135 | E77: =I77+L77 -> 1929 | F77: 2173 | G77: =SUM(H77:I77) -> 4040 | H77: 2124 | I77: 1916 | J77: =SUM(K77:L77) -> 24 | K77: 11 | L77: 13
A78: 임 동 | B78: 4297 | C78: =SUM(D78:E78) -> 10272 | D78: =H78+K78 -> 5198 | E78: =I78+L78 -> 5074 | F78: 4297 | G78: =SUM(H78:I78) -> 10195 | H78: 5180 | I78: 5015 | J78: =SUM(K78:L78) -> 77 | K78: 18 | L78: 59
A79: 신 안 동 | B79: 5968 | C79: =SUM(D79:E79) -> 12208 | D79: =H79+K79 -> 6369 | E79: =I79+L79 -> 5839 | F79: 5968 | G79: =SUM(H79:I79) -> 12127 | H79: 6344 | I79: 5783 | J79: =SUM(K79:L79) -> 81 | K79: 25 | L79: 56
A80: 용 봉 동 | B80: 15031 | C80: =SUM(D80:E80) -> 42025 | D80: =H80+K80 -> 20909 | E80: =I80+L80 -> 21116 | F80: 15031 | G80: =SUM(H80:I80) -> 40528 | H80: 20184 | I80: 20344 | J80: =SUM(K80:L80) -> 1497 | K80: 725 | L80: 772
A81: 운암1동 | B81: 7150 | C81: =SUM(D81:E81) -> 21423 | D81: =H81+K81 -> 10418 | E81: =I81+L81 -> 11005 | F81: 7150 | G81: =SUM(H81:I81) -> 21346 | H81: 10387 | I81: 10959 | J81: =SUM(K81:L81) -> 77 | K81: 31 | L81: 46
A82: 운암2동 | B82: 6211 | C82: =SUM(D82:E82) -> 15078 | D82: =H82+K82 -> 7658 | E82: =I82+L82 -> 7420 | F82: 6211 | G82: =SUM(H82:I82) -> 14975 | H82: 7617 | I82: 7358 | J82: =SUM(K82:L82) -> 103 | K82: 41 | L82: 62
A83: 운암3동 | B83: 6514 | C83: =SUM(D83:E83) -> 18604 | D83: =H83+K83 -> 8987 | E83: =I83+L83 -> 9617 | F83: 6514 | G83: =SUM(H83:I83) -> 18565 | H83: 8977 | I83: 9588 | J83: =SUM(K83:L83) -> 39 | K83: 10 | L83: 29
A84: 동 림 동 | B84: 7989 | C84: =SUM(D84:E84) -> 22658 | D84: =H84+K84 -> 11285 | E84: =I84+L84 -> 11373 | F84: 7989 | G84: =SUM(H84:I84) -> 22502 | H84: 11204 | I84: 11298 | J84: =SUM(K84:L84) -> 156 | K84: 81 | L84: 75
A85: 우 산 동 | B85: 6805 | C85: =SUM(D85:E85) -> 14862 | D85: =H85+K85 -> 7287 | E85: =I85+L85 -> 7575 | F85: 6805 | G85: =SUM(H85:I85) -> 14768 | H85: 7255 | I85: 7513 | J85: =SUM(K85:L85) -> 94 | K85: 32 | L85: 62
... A100: 양 산 동 | B100: 12868 | C100: =SUM(D100:E100) -> 35543 | D100: =H100+K100 -> 17792 | E100: =I100+L100 -> 17751 | F100: 12868 | G100: =SUM(H100:I100) -> 35218 | H100: 17642 | I100: 17576 | J100: =SUM(K100:L100) -> 325 | K100: 150 | L100: 175
A102: ○ 광산구
B103: 합 계 | F103: 한 국 인 | J103: 외 국 인
A104: 구 분 | B104: 세 대 | C104: 인 구 | F104: 세 대 | G104: 인 구 | J104: 인 구
C105: 계 | D105: 남 | E105: 여 | G105: 계 | H105: 남 | I105: 여 | J105: 계 | K105: 남 | L105: 여
A106: 2013 | B106: =SUM(B107:B127) -> 141449 | C106: =SUM(C107:C127) -> 400613 | D106: =SUM(D107:D127) -> 202075 | E106: =SUM(E107:E127) -> 198538 | F106: =SUM(F107:F127) -> 141449 | G106: =SUM(G107:G127) -> 392875 | H106: =SUM(H107:H127) -> 197204 | I106: =SUM(I107:I127) -> 195671 | ... L106: =SUM(L107:L127) -> 2867
A107: 송정1동 | B107: =F107 -> 4562 | C107: =SUM(D107:E107) -> 12170 | D107: =H107+K107 -> 6136 | E107: =I107+L107 -> 6034 | F107: 4562 | G107: =SUM(H107:I107) -> 12025 | H107: 6091 | I107: 5934 | J107: =SUM(K107:L107) -> 145 | K107: 45 | L107: 100
A108: 송정2동 | B108: =F108 -> 3001 | C108: =SUM(D108:E108) -> 6855 | D108: =H108+K108 -> 3439 | E108: =I108+L108 -> 3416 | F108: 3001 | G108: =SUM(H108:I108) -> 6779 | H108: 3408 | I108: 3371 | J108: =SUM(K108:L108) -> 76 | K108: 31 | L108: 45
A109: 도 산 동 | B109: =F109 -> 5760 | C109: =SUM(D109:E109) -> 15265 | D109: =H109+K109 -> 7690 | E109: =I109+L109 -> 7575 | F109: 5760 | G109: =SUM(H109:I109) -> 15151 | H109: 7664 | I109: 7487 | J109: =SUM(K109:L109) -> 114 | K109: 26 | L109: 88
A110: 신 흥 동 | B110: =F110 -> 2047 | C110: =SUM(D110:E110) -> 5296 | D110: =H110+K110 -> 2673 | E110: =I110+L110 -> 2623 | F110: 2047 | G110: =SUM(H110:I110) -> 5228 | H110: 2642 | I110: 2586 | J110: =SUM(K110:L110) -> 68 | K110: 31 | L110: 37
A111: 어 룡 동 | B111: =F111 -> 8871 | C111: =SUM(D111:E111) -> 24236 | D111: =H111+K111 -> 12416 | E111: =I111+L111 -> 11820 | F111: 8871 | G111: =SUM(H111:I111) -> 23345 | H111: 11969 | I111: 11376 | J111: =SUM(K111:L111) -> 891 | K111: 447 | L111: 444
A112: 우 산 동 | B112: =F112 -> 10798 | C112: =SUM(D112:E112) -> 24691 | D112: =H112+K112 -> 12376 | E112: =I112+L112 -> 12315 | F112: 10798 | G112: =SUM(H112:I112) -> 24396 | H112: 12265 | I112: 12131 | J112: =SUM(K112:L112) -> 295 | K112: 111 | L112: 184
A113: 월곡1동 | B113: =F113 -> 5490 | C113: =SUM(D113:E113) -> 14748 | D113: =H113+K113 -> 7484 | E113: =I113+L113 -> 7264 | F113: 5490 | G113: =SUM(H113:I113) -> 14406 | H113: 7328 | I113: 7078 | J113: =SUM(K113:L113) -> 342 | K113: 156 | L113: 186
A114: 월곡2동 | B114: =F114 -> 7507 | C114: =SUM(D114:E114) -> 21383 | D114: =H114+K114 -> 10848 | E114: =I114+L114 -> 10535 | F114: 7507 | G114: =SUM(H114:I114) -> 20508 | H114: 10531 | I114: 9977 | J114: =SUM(K114:L114) -> 875 | K114: 317 | L114: 558
A115: 비 아 동 | B115: =F115 -> 3107 | C115: =SUM(D115:E115) -> 7915 | D115: =H115+K115 -> 4270 | E115: =I115+L115 -> 3645 | F115: 3107 | G115: =SUM(H115:I115) -> 7447 | H115: 3935 | I115: 3512 | J115: =SUM(K115:L115) -> 468 | K115: 335 | L115: 133
A116: 첨단1동 | B116: =F116 -> 7091 | C116: =SUM(D116:E116) -> 24401 | D116: =H116+K116 -> 12074 | E116: =I116+L116 -> 12327 | F116: 7091 | G116: =SUM(H116:I116) -> 24334 | H116: 12044 | I116: 12290 | J116: =SUM(K116:L116) -> 67 | K116: 30 | L116: 37
A117: 첨단2동 | B117: =F117 -> 14519 | C117: =SUM(D117:E117) -> 43332 | D117: =H117+K117 -> 21521 | E117: =I117+L117 -> 21811 | F117: 14519 | G117: =SUM(H117:I117) -> 42916 | H117: 21311 | I117: 21605 | J117: =SUM(K117:L117) -> 416 | K117: 210 | L117: 206
A118: 신 가 동 | B118: =F118 -> 9038 | C118: =SUM(D118:E118) -> 25663 | D118: =H118+K118 -> 12887 | E118: =I118+L118 -> 12776 | F118: 9038 | G118: =SUM(H118:I118) -> 25440 | H118: 12800 | I118: 12640 | J118: =SUM(K118:L118) -> 223 | K118: 87 | L118: 136
... A126: 삼 도 동 | B126: =F126 -> 1365 | C126: =SUM(D126:E126) -> 2733 | D126: =H126+K126 -> 1378 | E126: =I126+L126 -> 1355 | F126: 1365 | G126: =SUM(H126:I126) -> 2690 | H126: 1349 | I126: 1341 | J126: =SUM(K126:L126) -> 43 | K126: 29 | L126: 14
A127: 본 량 동 | B127: 1239 | C127: =SUM(G127,J127) -> 2475 | D127: =SUM(H127,K127) -> 1241 | E127: =SUM(I127,L127) -> 1234 | F127: 1239 | G127: =SUM(H127:I127) -> 2454 | H127: 1230 | I127: 1224 | J127: =SUM(K127:L127) -> 21 | K127: 11 | L127: 10

Sheet 2014년
A1: 2. 동별 세대 및 인구 (동구~광산구)
A2: ○ 동 구
B3: 합 계 | F3: 한 국 인 | J3: 외 국 인
A4: 구 분 | B4: 세 대 | C4: 인 구 | F4: 세 대 | G4: 인 구 | J4: 인 구
C5: 계 | D5: 남 | E5: 여 | G5: 계 | H5: 남 | I5: 여 | J5: 계 | K5: 남 | L5: 여
A6: 2014 | B6: =SUM(B7:B19) -> 46153 | C6: =SUM(C7:C19) -> 101833 | D6: =SUM(D7:D19) -> 50860 | E6: =SUM(E7:E19) -> 50973 | F6: =SUM(F7:F19) -> 46153 | G6: =SUM(G7:G19) -> 100786 | H6: =SUM(H7:H19) -> 50382 | I6: =SUM(I7:I19) -> 50404 | ... L6: =SUM(L7:L19) -> 569
A7: 충장동 | B7: =F7 -> 2899 | C7: =SUM(D7:E7) -> 4853 | D7: =SUM(H7,K7) -> 2663 | E7: =SUM(I7,L7) -> 2190 | F7: 2899 | G7: =SUM(H7:I7) -> 4752 | H7: 2601 | I7: 2151 | J7: =SUM(K7:L7) -> 101 | K7: 62 | L7: 39
A8: 동명동 | B8: =F8 -> 2539 | C8: =SUM(D8:E8) -> 4915 | D8: =SUM(H8,K8) -> 2420 | E8: =SUM(I8,L8) -> 2495 | F8: 2539 | G8: =SUM(H8:I8) -> 4860 | H8: 2396 | I8: 2464 | J8: =SUM(K8:L8) -> 55 | K8: 24 | L8: 31
A9: 계림1동 | B9: =F9 -> 4640 | C9: =SUM(D9:E9) -> 8394 | D9: =SUM(H9,K9) -> 4388 | E9: =SUM(I9,L9) -> 4006 | F9: 4640 | G9: =SUM(H9:I9) -> 8333 | H9: 4373 | I9: 3960 | J9: =SUM(K9:L9) -> 61 | K9: 15 | L9: 46
A10: 계림2동 | B10: =F10 -> 4560 | C10: =SUM(D10:E10) -> 10808 | D10: =SUM(H10,K10) -> 5381 | E10: =SUM(I10,L10) -> 5427 | F10: 4560 | G10: =SUM(H10:I10) -> 10766 | H10: 5368 | I10: 5398 | J10: =SUM(K10:L10) -> 42 | K10: 13 | L10: 29
A11: 산수1동 | B11: =F11 -> 4049 | C11: =SUM(D11:E11) -> 8328 | D11: =SUM(H11,K11) -> 4191 | E11: =SUM(I11,L11) -> 4137 | F11: 4049 | G11: =SUM(H11:I11) -> 8250 | H11: 4156 | I11: 4094 | J11: =SUM(K11:L11) -> 78 | K11: 35 | L11: 43
A12: 산수2동 | B12: =F12 -> 4437 | C12: =SUM(D12:E12) -> 11281 | D12: =SUM(H12,K12) -> 5479 | E12: =SUM(I12,L12) -> 5802 | F12: 4437 | G12: =SUM(H12:I12) -> 11250 | H12: 5467 | I12: 5783 | J12: =SUM(K12:L12) -> 31 | K12: 12 | L12: 19
A13: 지산1동 | B13: =F13 -> 2357 | C13: =SUM(D13:E13) -> 5211 | D13: =SUM(H13,K13) -> 2593 | E13: =SUM(I13,L13) -> 2618 | F13: 2357 | G13: =SUM(H13:I13) -> 5093 | H13: 2530 | I13: 2563 | J13: =SUM(K13:L13) -> 118 | K13: 63 | L13: 55
A14: 지산2동 | B14: =F14 -> 2666 | C14: =SUM(D14:E14) -> 6094 | D14: =SUM(H14,K14) -> 3047 | E14: =SUM(I14,L14) -> 3047 | F14: 2666 | G14: =SUM(H14:I14) -> 6037 | H14: 3020 | I14: 3017 | J14: =SUM(K14:L14) -> 57 | K14: 27 | L14: 30
A15: 서남동 | B15: =F15 -> 2323 | C15: =SUM(D15:E15) -> 4205 | D15: =SUM(H15,K15) -> 2108 | E15: =SUM(I15,L15) -> 2097 | F15: 2323 | G15: =SUM(H15:I15) -> 3887 | H15: 1951 | I15: 1936 | J15: =SUM(K15:L15) -> 318 | K15: 157 | L15: 161
A16: 학 동 | B16: =F16 -> 3660 | C16: =SUM(D16:E16) -> 7685 | D16: =SUM(H16,K16) -> 3756 | E16: =SUM(I16,L16) -> 3929 | F16: 3660 | G16: =SUM(H16:I16) -> 7625 | H16: 3739 | I16: 3886 | J16: =SUM(K16:L16) -> 60 | K16: 17 | L16: 43
A17: 학운동 | B17: =F17 -> 5117 | C17: =SUM(D17:E17) -> 13482 | D17: =SUM(H17,K17) -> 6477 | E17: =SUM(I17,L17) -> 7005 | F17: 5117 | G17: =SUM(H17:I17) -> 13427 | H17: 6452 | I17: 6975 | J17: =SUM(K17:L17) -> 55 | K17: 25 | L17: 30
A18: 지원1동 | B18: =F18 -> 3601 | C18: =SUM(D18:E18) -> 9004 | D18: =SUM(H18,K18) -> 4482 | E18: =SUM(I18,L18) -> 4522 | F18: 3601 | G18: =SUM(H18:I18) -> 8963 | H18: 4468 | I18: 4495 | J18: =SUM(K18:L18) -> 41 | K18: 14 | L18: 27
A19: 지원2동 | B19: =F19 -> 3305 | C19: =SUM(D19:E19) -> 7573 | D19: =SUM(H19,K19) -> 3875 | E19: =SUM(I19,L19) -> 3698 | F19: 3305 | G19: =SUM(H19:I19) -> 7543 | H19: 3861 | I19: 3682 | J19: =SUM(K19:L19) -> 30 | K19: 14 | L19: 16
A21: ○ 서 구
B22: 합 계 | F22: 한 국 인 | J22: 외 국 인
A23: 구 분 | B23: 세 대 | C23: 인 구 | F23: 세 대 | G23: 인 구 | J23: 인 구
C24: 계 | D24: 남 | E24: 여 | G24: 계 | H24: 남 | I24: 여 | J24: 계 | K24: 남 | L24: 여
A25: 2014 | B25: =SUM(B26:B43) -> 119658 | C25: =SUM(C26:C43) -> 311985 | D25: =SUM(D26:D43) -> 153359 | E25: =SUM(E26:E43) -> 158626 | F25: =SUM(F26:F43) -> 119658 | G25: =SUM(G26:G43) -> 310317 | H25: =SUM(H26:H43) -> 152605 | I25: =SUM(I26:I43) -> 157712 | ... L25: =SUM(L26:L43) -> 914
A26: 양 동 | B26: =F26 -> 2429 | C26: =SUM(D26:E26) -> 5028 | D26: =SUM(H26,K26) -> 2497 | E26: =SUM(I26,L26) -> 2531 | F26: 2429 | G26: =SUM(H26:I26) -> 4986 | H26: 2491 | I26: 2495 | J26: =SUM(K26:L26) -> 42 | K26: 6 | L26: 36
A27: 양 3 동 | B27: =F27 -> 2235 | C27: =SUM(D27:E27) -> 5485 | D27: =SUM(H27,K27) -> 2738 | E27: =SUM(I27,L27) -> 2747 | F27: 2235 | G27: =SUM(H27:I27) -> 5458 | H27: 2733 | I27: 2725 | J27: =SUM(K27:L27) -> 27 | K27: 5 | L27: 22
A28: 농성 1동 | B28: =F28 -> 4208 | C28: =SUM(D28:E28) -> 8745 | D28: =SUM(H28,K28) -> 4432 | E28: =SUM(I28,L28) -> 4313 | F28: 4208 | G28: =SUM(H28:I28) -> 8699 | H28: 4418 | I28: 4281 | J28: =SUM(K28:L28) -> 46 | K28: 14 | L28: 32
A29: 농성 2동 | B29: =F29 -> 2941 | C29: =SUM(D29:E29) -> 6095 | D29: =SUM(H29,K29) -> 3134 | E29: =SUM(I29,L29) -> 2961 | F29: 2941 | G29: =SUM(H29:I29) -> 6056 | H29: 3121 | I29: 2935 | J29: =SUM(K29:L29) -> 39 | K29: 13 | L29: 26
A30: 광 천 동 | B30: =F30 -> 4711 | C30: =SUM(D30:E30) -> 10628 | D30: =SUM(H30,K30) -> 5370 | E30: =SUM(I30,L30) -> 5258 | F30: 4711 | G30: =SUM(H30:I30) -> 10574 | H30: 5344 | I30: 5230 | J30: =SUM(K30:L30) -> 54 | K30: 26 | L30: 28
A31: 유 덕 동 | B31: =F31 -> 4547 | C31: =SUM(D31:E31) -> 12156 | D31: =SUM(H31,K31) -> 6172 | E31: =SUM(I31,L31) -> 5984 | F31: 4547 | G31: =SUM(H31:I31) -> 12013 | H31: 6100 | I31: 5913 | J31: =SUM(K31:L31) -> 143 | K31: 72 | L31: 71
A32: 치 평 동 | B32: =F32 -> 11197 | C32: =SUM(D32:E32) -> 30761 | D32: =SUM(H32,K32) -> 14908 | E32: =SUM(I32,L32) -> 15853 | F32: 11197 | G32: =SUM(H32:I32) -> 30564 | H32: 14808 | I32: 15756 | J32: =SUM(K32:L32) -> 197 | K32: 100 | L32: 97
A33: 상무 1동 | B33: =F33 -> 10188 | C33: =SUM(D33:E33) -> 24636 | D33: =SUM(H33,K33) -> 12178 | E33: =SUM(I33,L33) -> 12458 | F33: 10188 | G33: =SUM(H33:I33) -> 24481 | H33: 12116 | I33: 12365 | J33: =SUM(K33:L33) -> 155 | K33: 62 | L33: 93
A34: 상무 2동 | B34: =F34 -> 11552 | C34: =SUM(D34:E34) -> 25937 | D34: =SUM(H34,K34) -> 12774 | E34: =SUM(I34,L34) -> 13163 | F34: 11552 | G34: =SUM(H34:I34) -> 25793 | H34: 12714 | I34: 13079 | J34: =SUM(K34:L34) -> 144 | K34: 60 | L34: 84
A35: 화정 1동 | B35: =F35 -> 7331 | C35: =SUM(D35:E35) -> 16778 | D35: =SUM(H35,K35) -> 8077 | E35: =SUM(I35,L35) -> 8701 | F35: 7331 | G35: =SUM(H35:I35) -> 16675 | H35: 8046 | I35: 8629 | J35: =SUM(K35:L35) -> 103 | K35: 31 | L35: 72
A36: 화정 2동 | B36: =F36 -> 4542 | C36: =SUM(D36:E36) -> 12089 | D36: =SUM(H36,K36) -> 6099 | E36: =SUM(I36,L36) -> 5990 | F36: 4542 | G36: =SUM(H36:I36) -> 12048 | H36: 6086 | I36: 5962 | J36: =SUM(K36:L36) -> 41 | K36: 13 | L36: 28
A37: 화정 3동 | B37: =F37 -> 4613 | C37: =SUM(D37:E37) -> 12320 | D37: =SUM(H37,K37) -> 6129 | E37: =SUM(I37,L37) -> 6191 | F37: 4613 | G37: =SUM(H37:I37) -> 12286 | H37: 6121 | I37: 6165 | J37: =SUM(K37:L37) -> 34 | K37: 8 | L37: 26
... A43: 동 천 동 | B43: =F43 -> 6308 | C43: =SUM(D43:E43) -> 18381 | D43: =SUM(H43,K43) -> 8850 | E43: =SUM(I43,L43) -> 9531 | F43: 6308 | G43: =SUM(H43:I43) -> 18282 | H43: 8789 | I43: 9493 | J43: =SUM(K43:L43) -> 99 | K43: 61 | L43: 38
A45: ○ 남 구
B46: 합 계 | F46: 한 국 인 | J46: 외 국 인
A47: 구 분 | B47: 세 대 | C47: 인 구 | F47: 세 대 | G47: 인 구 | J47: 인 구
C48: 계 | D48: 남 | E48: 여 | G48: 계 | H48: 남 | I48: 여 | J48: 계 | K48: 남 | L48: 여
A49: 2014 | B49: =SUM(B50:B65) -> 85996 | C49: =SUM(C50:C65) -> 221120 | D49: =SUM(D50:D65) -> 106957 | E49: =SUM(E50:E65) -> 114163 | F49: =SUM(F50:F65) -> 85996 | G49: =SUM(G50:G65) -> 219815 | H49: =SUM(H50:H65) -> 106477 | I49: =SUM(I50:I65) -> 113338 | ... L49: =SUM(L50:L65) -> 825
A50: 양 림 동 | B50: =F50 -> 3644 | C50: =SUM(D50:E50) -> 8960 | D50: =H50+K50 -> 4250 | E50: =I50+L50 -> 4710 | F50: 3644 | G50: =SUM(H50:I50) -> 8913 | H50: 4237 | I50: 4676 | J50: =SUM(K50:L50) -> 47 | K50: 13 | L50: 34
A51: 방림1동 | B51: =F51 -> 3293 | C51: =SUM(D51:E51) -> 8378 | D51: =H51+K51 -> 4026 | E51: =I51+L51 -> 4352 | F51: 3293 | G51: =SUM(H51:I51) -> 8350 | H51: 4022 | I51: 4328 | J51: =SUM(K51:L51) -> 28 | K51: 4 | L51: 24
A52: 방림2동 | B52: =F52 -> 4410 | C52: =SUM(D52:E52) -> 11038 | D52: =H52+K52 -> 5324 | E52: =I52+L52 -> 5714 | F52: 4410 | G52: =SUM(H52:I52) -> 11005 | H52: 5315 | I52: 5690 | J52: =SUM(K52:L52) -> 33 | K52: 9 | L52: 24
A53: 봉선1동 | B53: =F53 -> 7087 | C53: =SUM(D53:E53) -> 17519 | D53: =H53+K53 -> 8313 | E53: =I53+L53 -> 9206 | F53: 7087 | G53: =SUM(H53:I53) -> 17399 | H53: 8266 | I53: 9133 | J53: =SUM(K53:L53) -> 120 | K53: 47 | L53: 73
A54: 봉선2동 | B54: =F54 -> 9047 | C54: =SUM(D54:E54) -> 29207 | D54: =H54+K54 -> 13725 | E54: =I54+L54 -> 15482 | F54: 9047 | G54: =SUM(H54:I54) -> 29158 | H54: 13698 | I54: 15460 | J54: =SUM(K54:L54) -> 49 | K54: 27 | L54: 22
A55: 사 직 동 | B55: =F55 -> 2987 | C55: =SUM(D55:E55) -> 5542 | D55: =H55+K55 -> 2844 | E55: =I55+L55 -> 2698 | F55: 2987 | G55: =SUM(H55:I55) -> 5513 | H55: 2835 | I55: 2678 | J55: =SUM(K55:L55) -> 29 | K55: 9 | L55: 20
A56: 월 산 동 | B56: =F56 -> 5060 | C56: =SUM(D56:E56) -> 10393 | D56: =H56+K56 -> 5290 | E56: =I56+L56 -> 5103 | F56: 5060 | G56: =SUM(H56:I56) -> 10315 | H56: 5261 | I56: 5054 | J56: =SUM(K56:L56) -> 78 | K56: 29 | L56: 49
A57: 월산4동 | B57: =F57 -> 4849 | C57: =SUM(D57:E57) -> 10719 | D57: =H57+K57 -> 5468 | E57: =I57+L57 -> 5251 | F57: 4849 | G57: =SUM(H57:I57) -> 10645 | H57: 5440 | I57: 5205 | J57: =SUM(K57:L57) -> 74 | K57: 28 | L57: 46
A58: 월산5동 | B58: =F58 -> 3537 | C58: =SUM(D58:E58) -> 7981 | D58: =H58+K58 -> 3952 | E58: =I58+L58 -> 4029 | F58: 3537 | G58: =SUM(H58:I58) -> 7937 | H58: 3939 | I58: 3998 | J58: =SUM(K58:L58) -> 44 | K58: 13 | L58: 31
A59: 백운1동 | B59: =F59 -> 5308 | C59: =SUM(D59:E59) -> 14282 | D59: =H59+K59 -> 6840 | E59: =I59+L59 -> 7442 | F59: 5308 | G59: =SUM(H59:I59) -> 14217 | H59: 6822 | I59: 7395 | J59: =SUM(K59:L59) -> 65 | K59: 18 | L59: 47
A60: 백운2동 | B60: =F60 -> 2668 | C60: =SUM(D60:E60) -> 5380 | D60: =H60+K60 -> 2708 | E60: =I60+L60 -> 2672 | F60: 2668 | G60: =SUM(H60:I60) -> 5341 | H60: 2696 | I60: 2645 | J60: =SUM(K60:L60) -> 39 | K60: 12 | L60: 27
A61: 주월1동 | B61: =F61 -> 8188 | C61: =SUM(D61:E61) -> 21503 | D61: =H61+K61 -> 10527 | E61: =I61+L61 -> 10976 | F61: 8188 | G61: =SUM(H61:I61) -> 21389 | H61: 10486 | I61: 10903 | J61: =SUM(K61:L61) -> 114 | K61: 41 | L61: 73
... A65: 대 촌 동 | B65: =F65 -> 2802 | C65: =SUM(D65:E65) -> 6130 | D65: =H65+K65 -> 2964 | E65: =I65+L65 -> 3166 | F65: 2802 | G65: =SUM(H65:I65) -> 6078 | H65: 2946 | I65: 3132 | J65: =SUM(K65:L65) -> 52 | K65: 18 | L65: 34
A66: ○ 북 구
B67: 합 계 | F67: 한 국 인 | J67: 외 국 인
A68: 구 분 | B68: 세 대 | C68: 인 구 | F68: 세 대 | G68: 인 구 | J68: 인 구
C69: 계 | D69: 남 | E69: 여 | G69: 계 | H69: 남 | I69: 여 | J69: 계 | K69: 남 | L69: 여
A70: 2014 | B70: =SUM(B71:B97) -> 176440 | C70: =SUM(C71:C97) -> 451936 | D70: =SUM(D71:D97) -> 224525 | E70: =SUM(E71:E97) -> 227411 | F70: =SUM(F71:F97) -> 176440 | G70: =SUM(G71:G97) -> 447685 | H70: =SUM(H71:H97) -> 222622 | I70: =SUM(I71:I97) -> 225063 | ... L70: =SUM(L71:L97) -> 2348
A71: 중흥1동 | B71: =F71 -> 1940 | C71: =SUM(D71:E71) -> 3631 | D71: =H71+K71 -> 1991 | E71: =I71+L71 -> 1640 | F71: 1940 | G71: =SUM(H71:I71) -> 3595 | H71: 1973 | I71: 1622 | J71: =SUM(K71:L71) -> 36 | K71: 18 | L71: 18
A72: 중흥2동 | B72: =F72 -> 4132 | C72: =SUM(D72:E72) -> 8984 | D72: =H72+K72 -> 4563 | E72: =I72+L72 -> 4421 | F72: 4132 | G72: =SUM(H72:I72) -> 8924 | H72: 4543 | I72: 4381 | J72: =SUM(K72:L72) -> 60 | K72: 20 | L72: 40
A73: 중흥3동 | B73: =F73 -> 2851 | C73: =SUM(D73:E73) -> 5622 | D73: =H73+K73 -> 2906 | E73: =I73+L73 -> 2716 | F73: 2851 | G73: =SUM(H73:I73) -> 5593 | H73: 2901 | I73: 2692 | J73: =SUM(K73:L73) -> 29 | K73: 5 | L73: 24
A74: 중 앙 동 | B74: =F74 -> 2185 | C74: =SUM(D74:E74) -> 3962 | D74: =H74+K74 -> 2071 | E74: =I74+L74 -> 1891 | F74: 2185 | G74: =SUM(H74:I74) -> 3938 | H74: 2061 | I74: 1877 | J74: =SUM(K74:L74) -> 24 | K74: 10 | L74: 14
A75: 임 동 | B75: =F75 -> 4357 | C75: =SUM(D75:E75) -> 10162 | D75: =H75+K75 -> 5117 | E75: =I75+L75 -> 5045 | F75: 4357 | G75: =SUM(H75:I75) -> 10084 | H75: 5093 | I75: 4991 | J75: =SUM(K75:L75) -> 78 | K75: 24 | L75: 54
A76: 신 안 동 | B76: =F76 -> 6051 | C76: =SUM(D76:E76) -> 12028 | D76: =H76+K76 -> 6269 | E76: =I76+L76 -> 5759 | F76: 6051 | G76: =SUM(H76:I76) -> 11947 | H76: 6239 | I76: 5708 | J76: =SUM(K76:L76) -> 81 | K76: 30 | L76: 51
A77: 용 봉 동 | B77: =F77 -> 15169 | C77: =SUM(D77:E77) -> 41534 | D77: =H77+K77 -> 20646 | E77: =I77+L77 -> 20888 | F77: 15169 | G77: =SUM(H77:I77) -> 40135 | H77: 19985 | I77: 20150 | J77: =SUM(K77:L77) -> 1399 | K77: 661 | L77: 738
A78: 운암1동 | B78: =F78 -> 7129 | C78: =SUM(D78:E78) -> 21082 | D78: =H78+K78 -> 10229 | E78: =I78+L78 -> 10853 | F78: 7129 | G78: =SUM(H78:I78) -> 21002 | H78: 10193 | I78: 10809 | J78: =SUM(K78:L78) -> 80 | K78: 36 | L78: 44
A79: 운암2동 | B79: =F79 -> 6241 | C79: =SUM(D79:E79) -> 14869 | D79: =H79+K79 -> 7533 | E79: =I79+L79 -> 7336 | F79: 6241 | G79: =SUM(H79:I79) -> 14741 | H79: 7482 | I79: 7259 | J79: =SUM(K79:L79) -> 128 | K79: 51 | L79: 77
A80: 운암3동 | B80: =F80 -> 6549 | C80: =SUM(D80:E80) -> 18329 | D80: =H80+K80 -> 8883 | E80: =I80+L80 -> 9446 | F80: 6549 | G80: =SUM(H80:I80) -> 18278 | H80: 8870 | I80: 9408 | J80: =SUM(K80:L80) -> 51 | K80: 13 | L80: 38
A81: 동 림 동 | B81: =F81 -> 7987 | C81: =SUM(D81:E81) -> 22053 | D81: =H81+K81 -> 10982 | E81: =I81+L81 -> 11071 | F81: 7987 | G81: =SUM(H81:I81) -> 21938 | H81: 10934 | I81: 11004 | J81: =SUM(K81:L81) -> 115 | K81: 48 | L81: 67
A82: 우 산 동 | B82: =F82 -> 6728 | C82: =SUM(D82:E82) -> 14313 | D82: =H82+K82 -> 7038 | E82: =I82+L82 -> 7275 | F82: 6728 | G82: =SUM(H82:I82) -> 14229 | H82: 7012 | I82: 7217 | J82: =SUM(K82:L82) -> 84 | K82: 26 | L82: 58
... A97: 양 산 동 | B97: =F97 -> 13396 | C97: =SUM(D97:E97) -> 36598 | D97: =H97+K97 -> 18342 | E97: =I97+L97 -> 18256 | F97: 13396 | G97: =SUM(H97:I97) -> 36200 | H97: 18133 | I97: 18067 | J97: =SUM(K97:L97) -> 398 | K97: 209 | L97: 189
A98: ○ 광 산 구
B99: 합 계 | F99: 한 국 인 | J99: 외 국 인
A100: 구 분 | B100: 세 대 | C100: 인 구 | F100: 세 대 | G100: 인 구 | J100: 인 구
C101: 계 | D101: 남 | E101: 여 | G101: 계 | H101: 남 | I101: 여 | J101: 계 | K101: 남 | L101: 여
A102: 2014 | B102: =SUM(B103:B123) -> 144796 | C102: =SUM(C103:C123) -> 406074 | D102: =SUM(D103:D123) -> 204850 | E102: =SUM(E103:E123) -> 201224 | F102: =SUM(F103:F123) -> 144796 | G102: =SUM(G103:G123) -> 397281 | H102: =SUM(H103:H123) -> 199253 | I102: =SUM(I103:I123) -> 198028 | ... L102: =SUM(L103:L123) -> 3196
A103: 송정1동 | B103: =F103 -> 4546 | C103: =SUM(D103:E103) -> 11977 | D103: =H103+K103 -> 6070 | E103: =I103+L103 -> 5907 | F103: 4546 | G103: =SUM(H103:I103) -> 11794 | H103: 5999 | I103: 5795 | J103: =SUM(K103:L103) -> 183 | K103: 71 | L103: 112
A104: 송정2동 | B104: =F104 -> 2934 | C104: =SUM(D104:E104) -> 6637 | D104: =H104+K104 -> 3327 | E104: =I104+L104 -> 3310 | F104: 2934 | G104: =SUM(H104:I104) -> 6548 | H104: 3293 | I104: 3255 | J104: =SUM(K104:L104) -> 89 | K104: 34 | L104: 55
A105: 도 산 동 | B105: =F105 -> 5670 | C105: =SUM(D105:E105) -> 14691 | D105: =H105+K105 -> 7386 | E105: =I105+L105 -> 7305 | F105: 5670 | G105: =SUM(H105:I105) -> 14574 | H105: 7355 | I105: 7219 | J105: =SUM(K105:L105) -> 117 | K105: 31 | L105: 86
A106: 신 흥 동 | B106: =F106 -> 1951 | C106: =SUM(D106:E106) -> 4969 | D106: =H106+K106 -> 2521 | E106: =I106+L106 -> 2448 | F106: 1951 | G106: =SUM(H106:I106) -> 4905 | H106: 2490 | I106: 2415 | J106: =SUM(K106:L106) -> 64 | K106: 31 | L106: 33
A107: 어 룡 동 | B107: =F107 -> 10207 | C107: =SUM(D107:E107) -> 27562 | D107: =H107+K107 -> 14057 | E107: =I107+L107 -> 13505 | F107: 10207 | G107: =SUM(H107:I107) -> 26535 | H107: 13547 | I107: 12988 | J107: =SUM(K107:L107) -> 1027 | K107: 510 | L107: 517
A108: 우 산 동 | B108: =F108 -> 10799 | C108: =SUM(D108:E108) -> 23926 | D108: =H108+K108 -> 11993 | E108: =I108+L108 -> 11933 | F108: 10799 | G108: =SUM(H108:I108) -> 23614 | H108: 11858 | I108: 11756 | J108: =SUM(K108:L108) -> 312 | K108: 135 | L108: 177
A109: 월곡1동 | B109: =F109 -> 5424 | C109: =SUM(D109:E109) -> 14478 | D109: =H109+K109 -> 7340 | E109: =I109+L109 -> 7138 | F109: 5424 | G109: =SUM(H109:I109) -> 14004 | H109: 7109 | I109: 6895 | J109: =SUM(K109:L109) -> 474 | K109: 231 | L109: 243
A110: 월곡2동 | B110: =F110 -> 7359 | C110: =SUM(D110:E110) -> 21026 | D110: =H110+K110 -> 10682 | E110: =I110+L110 -> 10344 | F110: 7359 | G110: =SUM(H110:I110) -> 19888 | H110: 10211 | I110: 9677 | J110: =SUM(K110:L110) -> 1138 | K110: 471 | L110: 667
A111: 비 아 동 | B111: =F111 -> 3037 | C111: =SUM(D111:E111) -> 7726 | D111: =H111+K111 -> 4222 | E111: =I111+L111 -> 3504 | F111: 3037 | G111: =SUM(H111:I111) -> 7212 | H111: 3832 | I111: 3380 | J111: =SUM(K111:L111) -> 514 | K111: 390 | L111: 124
A112: 첨단1동 | B112: =F112 -> 7173 | C112: =SUM(D112:E112) -> 24195 | D112: =H112+K112 -> 11983 | E112: =I112+L112 -> 12212 | F112: 7173 | G112: =SUM(H112:I112) -> 24120 | H112: 11948 | I112: 12172 | J112: =SUM(K112:L112) -> 75 | K112: 35 | L112: 40
A113: 첨단2동 | B113: =F113 -> 14736 | C113: =SUM(D113:E113) -> 42823 | D113: =H113+K113 -> 21321 | E113: =I113+L113 -> 21502 | F113: 14736 | G113: =SUM(H113:I113) -> 42384 | H113: 21096 | I113: 21288 | J113: =SUM(K113:L113) -> 439 | K113: 225 | L113: 214
A114: 신 가 동 | B114: =F114 -> 9000 | C114: =SUM(D114:E114) -> 25146 | D114: =H114+K114 -> 12701 | E114: =I114+L114 -> 12445 | F114: 9000 | G114: =SUM(H114:I114) -> 24915 | H114: 12615 | I114: 12300 | J114: =SUM(K114:L114) -> 231 | K114: 86 | L114: 145
... A123: 본 량 동 | B123: =F123 -> 1206 | C123: =SUM(D123:E123) -> 2316 | D123: =H123+K123 -> 1146 | E123: =I123+L123 -> 1170 | F123: 1206 | G123: =SUM(H123:I123) -> 2296 | H123: 1137 | I123: 1159 | J123: =SUM(K123:L123) -> 20 | K123: 9 | L123: 11

Sheet 2015년
A1: 2. 동별 세대 및 인구 (동구~광산구)
A2: ○ 동 구
B3: 합 계 | F3: 한 국 인 | J3: 외 국 인
A4: 구 분 | B4: 세 대 | C4: 인 구 | F4: 세 대 | G4: 인 구 | J4: 인 구
C5: 계 | D5: 남 | E5: 여 | G5: 계 | H5: 남 | I5: 여 | J5: 계 | K5: 남 | L5: 여
A6: 2015 | B6: 45860 | C6: =SUM(G6,J6) -> 99883 | D6: =SUM(H6,K6) -> 49888 | E6: =SUM(I6,L6) -> 49995 | F6: 45860 | G6: 98784 | H6: 49362 | I6: 49422 | J6: =SUM(J7:J19) -> 1099 | K6: =SUM(K7:K19) -> 526 | L6: =SUM(L7:L19) -> 573
A7: 충 장 동 | B7: 2947 | C7: =SUM(G7,J7) -> 4805 | D7: =SUM(H7,K7) -> 2577 | E7: =SUM(I7,L7) -> 2228 | F7: 2947 | G7: 4715 | H7: 2521 | I7: 2194 | J7: =SUM(K7:L7) -> 90 | K7: 56 | L7: 34
A8: 동 명 동 | B8: 2513 | C8: =SUM(G8,J8) -> 4763 | D8: =SUM(H8,K8) -> 2374 | E8: =SUM(I8,L8) -> 2389 | F8: 2513 | G8: 4708 | H8: 2350 | I8: 2358 | J8: =SUM(K8:L8) -> 55 | K8: 24 | L8: 31
A9: 계림1동 | B9: 4554 | C9: =SUM(G9,J9) -> 8081 | D9: =SUM(H9,K9) -> 4228 | E9: =SUM(I9,L9) -> 3853 | F9: 4554 | G9: 8017 | H9: 4208 | I9: 3809 | J9: =SUM(K9:L9) -> 64 | K9: 20 | L9: 44
A10: 계림2동 | B10: 4342 | C10: =SUM(G10,J10) -> 10139 | D10: =SUM(H10,K10) -> 5076 | E10: =SUM(I10,L10) -> 5063 | F10: 4342 | G10: 10098 | H10: 5062 | I10: 5036 | J10: =SUM(K10:L10) -> 41 | K10: 14 | L10: 27
A11: 산수1동 | B11: 3897 | C11: =SUM(G11,J11) -> 7891 | D11: =SUM(H11,K11) -> 3988 | E11: =SUM(I11,L11) -> 3903 | F11: 3897 | G11: 7823 | H11: 3958 | I11: 3865 | J11: =SUM(K11:L11) -> 68 | K11: 30 | L11: 38
A12: 산수2동 | B12: 4465 | C12: =SUM(G12,J12) -> 11132 | D12: =SUM(H12,K12) -> 5435 | E12: =SUM(I12,L12) -> 5697 | F12: 4465 | G12: 11091 | H12: 5421 | I12: 5670 | J12: =SUM(K12:L12) -> 41 | K12: 14 | L12: 27
A13: 지산1동 | B13: 2325 | C13: =SUM(G13,J13) -> 5053 | D13: =SUM(H13,K13) -> 2522 | E13: =SUM(I13,L13) -> 2531 | F13: 2325 | G13: 4924 | H13: 2458 | I13: 2466 | J13: =SUM(K13:L13) -> 129 | K13: 64 | L13: 65
A14: 지산2동 | B14: 2603 | C14: =SUM(G14,J14) -> 5823 | D14: =SUM(H14,K14) -> 2903 | E14: =SUM(I14,L14) -> 2920 | F14: 2603 | G14: 5751 | H14: 2870 | I14: 2881 | J14: =SUM(K14:L14) -> 72 | K14: 33 | L14: 39
A15: 서 남 동 | B15: 2224 | C15: =SUM(G15,J15) -> 3955 | D15: =SUM(H15,K15) -> 1984 | E15: =SUM(I15,L15) -> 1971 | F15: 2224 | G15: 3663 | H15: 1847 | I15: 1816 | J15: =SUM(K15:L15) -> 292 | K15: 137 | L15: 155
A16: 학 동 | B16: 3583 | C16: =SUM(G16,J16) -> 7418 | D16: =SUM(H16,K16) -> 3614 | E16: =SUM(I16,L16) -> 3804 | F16: 3583 | G16: 7356 | H16: 3589 | I16: 3767 | J16: =SUM(K16:L16) -> 62 | K16: 25 | L16: 37
A17: 학 운 동 | B17: 5126 | C17: =SUM(G17,J17) -> 13488 | D17: =SUM(H17,K17) -> 6476 | E17: =SUM(I17,L17) -> 7012 | F17: 5126 | G17: 13407 | H17: 6425 | I17: 6982 | J17: =SUM(K17:L17) -> 81 | K17: 51 | L17: 30
A18: 지원1동 | B18: 3454 | C18: =SUM(G18,J18) -> 8424 | D18: =SUM(H18,K18) -> 4187 | E18: =SUM(I18,L18) -> 4237 | F18: 3454 | G18: 8379 | H18: 4170 | I18: 4209 | J18: =SUM(K18:L18) -> 45 | K18: 17 | L18: 28
A19: 지원2동 | B19: 3827 | C19: =SUM(G19,J19) -> 8911 | D19: =SUM(H19,K19) -> 4524 | E19: =SUM(I19,L19) -> 4387 | F19: 3827 | G19: 8852 | H19: 4483 | I19: 4369 | J19: =SUM(K19:L19) -> 59 | K19: 41 | L19: 18
A21: ○ 서 구
B22: 합 계 | F22: 한 국 인 | J22: 외 국 인
A23: 구 분 | B23: 세 대 | C23: 인 구 | F23: 세 대 | G23: 인 구 | J23: 인 구
C24: 계 | D24: 남 | E24: 여 | G24: 계 | H24: 남 | I24: 여 | J24: 계 | K24: 남 | L24: 여
A25: 2015 | B25: 120107 | C25: =SUM(C26:C43) -> 306717 | D25: =SUM(D26:D43) -> 150759 | E25: =SUM(E26:E43) -> 155958 | F25: 120107 | G25: 305028 | H25: 149987 | I25: 155041 | J25: =SUM(J26:J43) -> 1689 | K25: =SUM(K26:K43) -> 772 | L25: =SUM(L26:L43) -> 917
A26: 양 동 | B26: 2395 | C26: =SUM(D26:E26) -> 4834 | D26: =SUM(H26,K26) -> 2386 | E26: =SUM(I26,L26) -> 2448 | F26: 2395 | G26: 4789 | H26: 2372 | I26: 2417 | J26: =SUM(K26:L26) -> 45 | K26: 14 | L26: 31
A27: 양 3 동 | B27: 2235 | C27: =SUM(D27:E27) -> 5324 | D27: =SUM(H27,K27) -> 2653 | E27: =SUM(I27,L27) -> 2671 | F27: 2235 | G27: 5302 | H27: 2647 | I27: 2655 | J27: =SUM(K27:L27) -> 22 | K27: 6 | L27: 16
A28: 농성 1동 | B28: 4236 | C28: =SUM(D28:E28) -> 8610 | D28: =SUM(H28,K28) -> 4338 | E28: =SUM(I28,L28) -> 4272 | F28: 4236 | G28: 8545 | H28: 4307 | I28: 4238 | J28: =SUM(K28:L28) -> 65 | K28: 31 | L28: 34
A29: 농성 2동 | B29: 2918 | C29: =SUM(D29:E29) -> 5926 | D29: =SUM(H29,K29) -> 3060 | E29: =SUM(I29,L29) -> 2866 | F29: 2918 | G29: 5886 | H29: 3043 | I29: 2843 | J29: =SUM(K29:L29) -> 40 | K29: 17 | L29: 23
A30: 광 천 동 | B30: 4663 | C30: =SUM(D30:E30) -> 10300 | D30: =SUM(H30,K30) -> 5198 | E30: =SUM(I30,L30) -> 5102 | F30: 4663 | G30: 10242 | H30: 5173 | I30: 5069 | J30: =SUM(K30:L30) -> 58 | K30: 25 | L30: 33
A31: 유 덕 동 | B31: 4529 | C31: =SUM(D31:E31) -> 11890 | D31: =SUM(H31,K31) -> 6047 | E31: =SUM(I31,L31) -> 5843 | F31: 4529 | G31: 11777 | H31: 5988 | I31: 5789 | J31: =SUM(K31:L31) -> 113 | K31: 59 | L31: 54
A32: 치 평 동 | B32: 11554 | C32: =SUM(D32:E32) -> 30775 | D32: =SUM(H32,K32) -> 14924 | E32: =SUM(I32,L32) -> 15851 | F32: 11554 | G32: 30588 | H32: 14838 | I32: 15750 | J32: =SUM(K32:L32) -> 187 | K32: 86 | L32: 101
A33: 상무 1동 | B33: 10067 | C33: =SUM(D33:E33) -> 24109 | D33: =SUM(H33,K33) -> 11984 | E33: =SUM(I33,L33) -> 12125 | F33: 10067 | G33: 23931 | H33: 11905 | I33: 12026 | J33: =SUM(K33:L33) -> 178 | K33: 79 | L33: 99
A34: 상무 2동 | B34: 11722 | C34: =SUM(D34:E34) -> 25510 | D34: =SUM(H34,K34) -> 12522 | E34: =SUM(I34,L34) -> 12988 | F34: 11722 | G34: 25330 | H34: 12444 | I34: 12886 | J34: =SUM(K34:L34) -> 180 | K34: 78 | L34: 102
A35: 화정 1동 | B35: 7411 | C35: =SUM(D35:E35) -> 16575 | D35: =SUM(H35,K35) -> 8021 | E35: =SUM(I35,L35) -> 8554 | F35: 7411 | G35: 16473 | H35: 7985 | I35: 8488 | J35: =SUM(K35:L35) -> 102 | K35: 36 | L35: 66
A36: 화정 2동 | B36: 4499 | C36: =SUM(D36:E36) -> 11877 | D36: =SUM(H36,K36) -> 5936 | E36: =SUM(I36,L36) -> 5941 | F36: 4499 | G36: 11834 | H36: 5921 | I36: 5913 | J36: =SUM(K36:L36) -> 43 | K36: 15 | L36: 28
A37: 화정 3동 | B37: 4611 | C37: =SUM(D37:E37) -> 12141 | D37: =SUM(H37,K37) -> 6066 | E37: =SUM(I37,L37) -> 6075 | F37: 4611 | G37: 12109 | H37: 6057 | I37: 6052 | J37: =SUM(K37:L37) -> 32 | K37: 9 | L37: 23
... A43: 동 천 동 | B43: 6367 | C43: =SUM(D43:E43) -> 18196 | D43: =SUM(H43,K43) -> 8727 | E43: =SUM(I43,L43) -> 9469 | F43: 6367 | G43: 18091 | H43: 8660 | I43: 9431 | J43: =SUM(K43:L43) -> 105 | K43: 67 | L43: 38
A44: ○ 남 구
B45: 합 계 | F45: 한 국 인 | J45: 외 국 인
A46: 구 분 | B46: 세 대 | C46: 인 구 | F46: 세 대 | G46: 인 구 | J46: 인 구
C47: 계 | D47: 남 | E47: 여 | G47: 계 | H47: 남 | I47: 여 | J47: 계 | K47: 남 | L47: 여
A48: 2015 | B48: =SUM(B49:B64) -> 87473 | C48: =SUM(C49:C64) -> 222741 | D48: =SUM(D49:D64) -> 107650 | E48: =SUM(E49:E64) -> 115091 | F48: =SUM(F49:F64) -> 87473 | G48: =SUM(G49:G64) -> 221318 | H48: =SUM(H49:H64) -> 107110 | I48: =SUM(I49:I64) -> 114208 | ... L48: =SUM(L49:L64) -> 883
A49: 양 림 동 | B49: =F49 -> 3571 | C49: =SUM(D49:E49) -> 8766 | D49: =H49+K49 -> 4158 | E49: =I49+L49 -> 4608 | F49: 3571 | G49: =SUM(H49:I49) -> 8714 | H49: 4139 | I49: 4575 | J49: =SUM(K49:L49) -> 52 | K49: 19 | L49: 33
A50: 방림 1동 | B50: =F50 -> 3259 | C50: =SUM(D50:E50) -> 8108 | D50: =H50+K50 -> 3902 | E50: =I50+L50 -> 4206 | F50: 3259 | G50: =SUM(H50:I50) -> 8077 | H50: 3895 | I50: 4182 | J50: =SUM(K50:L50) -> 31 | K50: 7 | L50: 24
A51: 방림 2동 | B51: =F51 -> 4402 | C51: =SUM(D51:E51) -> 10868 | D51: =H51+K51 -> 5226 | E51: =I51+L51 -> 5642 | F51: 4402 | G51: =SUM(H51:I51) -> 10835 | H51: 5219 | I51: 5616 | J51: =SUM(K51:L51) -> 33 | K51: 7 | L51: 26
A52: 봉선 1동 | B52: =F52 -> 7127 | C52: =SUM(D52:E52) -> 17291 | D52: =H52+K52 -> 8236 | E52: =I52+L52 -> 9055 | F52: 7127 | G52: =SUM(H52:I52) -> 17163 | H52: 8180 | I52: 8983 | J52: =SUM(K52:L52) -> 128 | K52: 56 | L52: 72
A53: 봉선 2동 | B53: =F53 -> 9297 | C53: =SUM(D53:E53) -> 29740 | D53: =H53+K53 -> 13961 | E53: =I53+L53 -> 15779 | F53: 9297 | G53: =SUM(H53:I53) -> 29680 | H53: 13936 | I53: 15744 | J53: =SUM(K53:L53) -> 60 | K53: 25 | L53: 35
A54: 사 직 동 | B54: =F54 -> 2942 | C54: =SUM(D54:E54) -> 5462 | D54: =H54+K54 -> 2796 | E54: =I54+L54 -> 2666 | F54: 2942 | G54: =SUM(H54:I54) -> 5415 | H54: 2766 | I54: 2649 | J54: =SUM(K54:L54) -> 47 | K54: 30 | L54: 17
A55: 월 산 동 | B55: =F55 -> 4991 | C55: =SUM(D55:E55) -> 10059 | D55: =H55+K55 -> 5105 | E55: =I55+L55 -> 4954 | F55: 4991 | G55: =SUM(H55:I55) -> 9978 | H55: 5078 | I55: 4900 | J55: =SUM(K55:L55) -> 81 | K55: 27 | L55: 54
A56: 월산 4동 | B56: =F56 -> 4811 | C56: =SUM(D56:E56) -> 10450 | D56: =H56+K56 -> 5299 | E56: =I56+L56 -> 5151 | F56: 4811 | G56: =SUM(H56:I56) -> 10365 | H56: 5269 | I56: 5096 | J56: =SUM(K56:L56) -> 85 | K56: 30 | L56: 55
A57: 월산 5동 | B57: =F57 -> 3542 | C57: =SUM(D57:E57) -> 7788 | D57: =H57+K57 -> 3881 | E57: =I57+L57 -> 3907 | F57: 3542 | G57: =SUM(H57:I57) -> 7743 | H57: 3865 | I57: 3878 | J57: =SUM(K57:L57) -> 45 | K57: 16 | L57: 29
A58: 백운 1동 | B58: =F58 -> 5326 | C58: =SUM(D58:E58) -> 14184 | D58: =H58+K58 -> 6777 | E58: =I58+L58 -> 7407 | F58: 5326 | G58: =SUM(H58:I58) -> 14131 | H58: 6761 | I58: 7370 | J58: =SUM(K58:L58) -> 53 | K58: 16 | L58: 37
A59: 백운 2동 | B59: =F59 -> 2683 | C59: =SUM(D59:E59) -> 5322 | D59: =H59+K59 -> 2673 | E59: =I59+L59 -> 2649 | F59: 2683 | G59: =SUM(H59:I59) -> 5274 | H59: 2660 | I59: 2614 | J59: =SUM(K59:L59) -> 48 | K59: 13 | L59: 35
A60: 주월 1동 | B60: =F60 -> 8115 | C60: =SUM(D60:E60) -> 21035 | D60: =H60+K60 -> 10288 | E60: =I60+L60 -> 10747 | F60: 8115 | G60: =SUM(H60:I60) -> 20915 | H60: 10248 | I60: 10667 | J60: =SUM(K60:L60) -> 120 | K60: 40 | L60: 80
... A64: 대 촌 동 | B64: =F64 -> 2827 | C64: =SUM(D64:E64) -> 6146 | D64: =H64+K64 -> 2992 | E64: =I64+L64 -> 3154 | F64: 2827 | G64: =SUM(H64:I64) -> 6094 | H64: 2974 | I64: 3120 | J64: =SUM(K64:L64) -> 52 | K64: 18 | L64: 34
A66: ○ 북 구
B67: 합 계 | F67: 한 국 인 | J67: 외 국 인
A68: 구 분 | B68: 세 대 | C68: 인 구 | F68: 세 대 | G68: 인 구 | J68: 인 구
C69: 계 | D69: 남 | E69: 여 | G69: 계 | H69: 남 | I69: 여 | J69: 계 | K69: 남 | L69: 여
A70: 2015 | B70: =SUM(B71:B97) -> 178735 | C70: =SUM(C71:C97) -> 450749 | D70: =SUM(D71:D97) -> 223977 | E70: =SUM(E71:E97) -> 226772 | F70: =SUM(F71:F97) -> 178735 | G70: =SUM(G71:G97) -> 446316 | H70: =SUM(H71:H97) -> 221958 | I70: =SUM(I71:I97) -> 224358 | ... L70: =SUM(L71:L97) -> 2414
A71: 중흥 1동 | B71: 2128 | C71: =SUM(G71,J71) -> 3954 | D71: =SUM(H71,K71) -> 2159 | E71: =SUM(I71,L71) -> 1795 | F71: 2128 | G71: =SUM(H71:I71) -> 3916 | H71: 2142 | I71: 1774 | J71: =SUM(K71:L71) -> 38 | K71: 17 | L71: 21
A72: 중흥 2동 | B72: 4150 | C72: =SUM(G72,J72) -> 8765 | D72: =SUM(H72,K72) -> 4447 | E72: =SUM(I72,L72) -> 4318 | F72: 4150 | G72: =SUM(H72:I72) -> 8699 | H72: 4425 | I72: 4274 | J72: =SUM(K72:L72) -> 66 | K72: 22 | L72: 44
A73: 중흥 3동 | B73: 2957 | C73: =SUM(G73,J73) -> 5845 | D73: =SUM(H73,K73) -> 3034 | E73: =SUM(I73,L73) -> 2811 | F73: 2957 | G73: =SUM(H73:I73) -> 5814 | H73: 3027 | I73: 2787 | J73: =SUM(K73:L73) -> 31 | K73: 7 | L73: 24
A74: 중 앙 동 | B74: 2226 | C74: =SUM(G74,J74) -> 3971 | D74: =SUM(H74,K74) -> 2097 | E74: =SUM(I74,L74) -> 1874 | F74: 2226 | G74: =SUM(H74:I74) -> 3944 | H74: 2087 | I74: 1857 | J74: =SUM(K74:L74) -> 27 | K74: 10 | L74: 17
A75: 임 동 | B75: 4354 | C75: =SUM(G75,J75) -> 10091 | D75: =SUM(H75,K75) -> 5044 | E75: =SUM(I75,L75) -> 5047 | F75: 4354 | G75: =SUM(H75:I75) -> 10010 | H75: 5024 | I75: 4986 | J75: =SUM(K75:L75) -> 81 | K75: 20 | L75: 61
A76: 신 안 동 | B76: 6113 | C76: =SUM(G76,J76) -> 11972 | D76: =SUM(H76,K76) -> 6257 | E76: =SUM(I76,L76) -> 5715 | F76: 6113 | G76: =SUM(H76:I76) -> 11877 | H76: 6226 | I76: 5651 | J76: =SUM(K76:L76) -> 95 | K76: 31 | L76: 64
A77: 용 봉 동 | B77: 15173 | C77: =SUM(G77,J77) -> 40752 | D77: =SUM(H77,K77) -> 20300 | E77: =SUM(I77,L77) -> 20452 | F77: 15173 | G77: =SUM(H77:I77) -> 39368 | H77: 19604 | I77: 19764 | J77: =SUM(K77:L77) -> 1384 | K77: 696 | L77: 688
A78: 운암 1동 | B78: 7191 | C78: =SUM(G78,J78) -> 20811 | D78: =SUM(H78,K78) -> 10096 | E78: =SUM(I78,L78) -> 10715 | F78: 7191 | G78: =SUM(H78:I78) -> 20743 | H78: 10067 | I78: 10676 | J78: =SUM(K78:L78) -> 68 | K78: 29 | L78: 39
A79: 운암 2동 | B79: 6179 | C79: =SUM(G79,J79) -> 14535 | D79: =SUM(H79,K79) -> 7363 | E79: =SUM(I79,L79) -> 7172 | F79: 6179 | G79: =SUM(H79:I79) -> 14418 | H79: 7326 | I79: 7092 | J79: =SUM(K79:L79) -> 117 | K79: 37 | L79: 80
A80: 운암 3동 | B80: 6473 | C80: =SUM(G80,J80) -> 17894 | D80: =SUM(H80,K80) -> 8650 | E80: =SUM(I80,L80) -> 9244 | F80: 6473 | G80: =SUM(H80:I80) -> 17836 | H80: 8636 | I80: 9200 | J80: =SUM(K80:L80) -> 58 | K80: 14 | L80: 44
A81: 동 림 동 | B81: 8036 | C81: =SUM(G81,J81) -> 21832 | D81: =SUM(H81,K81) -> 10813 | E81: =SUM(I81,L81) -> 11019 | F81: 8036 | G81: =SUM(H81:I81) -> 21734 | H81: 10779 | I81: 10955 | J81: =SUM(K81:L81) -> 98 | K81: 34 | L81: 64
A82: 우 산 동 | B82: 6736 | C82: =SUM(G82,J82) -> 14011 | D82: =SUM(H82,K82) -> 6872 | E82: =SUM(I82,L82) -> 7139 | F82: 6736 | G82: =SUM(H82:I82) -> 13922 | H82: 6846 | I82: 7076 | J82: =SUM(K82:L82) -> 89 | K82: 26 | L82: 63
... A97: 양 산 동 | B97: 13767 | C97: =SUM(G97,J97) -> 36857 | D97: =SUM(H97,K97) -> 18517 | E97: =SUM(I97,L97) -> 18340 | F97: 13767 | G97: =SUM(H97:I97) -> 36407 | H97: 18251 | I97: 18156 | J97: =SUM(K97:L97) -> 450 | K97: 266 | L97: 184
A98: ○ 광 산 구
B99: 합 계 | F99: 한 국 인 | J99: 외 국 인
A100: 구 분 | B100: 세 대 | C100: 인 구 | F100: 세 대 | G100: 인 구 | J100: 인 구
C101: 계 | D101: 남 | E101: 여 | G101: 계 | H101: 남 | I101: 여 | J101: 계 | K101: 남 | L101: 여
A102: 2015 | B102: =SUM(B103:B123) -> 148252 | C102: =SUM(C103:C123) -> 410557 | D102: =SUM(D103:D123) -> 207402 | E102: =SUM(E103:E123) -> 203155 | F102: =SUM(F103:F123) -> 148252 | G102: =SUM(G103:G123) -> 400753 | H102: =SUM(H103:H123) -> 201245 | I102: =SUM(I103:I123) -> 199508 | ... L102: =SUM(L103:L123) -> 3647
A103: 송정 1동 | B103: =F103 -> 4516 | C103: =SUM(D103:E103) -> 11863 | D103: =SUM(H103,K103) -> 6043 | E103: =SUM(I103,L103) -> 5820 | F103: 4516 | G103: =SUM(H103:I103) -> 11607 | H103: 5930 | I103: 5677 | J103: =SUM(K103:L103) -> 256 | K103: 113 | L103: 143
A104: 송정 2동 | B104: =F104 -> 2906 | C104: =SUM(D104:E104) -> 6488 | D104: =SUM(H104,K104) -> 3244 | E104: =SUM(I104,L104) -> 3244 | F104: 2906 | G104: =SUM(H104:I104) -> 6390 | H104: 3202 | I104: 3188 | J104: =SUM(K104:L104) -> 98 | K104: 42 | L104: 56
A105: 도 산 동 | B105: =F105 -> 5778 | C105: =SUM(D105:E105) -> 14711 | D105: =SUM(H105,K105) -> 7411 | E105: =SUM(I105,L105) -> 7300 | F105: 5778 | G105: =SUM(H105:I105) -> 14561 | H105: 7354 | I105: 7207 | J105: =SUM(K105:L105) -> 150 | K105: 57 | L105: 93
A106: 신 흥 동 | B106: =F106 -> 1982 | C106: =SUM(D106:E106) -> 4981 | D106: =SUM(H106,K106) -> 2518 | E106: =SUM(I106,L106) -> 2463 | F106: 1982 | G106: =SUM(H106:I106) -> 4907 | H106: 2481 | I106: 2426 | J106: =SUM(K106:L106) -> 74 | K106: 37 | L106: 37
A107: 어 룡 동 | B107: =F107 -> 11318 | C107: =SUM(D107:E107) -> 30225 | D107: =SUM(H107,K107) -> 15417 | E107: =SUM(I107,L107) -> 14808 | F107: 11318 | G107: =SUM(H107:I107) -> 29106 | H107: 14833 | I107: 14273 | J107: =SUM(K107:L107) -> 1119 | K107: 584 | L107: 535
A108: 우 산 동 | B108: =F108 -> 11475 | C108: =SUM(D108:E108) -> 25342 | D108: =SUM(H108,K108) -> 12751 | E108: =SUM(I108,L108) -> 12591 | F108: 11475 | G108: =SUM(H108:I108) -> 25014 | H108: 12606 | I108: 12408 | J108: =SUM(K108:L108) -> 328 | K108: 145 | L108: 183
A109: 월곡 1동 | B109: =F109 -> 5467 | C109: =SUM(D109:E109) -> 14385 | D109: =SUM(H109,K109) -> 7352 | E109: =SUM(I109,L109) -> 7033 | F109: 5467 | G109: =SUM(H109:I109) -> 13781 | H109: 7034 | I109: 6747 | J109: =SUM(K109:L109) -> 604 | K109: 318 | L109: 286
A110: 월곡 2동 | B110: =F110 -> 7249 | C110: =SUM(D110:E110) -> 21029 | D110: =SUM(H110,K110) -> 10726 | E110: =SUM(I110,L110) -> 10303 | F110: 7249 | G110: =SUM(H110:I110) -> 19372 | H110: 9967 | I110: 9405 | J110: =SUM(K110:L110) -> 1657 | K110: 759 | L110: 898
A111: 비 아 동 | B111: =F111 -> 3020 | C111: =SUM(D111:E111) -> 7639 | D111: =SUM(H111,K111) -> 4207 | E111: =SUM(I111,L111) -> 3432 | F111: 3020 | G111: =SUM(H111:I111) -> 7079 | H111: 3780 | I111: 3299 | J111: =SUM(K111:L111) -> 560 | K111: 427 | L111: 133
A112: 첨단 1동 | B112: =F112 -> 7405 | C112: =SUM(D112:E112) -> 24238 | D112: =SUM(H112,K112) -> 12028 | E112: =SUM(I112,L112) -> 12210 | F112: 7405 | G112: =SUM(H112:I112) -> 24178 | H112: 12004 | I112: 12174 | J112: =SUM(K112:L112) -> 60 | K112: 24 | L112: 36
A113: 첨단 2동 | B113: =F113 -> 14960 | C113: =SUM(D113:E113) -> 42547 | D113: =SUM(H113,K113) -> 21183 | E113: =SUM(I113,L113) -> 21364 | F113: 14960 | G113: =SUM(H113:I113) -> 42093 | H113: 20960 | I113: 21133 | J113: =SUM(K113:L113) -> 454 | K113: 223 | L113: 231
A114: 신 가 동 | B114: =F114 -> 9037 | C114: =SUM(D114:E114) -> 24874 | D114: =SUM(H114,K114) -> 12608 | E114: =SUM(I114,L114) -> 12266 | F114: 9037 | G114: =SUM(H114:I114) -> 24640 | H114: 12519 | I114: 12121 | J114: =SUM(K114:L114) -> 234 | K114: 89 | L114: 145
... A123: 본 량 동 | B123: =F123 -> 1170 | C123: =SUM(D123:E123) -> 2224 | D123: =SUM(H123,K123) -> 1113 | E123: =SUM(I123,L123) -> 1111 | F123: 1170 | G123: =SUM(H123:I123) -> 2206 | H123: 1105 | I123: 1101 | J123: =SUM(K123:L123) -> 18 | K123: 8 | L123: 10

Sheet 2016년
A1: 2. 동별 세대 및 인구 (동구~광산구)
A2: ○ 동 구
B3: 합 계 | F3: 내 국 인 | J3: 외 국 인
A4: 구 분 | B4: 세 대 | C4: 인 구 | F4: 세 대 | G4: 인 구 | J4: 인 구
C5: 계 | D5: 남 | E5: 여 | G5: 계 | H5: 남 | I5: 여 | J5: 계 | K5: 남 | L5: 여
A6: 총 계 | B6: =SUM(B7:B19) -> 45095 | C6: =SUM(C7:C19) -> 97045 | D6: =SUM(D7:D19) -> 48415 | E6: =SUM(E7:E19) -> 48630 | F6: =SUM(F7:F19) -> 45095 | G6: =SUM(G7:G19) -> 95791 | H6: =SUM(H7:H19) -> 47823 | I6: =SUM(I7:I19) -> 47968 | ... L6: =SUM(L7:L19) -> 662
A7: 충 장 동 | B7: 2968 | C7: =G7+J7 -> 4695 | D7: =H7+K7 -> 2523 | E7: =I7+L7 -> 2172 | F7: 2968 | G7: 4599 | H7: 2472 | I7: 2127 | J7: =SUM(K7:L7) -> 96 | K7: 51 | L7: 45
A8: 동 명 동 | B8: 2487 | C8: =G8+J8 -> 4621 | D8: =H8+K8 -> 2322 | E8: =I8+L8 -> 2299 | F8: 2487 | G8: 4561 | H8: 2295 | I8: 2266 | J8: =SUM(K8:L8) -> 60 | K8: 27 | L8: 33
A9: 계림1동 | B9: 4026 | C9: =G9+J9 -> 6983 | D9: =H9+K9 -> 3669 | E9: =I9+L9 -> 3314 | F9: 4026 | G9: 6930 | H9: 3650 | I9: 3280 | J9: =SUM(K9:L9) -> 53 | K9: 19 | L9: 34
A10: 계림2동 | B10: 4176 | C10: =G10+J10 -> 9627 | D10: =H10+K10 -> 4842 | E10: =I10+L10 -> 4785 | F10: 4176 | G10: 9589 | H10: 4831 | I10: 4758 | J10: =SUM(K10:L10) -> 38 | K10: 11 | L10: 27
A11: 산수1동 | B11: 3501 | C11: =G11+J11 -> 6917 | D11: =H11+K11 -> 3489 | E11: =I11+L11 -> 3428 | F11: 3501 | G11: 6851 | H11: 3464 | I11: 3387 | J11: =SUM(K11:L11) -> 66 | K11: 25 | L11: 41
A12: 산수2동 | B12: 4421 | C12: =G12+J12 -> 10881 | D12: =H12+K12 -> 5268 | E12: =I12+L12 -> 5613 | F12: 4421 | G12: 10836 | H12: 5249 | I12: 5587 | J12: =SUM(K12:L12) -> 45 | K12: 19 | L12: 26
A13: 지산1동 | B13: 2336 | C13: =G13+J13 -> 5016 | D13: =H13+K13 -> 2500 | E13: =I13+L13 -> 2516 | F13: 2336 | G13: 4876 | H13: 2439 | I13: 2437 | J13: =SUM(K13:L13) -> 140 | K13: 61 | L13: 79
A14: 지산2동 | B14: 2624 | C14: =G14+J14 -> 5730 | D14: =H14+K14 -> 2894 | E14: =I14+L14 -> 2836 | F14: 2624 | G14: 5664 | H14: 2854 | I14: 2810 | J14: =SUM(K14:L14) -> 66 | K14: 40 | L14: 26
A15: 서 남 동 | B15: 2243 | C15: =G15+J15 -> 4063 | D15: =H15+K15 -> 2015 | E15: =I15+L15 -> 2048 | F15: 2243 | G15: 3636 | H15: 1820 | I15: 1816 | J15: =SUM(K15:L15) -> 427 | K15: 195 | L15: 232
A16: 학 동 | B16: 3452 | C16: =G16+J16 -> 7033 | D16: =H16+K16 -> 3448 | E16: =I16+L16 -> 3585 | F16: 3452 | G16: 6972 | H16: 3418 | I16: 3554 | J16: =SUM(K16:L16) -> 61 | K16: 30 | L16: 31
A17: 학 운 동 | B17: 5155 | C17: =G17+J17 -> 13341 | D17: =H17+K17 -> 6408 | E17: =I17+L17 -> 6933 | F17: 5155 | G17: 13225 | H17: 6330 | I17: 6895 | J17: =SUM(K17:L17) -> 116 | K17: 78 | L17: 38
A18: 지원1동 | B18: 3257 | C18: =G18+J18 -> 7840 | D18: =H18+K18 -> 3877 | E18: =I18+L18 -> 3963 | F18: 3257 | G18: 7795 | H18: 3861 | I18: 3934 | J18: =SUM(K18:L18) -> 45 | K18: 16 | L18: 29
A19: 지원2동 | B19: 4449 | C19: =G19+J19 -> 10298 | D19: =H19+K19 -> 5160 | E19: =I19+L19 -> 5138 | F19: 4449 | G19: 10257 | H19: 5140 | I19: 5117 | J19: =SUM(K19:L19) -> 41 | K19: 20 | L19: 21
A21: ○ 서 구
B22: 합 계 | F22: 내 국 인 | J22: 외 국 인
A23: 구 분 | B23: 세 대 | C23: 인 구 | F23: 세 대 | G23: 인 구 | J23: 인 구
C24: 계 | D24: 남 | E24: 여 | G24: 계 | H24: 남 | I24: 여 | J24: 계 | K24: 남 | L24: 여
A25: 총 계 | B25: =SUM(B26:B43) -> 123500 | C25: =SUM(C26:C43) -> 311281 | D25: =SUM(D26:D43) -> 153009 | E25: =SUM(E26:E43) -> 158272 | F25: =SUM(F26:F43) -> 123500 | G25: =SUM(G26:G43) -> 309579 | H25: =SUM(H26:H43) -> 152246 | I25: =SUM(I26:I43) -> 157333 | ... L25: =SUM(L26:L43) -> 939
A26: 양 동 | B26: 2367 | C26: =SUM(D26:E26) -> 4712 | D26: =SUM(H26,K26) -> 2329 | E26: =SUM(I26,L26) -> 2383 | F26: =B26 -> 2367 | G26: =SUM(H26:I26) -> 4671 | H26: 2314 | I26: 2357 | J26: =SUM(K26:L26) -> 41 | K26: 15 | L26: 26
A27: 양 3 동 | B27: 2194 | C27: =SUM(D27:E27) -> 5168 | D27: =SUM(H27,K27) -> 2572 | E27: =SUM(I27,L27) -> 2596 | F27: =B27 -> 2194 | G27: =SUM(H27:I27) -> 5146 | H27: 2564 | I27: 2582 | J27: =SUM(K27:L27) -> 22 | K27: 8 | L27: 14
A28: 농성 1동 | B28: 4237 | C28: =SUM(D28:E28) -> 8424 | D28: =SUM(H28,K28) -> 4215 | E28: =SUM(I28,L28) -> 4209 | F28: =B28 -> 4237 | G28: =SUM(H28:I28) -> 8362 | H28: 4188 | I28: 4174 | J28: =SUM(K28:L28) -> 62 | K28: 27 | L28: 35
A29: 농성 2동 | B29: 2900 | C29: =SUM(D29:E29) -> 5752 | D29: =SUM(H29,K29) -> 2967 | E29: =SUM(I29,L29) -> 2785 | F29: =B29 -> 2900 | G29: =SUM(H29:I29) -> 5708 | H29: 2947 | I29: 2761 | J29: =SUM(K29:L29) -> 44 | K29: 20 | L29: 24
A30: 광 천 동 | B30: 4506 | C30: =SUM(D30:E30) -> 9894 | D30: =SUM(H30,K30) -> 4988 | E30: =SUM(I30,L30) -> 4906 | F30: =B30 -> 4506 | G30: =SUM(H30:I30) -> 9838 | H30: 4964 | I30: 4874 | J30: =SUM(K30:L30) -> 56 | K30: 24 | L30: 32
A31: 유 덕 동 | B31: 4492 | C31: =SUM(D31:E31) -> 11614 | D31: =SUM(H31,K31) -> 5909 | E31: =SUM(I31,L31) -> 5705 | F31: =B31 -> 4492 | G31: =SUM(H31:I31) -> 11486 | H31: 5843 | I31: 5643 | J31: =SUM(K31:L31) -> 128 | K31: 66 | L31: 62
A32: 치 평 동 | B32: 12024 | C32: =SUM(D32:E32) -> 31360 | D32: =SUM(H32,K32) -> 15185 | E32: =SUM(I32,L32) -> 16175 | F32: =B32 -> 12024 | G32: =SUM(H32:I32) -> 31172 | H32: 15104 | I32: 16068 | J32: =SUM(K32:L32) -> 188 | K32: 81 | L32: 107
A33: 상무 1동 | B33: 10254 | C33: =SUM(D33:E33) -> 23847 | D33: =SUM(H33,K33) -> 11890 | E33: =SUM(I33,L33) -> 11957 | F33: =B33 -> 10254 | G33: =SUM(H33:I33) -> 23692 | H33: 11822 | I33: 11870 | J33: =SUM(K33:L33) -> 155 | K33: 68 | L33: 87
A34: 상무 2동 | B34: 12184 | C34: =SUM(D34:E34) -> 26152 | D34: =SUM(H34,K34) -> 12879 | E34: =SUM(I34,L34) -> 13273 | F34: =B34 -> 12184 | G34: =SUM(H34:I34) -> 25964 | H34: 12798 | I34: 13166 | J34: =SUM(K34:L34) -> 188 | K34: 81 | L34: 107
A35: 화정 1동 | B35: 7318 | C35: =SUM(D35:E35) -> 16087 | D35: =SUM(H35,K35) -> 7770 | E35: =SUM(I35,L35) -> 8317 | F35: =B35 -> 7318 | G35: =SUM(H35:I35) -> 15989 | H35: 7740 | I35: 8249 | J35: =SUM(K35:L35) -> 98 | K35: 30 | L35: 68
A36: 화정 2동 | B36: 7576 | C36: =SUM(D36:E36) -> 20860 | D36: =SUM(H36,K36) -> 10434 | E36: =SUM(I36,L36) -> 10426 | F36: =B36 -> 7576 | G36: =SUM(H36:I36) -> 20807 | H36: 10419 | I36: 10388 | J36: =SUM(K36:L36) -> 53 | K36: 15 | L36: 38
A37: 화정 3동 | B37: 4494 | C37: =SUM(D37:E37) -> 11552 | D37: =SUM(H37,K37) -> 5687 | E37: =SUM(I37,L37) -> 5865 | F37: =B37 -> 4494 | G37: =SUM(H37:I37) -> 11524 | H37: 5681 | I37: 5843 | J37: =SUM(K37:L37) -> 28 | K37: 6 | L37: 22
... A43: 동 천 동 | B43: 6382 | C43: =SUM(D43:E43) -> 18073 | D43: =SUM(H43,K43) -> 8662 | E43: =SUM(I43,L43) -> 9411 | F43: =B43 -> 6382 | G43: =SUM(H43:I43) -> 17950 | H43: 8579 | I43: 9371 | J43: =SUM(K43:L43) -> 123 | K43: 83 | L43: 40
A45: ○ 남 구
B46: 합 계 | F46: 내 국 인 | J46: 외 국 인
A47: 구 분 | B47: 세 대 | C47: 인 구 | F47: 세 대 | G47: 인 구 | J47: 인 구
C48: 계 | D48: 남 | E48: 여 | G48: 계 | H48: 남 | I48: 여 | J48: 계 | K48: 남 | L48: 여
A49: 총 계 | B49: =SUM(B50:B65) -> 87879 | C49: =SUM(C50:C65) -> 221189 | D49: =SUM(D50:D65) -> 106829 | E49: =SUM(E50:E65) -> 114360 | F49: =SUM(F50:F65) -> 87879 | G49: =SUM(G50:G65) -> 219729 | H49: =SUM(H50:H65) -> 106288 | I49: =SUM(I50:I65) -> 113441 | ... L49: =SUM(L50:L65) -> 919
A50: 양 림 동 | B50: =F50 -> 3506 | C50: =SUM(D50:E50) -> 8512 | D50: =H50+K50 -> 4026 | E50: =I50+L50 -> 4486 | F50: 3506 | G50: =SUM(H50:I50) -> 8459 | H50: 4006 | I50: 4453 | J50: =SUM(K50:L50) -> 53 | K50: 20 | L50: 33
A51: 방림 1동 | B51: =F51 -> 3217 | C51: =SUM(D51:E51) -> 7977 | D51: =H51+K51 -> 3836 | E51: =I51+L51 -> 4141 | F51: 3217 | G51: =SUM(H51:I51) -> 7930 | H51: 3825 | I51: 4105 | J51: =SUM(K51:L51) -> 47 | K51: 11 | L51: 36
A52: 방림 2동 | B52: =F52 -> 4313 | C52: =SUM(D52:E52) -> 10592 | D52: =H52+K52 -> 5073 | E52: =I52+L52 -> 5519 | F52: 4313 | G52: =SUM(H52:I52) -> 10557 | H52: 5062 | I52: 5495 | J52: =SUM(K52:L52) -> 35 | K52: 11 | L52: 24
A53: 봉선 1동 | B53: =F53 -> 7037 | C53: =SUM(D53:E53) -> 16808 | D53: =H53+K53 -> 8013 | E53: =I53+L53 -> 8795 | F53: 7037 | G53: =SUM(H53:I53) -> 16686 | H53: 7964 | I53: 8722 | J53: =SUM(K53:L53) -> 122 | K53: 49 | L53: 73
A54: 봉선 2동 | B54: =F54 -> 9353 | C54: =SUM(D54:E54) -> 29610 | D54: =H54+K54 -> 13896 | E54: =I54+L54 -> 15714 | F54: 9353 | G54: =SUM(H54:I54) -> 29534 | H54: 13860 | I54: 15674 | J54: =SUM(K54:L54) -> 76 | K54: 36 | L54: 40
A55: 사 직 동 | B55: =F55 -> 2921 | C55: =SUM(D55:E55) -> 5303 | D55: =H55+K55 -> 2730 | E55: =I55+L55 -> 2573 | F55: 2921 | G55: =SUM(H55:I55) -> 5263 | H55: 2714 | I55: 2549 | J55: =SUM(K55:L55) -> 40 | K55: 16 | L55: 24
A56: 월 산 동 | B56: =F56 -> 5031 | C56: =SUM(D56:E56) -> 9942 | D56: =H56+K56 -> 5081 | E56: =I56+L56 -> 4861 | F56: 5031 | G56: =SUM(H56:I56) -> 9874 | H56: 5058 | I56: 4816 | J56: =SUM(K56:L56) -> 68 | K56: 23 | L56: 45
A57: 월산 4동 | B57: =F57 -> 4735 | C57: =SUM(D57:E57) -> 10054 | D57: =H57+K57 -> 5114 | E57: =I57+L57 -> 4940 | F57: 4735 | G57: =SUM(H57:I57) -> 9957 | H57: 5086 | I57: 4871 | J57: =SUM(K57:L57) -> 97 | K57: 28 | L57: 69
A58: 월산 5동 | B58: =F58 -> 3472 | C58: =SUM(D58:E58) -> 7443 | D58: =H58+K58 -> 3718 | E58: =I58+L58 -> 3725 | F58: 3472 | G58: =SUM(H58:I58) -> 7404 | H58: 3704 | I58: 3700 | J58: =SUM(K58:L58) -> 39 | K58: 14 | L58: 25
A59: 백운 1동 | B59: =F59 -> 5280 | C59: =SUM(D59:E59) -> 13833 | D59: =H59+K59 -> 6557 | E59: =I59+L59 -> 7276 | F59: 5280 | G59: =SUM(H59:I59) -> 13780 | H59: 6538 | I59: 7242 | J59: =SUM(K59:L59) -> 53 | K59: 19 | L59: 34
A60: 백운 2동 | B60: =F60 -> 3102 | C60: =SUM(D60:E60) -> 6439 | D60: =H60+K60 -> 3243 | E60: =I60+L60 -> 3196 | F60: 3102 | G60: =SUM(H60:I60) -> 6393 | H60: 3233 | I60: 3160 | J60: =SUM(K60:L60) -> 46 | K60: 10 | L60: 36
A61: 주월 1동 | B61: =F61 -> 8031 | C61: =SUM(D61:E61) -> 20471 | D61: =H61+K61 -> 9974 | E61: =I61+L61 -> 10497 | F61: 8031 | G61: =SUM(H61:I61) -> 20337 | H61: 9930 | I61: 10407 | J61: =SUM(K61:L61) -> 134 | K61: 44 | L61: 90
... A65: 대 촌 동 | B65: =F65 -> 2827 | C65: =SUM(D65:E65) -> 6115 | D65: =H65+K65 -> 2965 | E65: =I65+L65 -> 3150 | F65: 2827 | G65: =SUM(H65:I65) -> 6059 | H65: 2941 | I65: 3118 | J65: =SUM(K65:L65) -> 56 | K65: 24 | L65: 32
A67: ○ 북 구
B68: 합 계 | F68: 한 국 인 | J68: 외 국 인
A69: 구 분 | B69: 세 대 | C69: 인 구 | F69: 세 대 | G69: 인 구 | J69: 인 구
C70: 계 | D70: 남 | E70: 여 | G70: 계 | H70: 남 | I70: 여 | J70: 계 | K70: 남 | L70: 여
A71: 총 계 | B71: =SUM(B72:B98) -> 178956 | C71: =SUM(C72:C98) -> 445663 | D71: =SUM(D72:D98) -> 221365 | E71: =SUM(E72:E98) -> 224298 | F71: =SUM(F72:F98) -> 178956 | G71: =SUM(G72:G98) -> 441066 | H71: =SUM(H72:H98) -> 219300 | I71: =SUM(I72:I98) -> 221766 | ... L71: =SUM(L72:L98) -> 2532
A72: 중흥 1동 | B72: 2135 | C72: =SUM(D72:E72) -> 3993 | D72: =SUM(H72,K72) -> 2151 | E72: =SUM(I72,L72) -> 1842 | F72: 2135 | G72: =SUM(H72:I72) -> 3960 | H72: 2135 | I72: 1825 | J72: =SUM(K72:L72) -> 33 | K72: 16 | L72: 17
A73: 중흥 2동 | B73: 4149 | C73: =SUM(D73:E73) -> 8627 | D73: =SUM(H73,K73) -> 4387 | E73: =SUM(I73,L73) -> 4240 | F73: 4149 | G73: =SUM(H73:I73) -> 8550 | H73: 4358 | I73: 4192 | J73: =SUM(K73:L73) -> 77 | K73: 29 | L73: 48
A74: 중흥 3동 | B74: 3086 | C74: =SUM(D74:E74) -> 6031 | D74: =SUM(H74,K74) -> 3114 | E74: =SUM(I74,L74) -> 2917 | F74: 3086 | G74: =SUM(H74:I74) -> 5999 | H74: 3106 | I74: 2893 | J74: =SUM(K74:L74) -> 32 | K74: 8 | L74: 24
A75: 중 앙 동 | B75: 2169 | C75: =SUM(D75:E75) -> 3827 | D75: =SUM(H75,K75) -> 2035 | E75: =SUM(I75,L75) -> 1792 | F75: 2169 | G75: =SUM(H75:I75) -> 3800 | H75: 2021 | I75: 1779 | J75: =SUM(K75:L75) -> 27 | K75: 14 | L75: 13
A76: 임 동 | B76: 4223 | C76: =SUM(D76:E76) -> 9688 | D76: =SUM(H76,K76) -> 4809 | E76: =SUM(I76,L76) -> 4879 | F76: 4223 | G76: =SUM(H76:I76) -> 9620 | H76: 4786 | I76: 4834 | J76: =SUM(K76:L76) -> 68 | K76: 23 | L76: 45
A77: 신 안 동 | B77: 6056 | C77: =SUM(D77:E77) -> 11687 | D77: =SUM(H77,K77) -> 6106 | E77: =SUM(I77,L77) -> 5581 | F77: 6056 | G77: =SUM(H77:I77) -> 11586 | H77: 6076 | I77: 5510 | J77: =SUM(K77:L77) -> 101 | K77: 30 | L77: 71
A78: 용 봉 동 | B78: 15267 | C78: =SUM(D78:E78) -> 40083 | D78: =SUM(H78,K78) -> 19905 | E78: =SUM(I78,L78) -> 20178 | F78: 15267 | G78: =SUM(H78:I78) -> 38708 | H78: 19228 | I78: 19480 | J78: =SUM(K78:L78) -> 1375 | K78: 677 | L78: 698
A79: 운암 1동 | B79: 7234 | C79: =SUM(D79:E79) -> 20809 | D79: =SUM(H79,K79) -> 10090 | E79: =SUM(I79,L79) -> 10719 | F79: 7234 | G79: =SUM(H79:I79) -> 20737 | H79: 10061 | I79: 10676 | J79: =SUM(K79:L79) -> 72 | K79: 29 | L79: 43
A80: 운암 2동 | B80: 6086 | C80: =SUM(D80:E80) -> 14045 | D80: =SUM(H80,K80) -> 7117 | E80: =SUM(I80,L80) -> 6928 | F80: 6086 | G80: =SUM(H80:I80) -> 13945 | H80: 7080 | I80: 6865 | J80: =SUM(K80:L80) -> 100 | K80: 37 | L80: 63
A81: 운암 3동 | B81: 6367 | C81: =SUM(D81:E81) -> 17245 | D81: =SUM(H81,K81) -> 8375 | E81: =SUM(I81,L81) -> 8870 | F81: 6367 | G81: =SUM(H81:I81) -> 17190 | H81: 8366 | I81: 8824 | J81: =SUM(K81:L81) -> 55 | K81: 9 | L81: 46
A82: 동 림 동 | B82: 8001 | C82: =SUM(D82:E82) -> 21472 | D82: =SUM(H82,K82) -> 10631 | E82: =SUM(I82,L82) -> 10841 | F82: 8001 | G82: =SUM(H82:I82) -> 21361 | H82: 10592 | I82: 10769 | J82: =SUM(K82:L82) -> 111 | K82: 39 | L82: 72
A83: 우 산 동 | B83: 6660 | C83: =SUM(D83:E83) -> 13641 | D83: =SUM(H83,K83) -> 6722 | E83: =SUM(I83,L83) -> 6919 | F83: 6660 | G83: =SUM(H83:I83) -> 13568 | H83: 6699 | I83: 6869 | J83: =SUM(K83:L83) -> 73 | K83: 23 | L83: 50
... A98: 양 산 동 | B98: 13764 | C98: =SUM(D98:E98) -> 36513 | D98: =SUM(H98,K98) -> 18346 | E98: =SUM(I98,L98) -> 18167 | F98: 13764 | G98: =SUM(H98:I98) -> 36080 | H98: 18091 | I98: 17989 | J98: =SUM(K98:L98) -> 433 | K98: 255 | L98: 178
A100: ○ 광 산 구
B101: 합 계 | F101: 한 국 인 | J101: 외 국 인
A102: 구 분 | B102: 세 대 | C102: 인 구 | F102: 세 대 | G102: 인 구 | J102: 인 구
C103: 계 | D103: 남 | E103: 여 | G103: 계 | H103: 남 | I103: 여 | J103: 계 | K103: 남 | L103: 여
A104: 총 계 | B104: 151034 | C104: =SUM(D104:E104) -> 413956 | D104: =H104+K104 -> 209207 | E104: =I104+L104 -> 204749 | F104: 151034 | G104: 403049 | H104: 202480 | I104: 200569 | J104: 10907 | K104: 6727 | L104: 4180
A105: 송정 1동 | B105: 4537 | C105: =SUM(D105:E105) -> 11597 | D105: =H105+K105 -> 5883 | E105: =I105+L105 -> 5714 | F105: 4537 | G105: 11387 | H105: 5794 | I105: 5593 | J105: 210 | K105: 89 | L105: 121
A106: 송정 2동 | B106: 2981 | C106: =SUM(D106:E106) -> 6448 | D106: =H106+K106 -> 3216 | E106: =I106+L106 -> 3232 | F106: 2981 | G106: 6340 | H106: 3170 | I106: 3170 | J106: 108 | K106: 46 | L106: 62
A107: 도 산 동 | B107: 5924 | C107: =SUM(D107:E107) -> 14950 | D107: =H107+K107 -> 7481 | E107: =I107+L107 -> 7469 | F107: 5924 | G107: 14794 | H107: 7421 | I107: 7373 | J107: 156 | K107: 60 | L107: 96
A108: 신 흥 동 | B108: 2081 | C108: =SUM(D108:E108) -> 5163 | D108: =H108+K108 -> 2621 | E108: =I108+L108 -> 2542 | F108: 2081 | G108: 5100 | H108: 2591 | I108: 2509 | J108: 63 | K108: 30 | L108: 33
A109: 어 룡 동 | B109: 11939 | C109: =SUM(D109:E109) -> 31833 | D109: =H109+K109 -> 16281 | E109: =I109+L109 -> 15552 | F109: 11939 | G109: 30634 | H109: 15639 | I109: 14995 | J109: 1199 | K109: 642 | L109: 557
A110: 우 산 동 | B110: 11077 | C110: =SUM(D110:E110) -> 24224 | D110: =H110+K110 -> 12196 | E110: =I110+L110 -> 12028 | F110: 11077 | G110: 23873 | H110: 12051 | I110: 11822 | J110: 351 | K110: 145 | L110: 206
A111: 월곡 1동 | B111: 5372 | C111: =SUM(D111:E111) -> 14225 | D111: =H111+K111 -> 7305 | E111: =I111+L111 -> 6920 | F111: 5372 | G111: 13352 | H111: 6835 | I111: 6517 | J111: 873 | K111: 470 | L111: 403
A112: 월곡 2동 | B112: 7127 | C112: =SUM(D112:E112) -> 21140 | D112: =H112+K112 -> 10756 | E112: =I112+L112 -> 10384 | F112: 7127 | G112: 18911 | H112: 9710 | I112: 9201 | J112: 2229 | K112: 1046 | L112: 1183
A113: 비 아 동 | B113: 3044 | C113: =SUM(D113:E113) -> 7513 | D113: =H113+K113 -> 4074 | E113: =I113+L113 -> 3439 | F113: 3044 | G113: 6961 | H113: 3689 | I113: 3272 | J113: 552 | K113: 385 | L113: 167
A114: 첨단 1동 | B114: 7541 | C114: =SUM(D114:E114) -> 24036 | D114: =H114+K114 -> 11955 | E114: =I114+L114 -> 12081 | F114: 7541 | G114: 23968 | H114: 11928 | I114: 12040 | J114: 68 | K114: 27 | L114: 41
A115: 첨단 2동 | B115: 15250 | C115: =SUM(D115:E115) -> 42322 | D115: =H115+K115 -> 21128 | E115: =I115+L115 -> 21194 | F115: 15250 | G115: 41852 | H115: 20906 | I115: 20946 | J115: 470 | K115: 222 | L115: 248
... A125: 본 량 동 | B125: 1144 | C125: =SUM(D125:E125) -> 2178 | D125: =H125+K125 -> 1094 | E125: =I125+L125 -> 1084 | F125: 1144 | G125: 2160 | H125: 1085 | I125: 1075 | J125: 18 | K125: 9 | L125: 9

Sheet 2017년
A1: 2. 동별 세대 및 인구 (동구~광산구) - 2017년 12월 31일 기준
A2: ○ 동 구
B3: 합 계 | F3: 내 국 인 | J3: 외 국 인
A4: 구 분 | B4: 세 대 | C4: 인 구 | F4: 세 대 | G4: 인 구 | J4: 인 구
C5: 계 | D5: 남 | E5: 여 | G5: 계 | H5: 남 | I5: 여 | J5: 계 | K5: 남 | L5: 여
A6: 총 계 | B6: =SUM(B7:B19) -> 45341 | C6: =SUM(C7:C19) -> 96786 | D6: =SUM(D7:D19) -> 48264 | E6: =SUM(E7:E19) -> 48522 | F6: =SUM(F7:F19) -> 45341 | G6: =SUM(G7:G19) -> 95448 | H6: =SUM(H7:H19) -> 47579 | I6: =SUM(I7:I19) -> 47869 | ... L6: =SUM(L7:L19) -> 653
A7: 충 장 동 | B7: 2961 | C7: =SUM(D7:E7) -> 4553 | D7: =SUM(H7,K7) -> 2435 | E7: =SUM(I7,L7) -> 2118 | F7: 2961 | G7: =SUM(H7:I7) -> 4463 | H7: 2383 | I7: 2080 | J7: =SUM(K7:L7) -> 90 | K7: 52 | L7: 38
A8: 동 명 동 | B8: 2333 | C8: =SUM(D8:E8) -> 4306 | D8: =SUM(H8,K8) -> 2159 | E8: =SUM(I8,L8) -> 2147 | F8: 2333 | G8: =SUM(H8:I8) -> 4248 | H8: 2136 | I8: 2112 | J8: =SUM(K8:L8) -> 58 | K8: 23 | L8: 35
A9: 계림1동 | B9: 3860 | C9: =SUM(D9:E9) -> 6485 | D9: =SUM(H9,K9) -> 3415 | E9: =SUM(I9,L9) -> 3070 | F9: 3860 | G9: =SUM(H9:I9) -> 6421 | H9: 3389 | I9: 3032 | J9: =SUM(K9:L9) -> 64 | K9: 26 | L9: 38
A10: 계림2동 | B10: 4024 | C10: =SUM(D10:E10) -> 9156 | D10: =SUM(H10,K10) -> 4627 | E10: =SUM(I10,L10) -> 4529 | F10: 4024 | G10: =SUM(H10:I10) -> 9119 | H10: 4616 | I10: 4503 | J10: =SUM(K10:L10) -> 37 | K10: 11 | L10: 26
A11: 산수1동 | B11: 3438 | C11: =SUM(D11:E11) -> 6711 | D11: =SUM(H11,K11) -> 3373 | E11: =SUM(I11,L11) -> 3338 | F11: 3438 | G11: =SUM(H11:I11) -> 6645 | H11: 3349 | I11: 3296 | J11: =SUM(K11:L11) -> 66 | K11: 24 | L11: 42
A12: 산수2동 | B12: 4386 | C12: =SUM(D12:E12) -> 10648 | D12: =SUM(H12,K12) -> 5153 | E12: =SUM(I12,L12) -> 5495 | F12: 4386 | G12: =SUM(H12:I12) -> 10598 | H12: 5128 | I12: 5470 | J12: =SUM(K12:L12) -> 50 | K12: 25 | L12: 25
A13: 지산1동 | B13: 2285 | C13: =SUM(D13:E13) -> 4880 | D13: =SUM(H13,K13) -> 2459 | E13: =SUM(I13,L13) -> 2421 | F13: 2285 | G13: =SUM(H13:I13) -> 4724 | H13: 2376 | I13: 2348 | J13: =SUM(K13:L13) -> 156 | K13: 83 | L13: 73
A14: 지산2동 | B14: 2555 | C14: =SUM(D14:E14) -> 5482 | D14: =SUM(H14,K14) -> 2796 | E14: =SUM(I14,L14) -> 2686 | F14: 2555 | G14: =SUM(H14:I14) -> 5397 | H14: 2741 | I14: 2656 | J14: =SUM(K14:L14) -> 85 | K14: 55 | L14: 30
A15: 서 남 동 | B15: 2158 | C15: =SUM(D15:E15) -> 3782 | D15: =SUM(H15,K15) -> 1897 | E15: =SUM(I15,L15) -> 1885 | F15: 2158 | G15: =SUM(H15:I15) -> 3367 | H15: 1709 | I15: 1658 | J15: =SUM(K15:L15) -> 415 | K15: 188 | L15: 227
A16: 학 동 | B16: 4609 | C16: =SUM(D16:E16) -> 10001 | D16: =SUM(H16,K16) -> 4856 | E16: =SUM(I16,L16) -> 5145 | F16: 4609 | G16: =SUM(H16:I16) -> 9949 | H16: 4831 | I16: 5118 | J16: =SUM(K16:L16) -> 52 | K16: 25 | L16: 27
A17: 학 운 동 | B17: 5190 | C17: =SUM(D17:E17) -> 13036 | D17: =SUM(H17,K17) -> 6263 | E17: =SUM(I17,L17) -> 6773 | F17: 5190 | G17: =SUM(H17:I17) -> 12894 | H17: 6164 | I17: 6730 | J17: =SUM(K17:L17) -> 142 | K17: 99 | L17: 43
A18: 지원1동 | B18: 3156 | C18: =SUM(D18:E18) -> 7521 | D18: =SUM(H18,K18) -> 3712 | E18: =SUM(I18,L18) -> 3809 | F18: 3156 | G18: =SUM(H18:I18) -> 7445 | H18: 3663 | I18: 3782 | J18: =SUM(K18:L18) -> 76 | K18: 49 | L18: 27
A19: 지원2동 | B19: 4386 | C19: =SUM(D19:E19) -> 10225 | D19: =SUM(H19,K19) -> 5119 | E19: =SUM(I19,L19) -> 5106 | F19: 4386 | G19: =SUM(H19:I19) -> 10178 | H19: 5094 | I19: 5084 | J19: =SUM(K19:L19) -> 47 | K19: 25 | L19: 22
A21: ○ 서 구
B22: 합 계 | F22: 내 국 인 | J22: 외 국 인
A23: 구 분 | B23: 세 대 | C23: 인 구 | F23: 세 대 | G23: 인 구 | J23: 인 구
C24: 계 | D24: 남 | E24: 여 | G24: 계 | H24: 남 | I24: 여 | J24: 계 | K24: 남 | L24: 여
A25: 총 계 | B25: 124663 | C25: 308591 | D25: 151709 | E25: 156882 | F25: 124663 | G25: 306957 | H25: 150977 | I25: 155980 | J25: 1634 | K25: 732 | L25: 902
A26: 양 동 | B26: 2315 | C26: 4514 | D26: 2221 | E26: 2293 | F26: 2315 | G26: 4473 | H26: 2211 | I26: 2262 | J26: 41 | K26: 10 | L26: 31
A27: 양 3 동 | B27: 2158 | C27: 4994 | D27: 2485 | E27: 2509 | F27: 2158 | G27: 4965 | H27: 2476 | I27: 2489 | J27: 29 | K27: 9 | L27: 20
A28: 농성 1동 | B28: 4484 | C28: 8552 | D28: 4285 | E28: 4267 | F28: 4484 | G28: 8487 | H28: 4260 | I28: 4227 | J28: 65 | K28: 25 | L28: 40
A29: 농성 2동 | B29: 2867 | C29: 5513 | D29: 2814 | E29: 2699 | F29: 2867 | G29: 5476 | H29: 2800 | I29: 2676 | J29: 37 | K29: 14 | L29: 23
A30: 광 천 동 | B30: 4397 | C30: 9520 | D30: 4826 | E30: 4694 | F30: 4397 | G30: 9470 | H30: 4806 | I30: 4664 | J30: 50 | K30: 20 | L30: 30
A31: 유 덕 동 | B31: 4528 | C31: 11517 | D31: 5871 | E31: 5646 | F31: 4528 | G31: 11405 | H31: 5807 | I31: 5598 | J31: 112 | K31: 64 | L31: 48
A32: 치 평 동 | B32: 12346 | C32: 31454 | D32: 15193 | E32: 16261 | F32: 12346 | G32: 31270 | H32: 15109 | I32: 16161 | J32: 184 | K32: 84 | L32: 100
A33: 상무 1동 | B33: 10303 | C33: 23514 | D33: 11737 | E33: 11777 | F33: 10303 | G33: 23375 | H33: 11679 | I33: 11696 | J33: 139 | K33: 58 | L33: 81
A34: 상무 2동 | B34: 12235 | C34: 25739 | D34: 12626 | E34: 13113 | F34: 12235 | G34: 25566 | H34: 12548 | I34: 13018 | J34: 173 | K34: 78 | L34: 95
A35: 화정 1동 | B35: 7495 | C35: 16006 | D35: 7716 | E35: 8290 | F35: 7495 | G35: 15916 | H35: 7689 | I35: 8227 | J35: 90 | K35: 27 | L35: 63
A36: 화정 2동 | B36: 7862 | C36: 21745 | D36: 10881 | E36: 10864 | F36: 7862 | G36: 21699 | H36: 10869 | I36: 10830 | J36: 46 | K36: 12 | L36: 34
... A43: 동 천 동 | B43: 6327 | C43: 17597 | D43: 8405 | E43: 9192 | F43: 6327 | G43: 17472 | H43: 8318 | I43: 9154 | J43: 125 | K43: 87 | L43: 38
A45: ○ 남 구
B46: 합 계 | F46: 내 국 인 | J46: 외 국 인
A47: 구 분 | B47: 세 대 | C47: 인 구 | F47: 세 대 | G47: 인 구 | J47: 인 구
C48: 계 | D48: 남 | E48: 여 | G48: 계 | H48: 남 | I48: 여 | J48: 계 | K48: 남 | L48: 여
A49: 총 계 | B49: 88605 | C49: 219855 | D49: 106111 | E49: 113744 | F49: 88605 | G49: 218454 | H49: 105580 | I49: 112874 | J49: 1401 | K49: 531 | L49: 870
A50: 양 림 동 | B50: 3391 | C50: 8070 | D50: 3763 | E50: 4307 | F50: 3391 | G50: 8027 | H50: 3750 | I50: 4277 | J50: 43 | K50: 13 | L50: 30
A51: 방림 1동 | B51: 3121 | C51: 7609 | D51: 3654 | E51: 3955 | F51: 3121 | G51: 7572 | H51: 3644 | I51: 3928 | J51: 37 | K51: 10 | L51: 27
A52: 방림 2동 | B52: 4285 | C52: 10350 | D52: 4915 | E52: 5435 | F52: 4285 | G52: 10310 | H52: 4904 | I52: 5406 | J52: 40 | K52: 11 | L52: 29
A53: 봉선 1동 | B53: 6915 | C53: 16264 | D53: 7763 | E53: 8501 | F53: 6915 | G53: 16145 | H53: 7719 | I53: 8426 | J53: 119 | K53: 44 | L53: 75
A54: 봉선 2동 | B54: 9717 | C54: 30372 | D54: 14265 | E54: 16107 | F54: 9717 | G54: 30277 | H54: 14226 | I54: 16051 | J54: 95 | K54: 39 | L54: 56
A55: 사 직 동 | B55: 3148 | C55: 5921 | D55: 3025 | E55: 2896 | F55: 3148 | G55: 5874 | H55: 3002 | I55: 2872 | J55: 47 | K55: 23 | L55: 24
A56: 월 산 동 | B56: 4976 | C56: 9729 | D56: 4992 | E56: 4737 | F56: 4976 | G56: 9666 | H56: 4966 | I56: 4700 | J56: 63 | K56: 26 | L56: 37
A57: 월산 4동 | B57: 4669 | C57: 9773 | D57: 5000 | E57: 4773 | F57: 4669 | G57: 9673 | H57: 4968 | I57: 4705 | J57: 100 | K57: 32 | L57: 68
A58: 월산 5동 | B58: 3453 | C58: 7219 | D58: 3631 | E58: 3588 | F58: 3453 | G58: 7183 | H58: 3619 | I58: 3564 | J58: 36 | K58: 12 | L58: 24
A59: 백운 1동 | B59: 5217 | C59: 13545 | D59: 6426 | E59: 7119 | F59: 5217 | G59: 13502 | H59: 6409 | I59: 7093 | J59: 43 | K59: 17 | L59: 26
A60: 백운 2동 | B60: 3092 | C60: 6482 | D60: 3228 | E60: 3254 | F60: 3092 | G60: 6434 | H60: 3213 | I60: 3221 | J60: 48 | K60: 15 | L60: 33
... A65: 대 촌 동 | B65: 2862 | C65: 6133 | D65: 2973 | E65: 3160 | F65: 2862 | G65: 6066 | H65: 2944 | I65: 3122 | J65: 67 | K65: 29 | L65: 38
A67: ○ 북 구
B68: 합 계 | F68: 한 국 인 | J68: 외 국 인
A69: 구 분 | B69: 세 대 | C69: 인 구 | F69: 세 대 | G69: 인 구 | J69: 인 구
C70: 계 | D70: 남 | E70: 여 | G70: 계 | H70: 남 | I70: 여 | J70: 계 | K70: 남 | L70: 여
A71: 총 계 | B71: 180682 | C71: 443532 | D71: 220172 | E71: 223360 | F71: 180682 | G71: 438780 | H71: 217966 | I71: 220814 | J71: 4752 | K71: 2206 | L71: 2546
A72: 중흥 1동 | B72: 2131 | C72: 3879 | D72: 2091 | E72: 1788 | F72: 2131 | G72: 3849 | H72: 2077 | I72: 1772 | J72: 30 | K72: 14 | L72: 16
A73: 중흥 2동 | B73: 4008 | C73: 8312 | D73: 4218 | E73: 4094 | F73: 4008 | G73: 8240 | H73: 4193 | I73: 4047 | J73: 72 | K73: 25 | L73: 47
A74: 중흥 3동 | B74: 3012 | C74: 5800 | D74: 3009 | E74: 2791 | F74: 3012 | G74: 5770 | H74: 2997 | I74: 2773 | J74: 30 | K74: 12 | L74: 18
A75: 중 앙 동 | B75: 2207 | C75: 3786 | D75: 2007 | E75: 1779 | F75: 2207 | G75: 3768 | H75: 1999 | I75: 1769 | J75: 18 | K75: 8 | L75: 10
A76: 임 동 | B76: 4101 | C76: 9304 | D76: 4612 | E76: 4692 | F76: 4101 | G76: 9245 | H76: 4594 | I76: 4651 | J76: 59 | K76: 18 | L76: 41
A77: 신 안 동 | B77: 5941 | C77: 11243 | D77: 5884 | E77: 5359 | F77: 5941 | G77: 11152 | H77: 5857 | I77: 5295 | J77: 91 | K77: 27 | L77: 64
A78: 용 봉 동 | B78: 15636 | C78: 40556 | D78: 20224 | E78: 20332 | F78: 15636 | G78: 38938 | H78: 19404 | I78: 19534 | J78: 1618 | K78: 820 | L78: 798
A79: 운암 1동 | B79: 7329 | C79: 20788 | D79: 10046 | E79: 10742 | F79: 7329 | G79: 20714 | H79: 10016 | I79: 10698 | J79: 74 | K79: 30 | L79: 44
A80: 운암 2동 | B80: 5991 | C80: 13594 | D80: 6885 | E80: 6709 | F80: 5991 | G80: 13498 | H80: 6844 | I80: 6654 | J80: 96 | K80: 41 | L80: 55
A81: 운암 3동 | B81: 6357 | C81: 16830 | D81: 8135 | E81: 8695 | F81: 6357 | G81: 16779 | H81: 8127 | I81: 8652 | J81: 51 | K81: 8 | L81: 43
A82: 동 림 동 | B82: 8063 | C82: 21282 | D82: 10525 | E82: 10757 | F82: 8063 | G82: 21171 | H82: 10482 | I82: 10689 | J82: 111 | K82: 43 | L82: 68
... A98: 양 산 동 | B98: 13889 | C98: 36256 | D98: 18193 | E98: 18063 | F98: 13889 | G98: 35813 | H98: 17939 | I98: 17874 | J98: 443 | K98: 254 | L98: 189
A100: ○ 광 산 구
B101: 합 계 | F101: 한 국 인 | J101: 외 국 인
A102: 구 분 | B102: 세 대 | C102: 인 구 | F102: 세 대 | G102: 인 구 | J102: 인 구
C103: 계 | D103: 남 | E103: 여 | G103: 계 | H103: 남 | I103: 여 | J103: 계 | K103: 남 | L103: 여
A104: 총 계 | B104: 153527 | C104: 416285 | D104: 210694 | E104: 205591 | F104: 153527 | G104: 404131 | H104: 203193 | I104: 200938 | J104: 12154 | K104: 7501 | L104: 4653
A105: 송정 1동 | B105: 4517 | C105: 11328 | D105: 5745 | E105: 5583 | F105: 4517 | G105: 11116 | H105: 5666 | I105: 5450 | J105: 212 | K105: 79 | L105: 133
A106: 송정 2동 | B106: 3031 | C106: 6389 | D106: 3189 | E106: 3200 | F106: 3031 | G106: 6265 | H106: 3141 | I106: 3124 | J106: 124 | K106: 48 | L106: 76
A107: 도 산 동 | B107: 6151 | C107: 15439 | D107: 7713 | E107: 7726 | F107: 6151 | G107: 15264 | H107: 7644 | I107: 7620 | J107: 175 | K107: 69 | L107: 106
A108: 신 흥 동 | B108: 2044 | C108: 5062 | D108: 2535 | E108: 2527 | F108: 2044 | G108: 4992 | H108: 2504 | I108: 2488 | J108: 70 | K108: 31 | L108: 39
A109: 어 룡 동 | B109: 13105 | C109: 34637 | D109: 17732 | E109: 16905 | F109: 13105 | G109: 33191 | H109: 16923 | I109: 16268 | J109: 1446 | K109: 809 | L109: 637
A110: 우 산 동 | B110: 11255 | C110: 24342 | D110: 12280 | E110: 12062 | F110: 11255 | G110: 23931 | H110: 12105 | I110: 11826 | J110: 411 | K110: 175 | L110: 236
A111: 월곡 1동 | B111: 5172 | C111: 13884 | D111: 7125 | E111: 6759 | F111: 5172 | G111: 12756 | H111: 6515 | I111: 6241 | J111: 1128 | K111: 610 | L111: 518
A112: 월곡 2동 | B112: 6879 | C112: 20881 | D112: 10683 | E112: 10198 | F112: 6879 | G112: 18104 | H112: 9286 | I112: 8818 | J112: 2777 | K112: 1397 | L112: 1380
A113: 비 아 동 | B113: 3088 | C113: 7506 | D113: 4073 | E113: 3433 | F113: 3088 | G113: 6932 | H113: 3676 | I113: 3256 | J113: 574 | K113: 397 | L113: 177
A114: 첨단 1동 | B114: 7621 | C114: 23719 | D114: 11819 | E114: 11900 | F114: 7621 | G114: 23644 | H114: 11786 | I114: 11858 | J114: 75 | K114: 33 | L114: 42
A115: 첨단 2동 | B115: 15618 | C115: 42648 | D115: 21360 | E115: 21288 | F115: 15618 | G115: 42070 | H115: 21082 | I115: 20988 | J115: 578 | K115: 278 | L115: 300
... A125: 본 량 동 | B125: 1158 | C125: 2144 | D125: 1072 | E125: 1072 | F125: 1158 | G125: 2129 | H125: 1063 | I125: 1066 | J125: 15 | K125: 9 | L125: 6

Sheet 2018년
A1: 2. 동별 세대 및 인구 (동구~광산구) - 2018년 12월 31일 기준
A2: ○ 동 구
B3: 합 계 | F3: 내 국 인 | J3: 외 국 인
A4: 구 분 | B4: 세 대 | C4: 인 구 | F4: 세 대 | G4: 인 구 | J4: 인 구
C5: 계 | D5: 남 | E5: 여 | G5: 계 | H5: 남 | I5: 여 | J5: 계 | K5: 남 | L5: 여
A6: 총 계 | B6: =SUM(B7:B19) -> 45452 | C6: =SUM(C7:C19) -> 96347 | D6: =SUM(D7:D19) -> 47893 | E6: =SUM(E7:E19) -> 48454 | F6: =SUM(F7:F19) -> 45452 | G6: =SUM(G7:G19) -> 94475 | H6: =SUM(H7:H19) -> 46902 | I6: =SUM(I7:I19) -> 47573 | ... L6: =SUM(L7:L19) -> 881
A7: 충 장 동 | B7: =F7 -> 3067 | C7: =SUM(D7:E7) -> 4629 | D7: =SUM(H7,K7) -> 2450 | E7: =SUM(I7,L7) -> 2179 | F7: 3067 | G7: =SUM(H7:I7) -> 4540 | H7: 2400 | I7: 2140 | J7: =SUM(K7:L7) -> 89 | K7: 50 | L7: 39
A8: 동 명 동 | B8: =F8 -> 2290 | C8: =SUM(D8:E8) -> 4195 | D8: =SUM(H8,K8) -> 2095 | E8: =SUM(I8,L8) -> 2100 | F8: 2290 | G8: =SUM(H8:I8) -> 4044 | H8: 2020 | I8: 2024 | J8: =SUM(K8:L8) -> 151 | K8: 75 | L8: 76
A9: 계림1동 | B9: =F9 -> 3855 | C9: =SUM(D9:E9) -> 6290 | D9: =SUM(H9,K9) -> 3347 | E9: =SUM(I9,L9) -> 2943 | F9: 3855 | G9: =SUM(H9:I9) -> 6229 | H9: 3321 | I9: 2908 | J9: =SUM(K9:L9) -> 61 | K9: 26 | L9: 35
A10: 계림2동 | B10: =F10 -> 3692 | C10: =SUM(D10:E10) -> 8817 | D10: =SUM(H10,K10) -> 4368 | E10: =SUM(I10,L10) -> 4449 | F10: 3692 | G10: =SUM(H10:I10) -> 8778 | H10: 4355 | I10: 4423 | J10: =SUM(K10:L10) -> 39 | K10: 13 | L10: 26
A11: 산수1동 | B11: =F11 -> 3546 | C11: =SUM(D11:E11) -> 6816 | D11: =SUM(H11,K11) -> 3424 | E11: =SUM(I11,L11) -> 3392 | F11: 3546 | G11: =SUM(H11:I11) -> 6745 | H11: 3399 | I11: 3346 | J11: =SUM(K11:L11) -> 71 | K11: 25 | L11: 46
A12: 산수2동 | B12: =F12 -> 4570 | C12: =SUM(D12:E12) -> 10897 | D12: =SUM(H12,K12) -> 5325 | E12: =SUM(I12,L12) -> 5572 | F12: 4570 | G12: =SUM(H12:I12) -> 10858 | H12: 5307 | I12: 5551 | J12: =SUM(K12:L12) -> 39 | K12: 18 | L12: 21
A13: 지산1동 | B13: =F13 -> 2314 | C13: =SUM(D13:E13) -> 4910 | D13: =SUM(H13,K13) -> 2475 | E13: =SUM(I13,L13) -> 2435 | F13: 2314 | G13: =SUM(H13:I13) -> 4649 | H13: 2313 | I13: 2336 | J13: =SUM(K13:L13) -> 261 | K13: 162 | L13: 99
A14: 지산2동 | B14: =F14 -> 2478 | C14: =SUM(D14:E14) -> 5210 | D14: =SUM(H14,K14) -> 2662 | E14: =SUM(I14,L14) -> 2548 | F14: 2478 | G14: =SUM(H14:I14) -> 5040 | H14: 2573 | I14: 2467 | J14: =SUM(K14:L14) -> 170 | K14: 89 | L14: 81
A15: 서 남 동 | B15: =F15 -> 2148 | C15: =SUM(D15:E15) -> 3933 | D15: =SUM(H15,K15) -> 2018 | E15: =SUM(I15,L15) -> 1915 | F15: 2148 | G15: =SUM(H15:I15) -> 3251 | H15: 1666 | I15: 1585 | J15: =SUM(K15:L15) -> 682 | K15: 352 | L15: 330
A16: 학 동 | B16: =F16 -> 4512 | C16: =SUM(D16:E16) -> 9737 | D16: =SUM(H16,K16) -> 4673 | E16: =SUM(I16,L16) -> 5064 | F16: 4512 | G16: =SUM(H16:I16) -> 9688 | H16: 4655 | I16: 5033 | J16: =SUM(K16:L16) -> 49 | K16: 18 | L16: 31
A17: 학 운 동 | B17: =F17 -> 5210 | C17: =SUM(D17:E17) -> 12858 | D17: =SUM(H17,K17) -> 6165 | E17: =SUM(I17,L17) -> 6693 | F17: 5210 | G17: =SUM(H17:I17) -> 12696 | H17: 6057 | I17: 6639 | J17: =SUM(K17:L17) -> 162 | K17: 108 | L17: 54
A18: 지원1동 | B18: =F18 -> 3434 | C18: =SUM(D18:E18) -> 8066 | D18: =SUM(H18,K18) -> 3940 | E18: =SUM(I18,L18) -> 4126 | F18: 3434 | G18: =SUM(H18:I18) -> 8024 | H18: 3921 | I18: 4103 | J18: =SUM(K18:L18) -> 42 | K18: 19 | L18: 23
A19: 지원2동 | B19: =F19 -> 4336 | C19: =SUM(D19:E19) -> 9989 | D19: =SUM(H19,K19) -> 4951 | E19: =SUM(I19,L19) -> 5038 | F19: 4336 | G19: =SUM(H19:I19) -> 9933 | H19: 4915 | I19: 5018 | J19: =SUM(K19:L19) -> 56 | K19: 36 | L19: 20
A21: ○ 서 구
B22: 합 계 | F22: 내 국 인 | J22: 외 국 인
A23: 구 분 | B23: 세 대 | C23: 인 구 | F23: 세 대 | G23: 인 구 | J23: 인 구
C24: 계 | D24: 남 | E24: 여 | G24: 계 | H24: 남 | I24: 여 | J24: 계 | K24: 남 | L24: 여
A25: 총 계 | B25: =SUM(B26:B43) -> 126751 | C25: =SUM(C26:C43) -> 305870 | D25: =SUM(D26:D43) -> 150335 | E25: =SUM(E26:E43) -> 155535 | F25: =SUM(F26:F43) -> 126751 | G25: =SUM(G26:G43) -> 304172 | H25: =SUM(H26:H43) -> 149540 | I25: =SUM(I26:I43) -> 154632 | ... L25: =SUM(L26:L43) -> 903
A26: 양 동 | B26: 2280 | C26: =SUM(D26:E26) -> 4335 | D26: =SUM(H26,K26) -> 2145 | E26: =SUM(I26,L26) -> 2190 | F26: 2280 | G26: =SUM(H26:I26) -> 4294 | H26: 2137 | I26: 2157 | J26: =SUM(K26:L26) -> 41 | K26: 8 | L26: 33
A27: 양 3 동 | B27: 2211 | C27: =SUM(D27:E27) -> 4951 | D27: =SUM(H27,K27) -> 2458 | E27: =SUM(I27,L27) -> 2493 | F27: 2211 | G27: =SUM(H27:I27) -> 4917 | H27: 2447 | I27: 2470 | J27: =SUM(K27:L27) -> 34 | K27: 11 | L27: 23
A28: 농성 1동 | B28: 4987 | C28: =SUM(D28:E28) -> 9135 | D28: =SUM(H28,K28) -> 4538 | E28: =SUM(I28,L28) -> 4597 | F28: 4987 | G28: =SUM(H28:I28) -> 9059 | H28: 4502 | I28: 4557 | J28: =SUM(K28:L28) -> 76 | K28: 36 | L28: 40
A29: 농성 2동 | B29: 2850 | C29: =SUM(D29:E29) -> 5371 | D29: =SUM(H29,K29) -> 2757 | E29: =SUM(I29,L29) -> 2614 | F29: 2850 | G29: =SUM(H29:I29) -> 5328 | H29: 2738 | I29: 2590 | J29: =SUM(K29:L29) -> 43 | K29: 19 | L29: 24
A30: 광 천 동 | B30: 4302 | C30: =SUM(D30:E30) -> 9065 | D30: =SUM(H30,K30) -> 4621 | E30: =SUM(I30,L30) -> 4444 | F30: 4302 | G30: =SUM(H30:I30) -> 8998 | H30: 4589 | I30: 4409 | J30: =SUM(K30:L30) -> 67 | K30: 32 | L30: 35
A31: 유 덕 동 | B31: 4570 | C31: =SUM(D31:E31) -> 11360 | D31: =SUM(H31,K31) -> 5830 | E31: =SUM(I31,L31) -> 5530 | F31: 4570 | G31: =SUM(H31:I31) -> 11223 | H31: 5731 | I31: 5492 | J31: =SUM(K31:L31) -> 137 | K31: 99 | L31: 38
A32: 치 평 동 | B32: 12726 | C32: =SUM(D32:E32) -> 31437 | D32: =SUM(H32,K32) -> 15203 | E32: =SUM(I32,L32) -> 16234 | F32: 12726 | G32: =SUM(H32:I32) -> 31268 | H32: 15128 | I32: 16140 | J32: =SUM(K32:L32) -> 169 | K32: 75 | L32: 94
A33: 상무 1동 | B33: 11082 | C33: =SUM(D33:E33) -> 24742 | D33: =SUM(H33,K33) -> 12285 | E33: =SUM(I33,L33) -> 12457 | F33: 11082 | G33: =SUM(H33:I33) -> 24582 | H33: 12214 | I33: 12368 | J33: =SUM(K33:L33) -> 160 | K33: 71 | L33: 89
A34: 상무 2동 | B34: 12428 | C34: =SUM(D34:E34) -> 25306 | D34: =SUM(H34,K34) -> 12377 | E34: =SUM(I34,L34) -> 12929 | F34: 12428 | G34: =SUM(H34:I34) -> 25136 | H34: 12308 | I34: 12828 | J34: =SUM(K34:L34) -> 170 | K34: 69 | L34: 101
A35: 화정 1동 | B35: 7765 | C35: =SUM(D35:E35) -> 16046 | D35: =SUM(H35,K35) -> 7720 | E35: =SUM(I35,L35) -> 8326 | F35: 7765 | G35: =SUM(H35:I35) -> 15942 | H35: 7682 | I35: 8260 | J35: =SUM(K35:L35) -> 104 | K35: 38 | L35: 66
A36: 화정 2동 | B36: 8021 | C36: =SUM(D36:E36) -> 21704 | D36: =SUM(H36,K36) -> 10876 | E36: =SUM(I36,L36) -> 10828 | F36: 8021 | G36: =SUM(H36:I36) -> 21656 | H36: 10865 | I36: 10791 | J36: =SUM(K36:L36) -> 48 | K36: 11 | L36: 37
A37: 화정 3동 | B37: 4489 | C37: =SUM(D37:E37) -> 10964 | D37: =SUM(H37,K37) -> 5388 | E37: =SUM(I37,L37) -> 5576 | F37: 4489 | G37: =SUM(H37:I37) -> 10933 | H37: 5381 | I37: 5552 | J37: =SUM(K37:L37) -> 31 | K37: 7 | L37: 24
... A43: 동 천 동 | B43: 6372 | C43: =SUM(D43:E43) -> 17476 | D43: =SUM(H43,K43) -> 8360 | E43: =SUM(I43,L43) -> 9116 | F43: 6372 | G43: =SUM(H43:I43) -> 17363 | H43: 8281 | I43: 9082 | J43: =SUM(K43:L43) -> 113 | K43: 79 | L43: 34
A45: ○ 남 구
B46: 합 계 | F46: 내 국 인 | J46: 외 국 인
A47: 구 분 | B47: 세 대 | C47: 인 구 | F47: 세 대 | G47: 인 구 | J47: 인 구
C48: 계 | D48: 남 | E48: 여 | G48: 계 | H48: 남 | I48: 여 | J48: 계 | K48: 남 | L48: 여
A49: 총 계 | B49: =SUM(B50:B65) -> 89574 | C49: =SUM(C50:C65) -> 217787 | D49: =SUM(D50:D65) -> 104882 | E49: =SUM(E50:E65) -> 112905 | F49: =SUM(F50:F65) -> 89574 | G49: =SUM(G50:G65) -> 216369 | H49: =SUM(H50:H65) -> 104337 | I49: =SUM(I50:I65) -> 112032 | ... L49: =SUM(L50:L65) -> 873
A50: 양 림 동 | B50: =F50 -> 3348 | C50: =SUM(D50:E50) -> 7845 | D50: =H50+K50 -> 3642 | E50: =I50+L50 -> 4203 | F50: 3348 | G50: =SUM(H50:I50) -> 7811 | H50: 3632 | I50: 4179 | J50: =SUM(K50:L50) -> 34 | K50: 10 | L50: 24
A51: 방림 1동 | B51: =F51 -> 3132 | C51: =SUM(D51:E51) -> 7515 | D51: =H51+K51 -> 3582 | E51: =I51+L51 -> 3933 | F51: 3132 | G51: =SUM(H51:I51) -> 7474 | H51: 3568 | I51: 3906 | J51: =SUM(K51:L51) -> 41 | K51: 14 | L51: 27
A52: 방림 2동 | B52: =F52 -> 4149 | C52: =SUM(D52:E52) -> 9817 | D52: =H52+K52 -> 4665 | E52: =I52+L52 -> 5152 | F52: 4149 | G52: =SUM(H52:I52) -> 9783 | H52: 4658 | I52: 5125 | J52: =SUM(K52:L52) -> 34 | K52: 7 | L52: 27
A53: 봉선 1동 | B53: =F53 -> 6985 | C53: =SUM(D53:E53) -> 15935 | D53: =H53+K53 -> 7550 | E53: =I53+L53 -> 8385 | F53: 6985 | G53: =SUM(H53:I53) -> 15819 | H53: 7505 | I53: 8314 | J53: =SUM(K53:L53) -> 116 | K53: 45 | L53: 71
A54: 봉선 2동 | B54: =F54 -> 9803 | C54: =SUM(D54:E54) -> 30187 | D54: =H54+K54 -> 14233 | E54: =I54+L54 -> 15954 | F54: 9803 | G54: =SUM(H54:I54) -> 30111 | H54: 14197 | I54: 15914 | J54: =SUM(K54:L54) -> 76 | K54: 36 | L54: 40
A55: 사 직 동 | B55: =F55 -> 3159 | C55: =SUM(D55:E55) -> 5943 | D55: =H55+K55 -> 3014 | E55: =I55+L55 -> 2929 | F55: 3159 | G55: =SUM(H55:I55) -> 5894 | H55: 2991 | I55: 2903 | J55: =SUM(K55:L55) -> 49 | K55: 23 | L55: 26
A56: 월 산 동 | B56: =F56 -> 4552 | C56: =SUM(D56:E56) -> 8863 | D56: =H56+K56 -> 4511 | E56: =I56+L56 -> 4352 | F56: 4552 | G56: =SUM(H56:I56) -> 8793 | H56: 4486 | I56: 4307 | J56: =SUM(K56:L56) -> 70 | K56: 25 | L56: 45
A57: 월산 4동 | B57: =F57 -> 4696 | C57: =SUM(D57:E57) -> 9528 | D57: =H57+K57 -> 4851 | E57: =I57+L57 -> 4677 | F57: 4696 | G57: =SUM(H57:I57) -> 9399 | H57: 4800 | I57: 4599 | J57: =SUM(K57:L57) -> 129 | K57: 51 | L57: 78
A58: 월산 5동 | B58: =F58 -> 3483 | C58: =SUM(D58:E58) -> 7057 | D58: =H58+K58 -> 3535 | E58: =I58+L58 -> 3522 | F58: 3483 | G58: =SUM(H58:I58) -> 7018 | H58: 3523 | I58: 3495 | J58: =SUM(K58:L58) -> 39 | K58: 12 | L58: 27
A59: 백운 1동 | B59: =F59 -> 5265 | C59: =SUM(D59:E59) -> 13436 | D59: =H59+K59 -> 6349 | E59: =I59+L59 -> 7087 | F59: 5265 | G59: =SUM(H59:I59) -> 13396 | H59: 6340 | I59: 7056 | J59: =SUM(K59:L59) -> 40 | K59: 9 | L59: 31
A60: 백운 2동 | B60: =F60 -> 3161 | C60: =SUM(D60:E60) -> 6447 | D60: =H60+K60 -> 3213 | E60: =I60+L60 -> 3234 | F60: 3161 | G60: =SUM(H60:I60) -> 6386 | H60: 3189 | I60: 3197 | J60: =SUM(K60:L60) -> 61 | K60: 24 | L60: 37
A61: 주월 1동 | B61: =F61 -> 8183 | C61: =SUM(D61:E61) -> 20247 | D61: =H61+K61 -> 9838 | E61: =I61+L61 -> 10409 | F61: 8183 | G61: =SUM(H61:I61) -> 20110 | H61: 9789 | I61: 10321 | J61: =SUM(K61:L61) -> 137 | K61: 49 | L61: 88
... A65: 대 촌 동 | B65: =F65 -> 2876 | C65: =SUM(D65:E65) -> 5977 | D65: =H65+K65 -> 2929 | E65: =I65+L65 -> 3048 | F65: 2876 | G65: =SUM(H65:I65) -> 5925 | H65: 2909 | I65: 3016 | J65: =SUM(K65:L65) -> 52 | K65: 20 | L65: 32
A67: ○ 북 구
B68: 합 계 | F68: 한 국 인 | J68: 외 국 인
A69: 구 분 | B69: 세 대 | C69: 인 구 | F69: 세 대 | G69: 인 구 | J69: 인 구
C70: 계 | D70: 남 | E70: 여 | G70: 계 | H70: 남 | I70: 여 | J70: 계 | K70: 남 | L70: 여
A71: 총 계 | B71: =SUM(B72:B98) -> 184617 | C71: =SUM(C72:C98) -> 444646 | D71: =SUM(D72:D98) -> 220610 | E71: =SUM(E72:E98) -> 224036 | F71: =SUM(F72:F98) -> 184617 | G71: =SUM(G72:G98) -> 439773 | H71: =SUM(H72:H98) -> 218323 | I71: =SUM(I72:I98) -> 221450 | ... L71: =SUM(L72:L98) -> 2586
A72: 중흥 1동 | B72: 2297 | C72: =SUM(D72:E72) -> 4259 | D72: =H72+K72 -> 2277 | E72: =I72+L72 -> 1982 | F72: 2297 | G72: =SUM(H72:I72) -> 4221 | H72: 2261 | I72: 1960 | J72: =SUM(K72:L72) -> 38 | K72: 16 | L72: 22
A73: 중흥 2동 | B73: 3654 | C73: =SUM(D73:E73) -> 7347 | D73: =H73+K73 -> 3718 | E73: =I73+L73 -> 3629 | F73: 3654 | G73: =SUM(H73:I73) -> 7284 | H73: 3688 | I73: 3596 | J73: =SUM(K73:L73) -> 63 | K73: 30 | L73: 33
A74: 중흥 3동 | B74: 2639 | C74: =SUM(D74:E74) -> 4986 | D74: =H74+K74 -> 2647 | E74: =I74+L74 -> 2339 | F74: 2639 | G74: =SUM(H74:I74) -> 4956 | H74: 2637 | I74: 2319 | J74: =SUM(K74:L74) -> 30 | K74: 10 | L74: 20
A75: 중 앙 동 | B75: 2151 | C75: =SUM(D75:E75) -> 3623 | D75: =H75+K75 -> 1938 | E75: =I75+L75 -> 1685 | F75: 2151 | G75: =SUM(H75:I75) -> 3605 | H75: 1930 | I75: 1675 | J75: =SUM(K75:L75) -> 18 | K75: 8 | L75: 10
A76: 임 동 | B76: 4026 | C76: =SUM(D76:E76) -> 8991 | D76: =H76+K76 -> 4448 | E76: =I76+L76 -> 4543 | F76: 4026 | G76: =SUM(H76:I76) -> 8938 | H76: 4431 | I76: 4507 | J76: =SUM(K76:L76) -> 53 | K76: 17 | L76: 36
A77: 신 안 동 | B77: 5928 | C77: =SUM(D77:E77) -> 10953 | D77: =H77+K77 -> 5717 | E77: =I77+L77 -> 5236 | F77: 5928 | G77: =SUM(H77:I77) -> 10860 | H77: 5685 | I77: 5175 | J77: =SUM(K77:L77) -> 93 | K77: 32 | L77: 61
A78: 용 봉 동 | B78: 16048 | C78: =SUM(D78:E78) -> 40664 | D78: =H78+K78 -> 20243 | E78: =I78+L78 -> 20421 | F78: 16048 | G78: =SUM(H78:I78) -> 38939 | H78: 19341 | I78: 19598 | J78: =SUM(K78:L78) -> 1725 | K78: 902 | L78: 823
A79: 운암 1동 | B79: 7373 | C79: =SUM(D79:E79) -> 20644 | D79: =H79+K79 -> 9934 | E79: =I79+L79 -> 10710 | F79: 7373 | G79: =SUM(H79:I79) -> 20573 | H79: 9907 | I79: 10666 | J79: =SUM(K79:L79) -> 71 | K79: 27 | L79: 44
A80: 운암 2동 | B80: 5998 | C80: =SUM(D80:E80) -> 13264 | D80: =H80+K80 -> 6690 | E80: =I80+L80 -> 6574 | F80: 5998 | G80: =SUM(H80:I80) -> 13164 | H80: 6652 | I80: 6512 | J80: =SUM(K80:L80) -> 100 | K80: 38 | L80: 62
A81: 운암 3동 | B81: 6245 | C81: =SUM(D81:E81) -> 16093 | D81: =H81+K81 -> 7783 | E81: =I81+L81 -> 8310 | F81: 6245 | G81: =SUM(H81:I81) -> 16045 | H81: 7772 | I81: 8273 | J81: =SUM(K81:L81) -> 48 | K81: 11 | L81: 37
A82: 동 림 동 | B82: 8974 | C82: =SUM(D82:E82) -> 23177 | D82: =H82+K82 -> 11437 | E82: =I82+L82 -> 11740 | F82: 8974 | G82: =SUM(H82:I82) -> 23070 | H82: 11397 | I82: 11673 | J82: =SUM(K82:L82) -> 107 | K82: 40 | L82: 67
A83: 우 산 동 | B83: 5918 | C83: =SUM(D83:E83) -> 11658 | D83: =H83+K83 -> 5694 | E83: =I83+L83 -> 5964 | F83: 5918 | G83: =SUM(H83:I83) -> 11590 | H83: 5672 | I83: 5918 | J83: =SUM(K83:L83) -> 68 | K83: 22 | L83: 46
... A98: 양 산 동 | B98: 14463 | C98: =SUM(D98:E98) -> 36637 | D98: =H98+K98 -> 18388 | E98: =I98+L98 -> 18249 | F98: 14463 | G98: =SUM(H98:I98) -> 36159 | H98: 18132 | I98: 18027 | J98: =SUM(K98:L98) -> 478 | K98: 256 | L98: 222
A100: ○ 광 산 구
B101: 합 계 | F101: 한 국 인 | J101: 외 국 인
A102: 구 분 | B102: 세 대 | C102: 인 구 | F102: 세 대 | G102: 인 구 | J102: 인 구
C103: 계 | D103: 남 | E103: 여 | G103: 계 | H103: 남 | I103: 여 | J103: 계 | K103: 남 | L103: 여
A104: 총 계 | B104: =SUM(B105:B125) -> 156713 | C104: =SUM(C105:C125) -> 417501 | D104: =SUM(D105:D125) -> 211406 | E104: =SUM(E105:E125) -> 206095 | F104: =SUM(F105:F125) -> 156713 | G104: =SUM(G105:G125) -> 404547 | H104: =SUM(H105:H125) -> 203479 | I104: =SUM(I105:I125) -> 201068 | ... L104: =SUM(L105:L125) -> 5027
A105: 송정 1동 | B105: =F105 -> 4639 | C105: =SUM(D105:E105) -> 11374 | D105: =H105+K105 -> 5732 | E105: =I105+L105 -> 5642 | F105: 4639 | G105: =SUM(H105:I105) -> 11161 | H105: 5645 | I105: 5516 | J105: =SUM(K105:L105) -> 213 | K105: 87 | L105: 126
A106: 송정 2동 | B106: =F106 -> 3369 | C106: =SUM(D106:E106) -> 6965 | D106: =H106+K106 -> 3464 | E106: =I106+L106 -> 3501 | F106: 3369 | G106: =SUM(H106:I106) -> 6825 | H106: 3414 | I106: 3411 | J106: =SUM(K106:L106) -> 140 | K106: 50 | L106: 90
A107: 도 산 동 | B107: =F107 -> 6187 | C107: =SUM(D107:E107) -> 15239 | D107: =H107+K107 -> 7599 | E107: =I107+L107 -> 7640 | F107: 6187 | G107: =SUM(H107:I107) -> 15063 | H107: 7527 | I107: 7536 | J107: =SUM(K107:L107) -> 176 | K107: 72 | L107: 104
A108: 신 흥 동 | B108: =F108 -> 2107 | C108: =SUM(D108:E108) -> 5061 | D108: =H108+K108 -> 2546 | E108: =I108+L108 -> 2515 | F108: 2107 | G108: =SUM(H108:I108) -> 4987 | H108: 2509 | I108: 2478 | J108: =SUM(K108:L108) -> 74 | K108: 37 | L108: 37
A109: 어 룡 동 | B109: =F109 -> 13321 | C109: =SUM(D109:E109) -> 34764 | D109: =H109+K109 -> 17803 | E109: =I109+L109 -> 16961 | F109: 13321 | G109: =SUM(H109:I109) -> 33382 | H109: 17033 | I109: 16349 | J109: =SUM(K109:L109) -> 1382 | K109: 770 | L109: 612
A110: 우 산 동 | B110: =F110 -> 11526 | C110: =SUM(D110:E110) -> 24578 | D110: =H110+K110 -> 12433 | E110: =I110+L110 -> 12145 | F110: 11526 | G110: =SUM(H110:I110) -> 24066 | H110: 12198 | I110: 11868 | J110: =SUM(K110:L110) -> 512 | K110: 235 | L110: 277
A111: 월곡 1동 | B111: =F111 -> 5106 | C111: =SUM(D111:E111) -> 13593 | D111: =H111+K111 -> 6984 | E111: =I111+L111 -> 6609 | F111: 5106 | G111: =SUM(H111:I111) -> 12294 | H111: 6274 | I111: 6020 | J111: =SUM(K111:L111) -> 1299 | K111: 710 | L111: 589
A112: 월곡 2동 | B112: =F112 -> 6717 | C112: =SUM(D112:E112) -> 20833 | D112: =H112+K112 -> 10662 | E112: =I112+L112 -> 10171 | F112: 6717 | G112: =SUM(H112:I112) -> 17426 | H112: 8903 | I112: 8523 | J112: =SUM(K112:L112) -> 3407 | K112: 1759 | L112: 1648
A113: 비 아 동 | B113: =F113 -> 3237 | C113: =SUM(D113:E113) -> 7762 | D113: =H113+K113 -> 4197 | E113: =I113+L113 -> 3565 | F113: 3237 | G113: =SUM(H113:I113) -> 7187 | H113: 3799 | I113: 3388 | J113: =SUM(K113:L113) -> 575 | K113: 398 | L113: 177
A114: 첨단 1동 | B114: =F114 -> 8164 | C114: =SUM(D114:E114) -> 24347 | D114: =H114+K114 -> 12126 | E114: =I114+L114 -> 12221 | F114: 8164 | G114: =SUM(H114:I114) -> 24264 | H114: 12079 | I114: 12185 | J114: =SUM(K114:L114) -> 83 | K114: 47 | L114: 36
A115: 첨단 2동 | B115: =F115 -> 15899 | C115: =SUM(D115:E115) -> 42442 | D115: =H115+K115 -> 21291 | E115: =I115+L115 -> 21151 | F115: 15899 | G115: =SUM(H115:I115) -> 41823 | H115: 20990 | I115: 20833 | J115: =SUM(K115:L115) -> 619 | K115: 301 | L115: 318
A116: 신 가 동 | B116: =F116 -> 8602 | C116: =SUM(D116:E116) -> 23051 | D116: =H116+K116 -> 11727 | E116: =I116+L116 -> 11324 | F116: 8602 | G116: =SUM(H116:I116) -> 22820 | H116: 11632 | I116: 11188 | J116: =SUM(K116:L116) -> 231 | K116: 95 | L116: 136
... A125: 본 량 동 | B125: =F125 -> 1159 | C125: =SUM(D125:E125) -> 2130 | D125: =H125+K125 -> 1068 | E125: =I125+L125 -> 1062 | F125: 1159 | G125: =SUM(H125:I125) -> 2116 | H125: 1057 | I125: 1059 | J125: =SUM(K125:L125) -> 14 | K125: 11 | L125: 3

Sheet 2019년
A1: 2. 동별 내국인·외국인 인구 및 세대 (동구~광산구) - 2019년 12월 31일 기준
A2: ○ 동 구
A3: 구 분 | B3: 합 계 | F3: 내 국 인 | J3: 외 국 인
B4: 세 대 | C4: 인 구 | F4: 세 대 | G4: 인 구 | J4: 인 구
C5: 계 | D5: 남 | E5: 여 | G5: 계 | H5: 남 | I5: 여 | J5: 계 | K5: 남 | L5: 여
A6: 2019 | B6: 47885 | C6: =SUM(G6,J6) -> 100504 | D6: =SUM(H6,K6) -> 49787 | E6: =SUM(I6,L6) -> 50717 | F6: 47885 | G6: 98585 | H6: 48799 | I6: 49786 | J6: 1919 | K6: 988 | L6: 931
A7: 충 장 동 | B7: 3116 | C7: =SUM(G7,J7) -> 4502 | D7: =SUM(H7,K7) -> 2365 | E7: =SUM(I7,L7) -> 2137 | F7: 3116 | G7: 4428 | H7: 2322 | I7: 2106 | J7: 74 | K7: 43 | L7: 31
A8: 동 명 동 | B8: 2226 | C8: =SUM(G8,J8) -> 4066 | D8: =SUM(H8,K8) -> 2027 | E8: =SUM(I8,L8) -> 2039 | F8: 2226 | G8: 3844 | H8: 1918 | I8: 1926 | J8: 222 | K8: 109 | L8: 113
A9: 계림1동 | B9: 3823 | C9: =SUM(G9,J9) -> 6108 | D9: =SUM(H9,K9) -> 3280 | E9: =SUM(I9,L9) -> 2828 | F9: 3823 | G9: 6050 | H9: 3250 | I9: 2800 | J9: 58 | K9: 30 | L9: 28
A10: 계림2동 | B10: 3446 | C10: =SUM(G10,J10) -> 8271 | D10: =SUM(H10,K10) -> 4072 | E10: =SUM(I10,L10) -> 4199 | F10: 3446 | G10: 8238 | H10: 4062 | I10: 4176 | J10: 33 | K10: 10 | L10: 23
A11: 산수1동 | B11: 4404 | C11: =SUM(G11,J11) -> 8900 | D11: =SUM(H11,K11) -> 4427 | E11: =SUM(I11,L11) -> 4473 | F11: 4404 | G11: 8827 | H11: 4399 | I11: 4428 | J11: 73 | K11: 28 | L11: 45
A12: 산수2동 | B12: 4671 | C12: =SUM(G12,J12) -> 10764 | D12: =SUM(H12,K12) -> 5262 | E12: =SUM(I12,L12) -> 5502 | F12: 4671 | G12: 10728 | H12: 5245 | I12: 5483 | J12: 36 | K12: 17 | L12: 19
A13: 지산1동 | B13: 2333 | C13: =SUM(G13,J13) -> 4818 | D13: =SUM(H13,K13) -> 2444 | E13: =SUM(I13,L13) -> 2374 | F13: 2333 | G13: 4470 | H13: 2243 | I13: 2227 | J13: 348 | K13: 201 | L13: 147
A14: 지산2동 | B14: 2420 | C14: =SUM(G14,J14) -> 5086 | D14: =SUM(H14,K14) -> 2605 | E14: =SUM(I14,L14) -> 2481 | F14: 2420 | G14: 4843 | H14: 2468 | I14: 2375 | J14: 243 | K14: 137 | L14: 106
A15: 서 남 동 | B15: 2189 | C15: =SUM(G15,J15) -> 3787 | D15: =SUM(H15,K15) -> 1897 | E15: =SUM(I15,L15) -> 1890 | F15: 2189 | G15: 3212 | H15: 1625 | I15: 1587 | J15: 575 | K15: 272 | L15: 303
A16: 학 동 | B16: 3936 | C16: =SUM(G16,J16) -> 8629 | D16: =SUM(H16,K16) -> 4154 | E16: =SUM(I16,L16) -> 4475 | F16: 3936 | G16: 8585 | H16: 4132 | I16: 4453 | J16: 44 | K16: 22 | L16: 22
A17: 학 운 동 | B17: 5171 | C17: =SUM(G17,J17) -> 12387 | D17: =SUM(H17,K17) -> 5897 | E17: =SUM(I17,L17) -> 6490 | F17: 5171 | G17: 12255 | H17: 5810 | I17: 6445 | J17: 132 | K17: 87 | L17: 45
A18: 지원1동 | B18: 3638 | C18: =SUM(G18,J18) -> 8266 | D18: =SUM(H18,K18) -> 4029 | E18: =SUM(I18,L18) -> 4237 | F18: 3638 | G18: 8226 | H18: 4013 | I18: 4213 | J18: 40 | K18: 16 | L18: 24
A19: 지원2동 | B19: 6512 | C19: =SUM(G19,J19) -> 14920 | D19: =SUM(H19,K19) -> 7328 | E19: =SUM(I19,L19) -> 7592 | F19: 6512 | G19: 14879 | H19: 7312 | I19: 7567 | J19: 41 | K19: 16 | L19: 25
A21: ○ 서 구
B22: 합 계 | F22: 내 국 인 | J22: 외 국 인
A23: 구 분 | B23: 세 대 | C23: 인 구 | F23: 세 대 | G23: 인 구 | J23: 인 구
C24: 계 | D24: 남 | E24: 여 | G24: 계 | H24: 남 | I24: 여 | J24: 계 | K24: 남 | L24: 여
A25: 2019 | B25: 128783 | C25: =SUM(G25,J25) -> 302666 | D25: =SUM(H25,K25) -> 148429 | E25: =SUM(I25,L25) -> 154237 | F25: 128783 | G25: 300975 | H25: 147671 | I25: 153304 | J25: 1691 | K25: 758 | L25: 933
A26: 양 동 | B26: 2253 | C26: =SUM(G26,J26) -> 4214 | D26: =SUM(H26,K26) -> 2063 | E26: =SUM(I26,L26) -> 2151 | F26: 2253 | G26: 4178 | H26: 2055 | I26: 2123 | J26: 36 | K26: 8 | L26: 28
A27: 양 3 동 | B27: 2218 | C27: =SUM(G27,J27) -> 4905 | D27: =SUM(H27,K27) -> 2410 | E27: =SUM(I27,L27) -> 2495 | F27: 2218 | G27: 4866 | H27: 2400 | I27: 2466 | J27: 39 | K27: 10 | L27: 29
A28: 농성 1동 | B28: 5894 | C28: =SUM(G28,J28) -> 11049 | D28: =SUM(H28,K28) -> 5517 | E28: =SUM(I28,L28) -> 5532 | F28: 5894 | G28: 10976 | H28: 5484 | I28: 5492 | J28: 73 | K28: 33 | L28: 40
A29: 농성 2동 | B29: 2951 | C29: =SUM(G29,J29) -> 5338 | D29: =SUM(H29,K29) -> 2740 | E29: =SUM(I29,L29) -> 2598 | F29: 2951 | G29: 5293 | H29: 2722 | I29: 2571 | J29: 45 | K29: 18 | L29: 27
A30: 광 천 동 | B30: 4210 | C30: =SUM(G30,J30) -> 8600 | D30: =SUM(H30,K30) -> 4382 | E30: =SUM(I30,L30) -> 4218 | F30: 4210 | G30: 8528 | H30: 4343 | I30: 4185 | J30: 72 | K30: 39 | L30: 33
A31: 유 덕 동 | B31: 4616 | C31: =SUM(G31,J31) -> 11155 | D31: =SUM(H31,K31) -> 5753 | E31: =SUM(I31,L31) -> 5402 | F31: 4616 | G31: 11003 | H31: 5647 | I31: 5356 | J31: 152 | K31: 106 | L31: 46
A32: 치 평 동 | B32: 13000 | C32: =SUM(G32,J32) -> 31302 | D32: =SUM(H32,K32) -> 15103 | E32: =SUM(I32,L32) -> 16199 | F32: 13000 | G32: 31153 | H32: 15034 | I32: 16119 | J32: 149 | K32: 69 | L32: 80
A33: 상무 1동 | B33: 11674 | C33: =SUM(G33,J33) -> 25407 | D33: =SUM(H33,K33) -> 12597 | E33: =SUM(I33,L33) -> 12810 | F33: 11674 | G33: 25241 | H33: 12537 | I33: 12704 | J33: 166 | K33: 60 | L33: 106
A34: 상무 2동 | B34: 12499 | C34: =SUM(G34,J34) -> 24698 | D34: =SUM(H34,K34) -> 12082 | E34: =SUM(I34,L34) -> 12616 | F34: 12499 | G34: 24525 | H34: 12012 | I34: 12513 | J34: 173 | K34: 70 | L34: 103
A35: 화정 1동 | B35: 7793 | C35: =SUM(G35,J35) -> 15626 | D35: =SUM(H35,K35) -> 7455 | E35: =SUM(I35,L35) -> 8171 | F35: 7793 | G35: 15531 | H35: 7427 | I35: 8104 | J35: 95 | K35: 28 | L35: 67
A36: 화정 2동 | B36: 8008 | C36: =SUM(G36,J36) -> 21373 | D36: =SUM(H36,K36) -> 10704 | E36: =SUM(I36,L36) -> 10669 | F36: 8008 | G36: 21322 | H36: 10694 | I36: 10628 | J36: 51 | K36: 10 | L36: 41
A37: 화정 3동 | B37: 4513 | C37: =SUM(G37,J37) -> 10675 | D37: =SUM(H37,K37) -> 5238 | E37: =SUM(I37,L37) -> 5437 | F37: 4513 | G37: 10645 | H37: 5230 | I37: 5415 | J37: 30 | K37: 8 | L37: 22
... A43: 동 천 동 | B43: 6354 | C43: =SUM(G43,J43) -> 17139 | D43: =SUM(H43,K43) -> 8156 | E43: =SUM(I43,L43) -> 8983 | F43: 6354 | G43: 17022 | H43: 8077 | I43: 8945 | J43: 117 | K43: 79 | L43: 38
A45: ○ 남 구
B46: 합 계 | F46: 내 국 인 | J46: 외 국 인
A47: 구 분 | B47: 세 대 | C47: 인 구 | F47: 세 대 | G47: 인 구 | J47: 인 구
C48: 계 | D48: 남 | E48: 여 | G48: 계 | H48: 남 | I48: 여 | J48: 계 | K48: 남 | L48: 여
A49: 2019 | B49: 92233 | C49: =SUM(G49,J49) -> 219613 | D49: =SUM(H49,K49) -> 105653 | E49: =SUM(I49,L49) -> 113960 | F49: 92233 | G49: 218060 | H49: 105027 | I49: 113033 | J49: 1553 | K49: 626 | L49: 927
A50: 양 림 동 | B50: 3320 | C50: =SUM(G50,J50) -> 7592 | D50: =SUM(H50,K50) -> 3492 | E50: =SUM(I50,L50) -> 4100 | F50: 3320 | G50: 7559 | H50: 3483 | I50: 4076 | J50: 33 | K50: 9 | L50: 24
A51: 방림 1동 | B51: 3085 | C51: =SUM(G51,J51) -> 7274 | D51: =SUM(H51,K51) -> 3460 | E51: =SUM(I51,L51) -> 3814 | F51: 3085 | G51: 7231 | H51: 3446 | I51: 3785 | J51: 43 | K51: 14 | L51: 29
A52: 방림 2동 | B52: 4082 | C52: =SUM(G52,J52) -> 9421 | D52: =SUM(H52,K52) -> 4458 | E52: =SUM(I52,L52) -> 4963 | F52: 4082 | G52: 9390 | H52: 4449 | I52: 4941 | J52: 31 | K52: 9 | L52: 22
A53: 봉선 1동 | B53: 6870 | C53: =SUM(G53,J53) -> 15122 | D53: =SUM(H53,K53) -> 7164 | E53: =SUM(I53,L53) -> 7958 | F53: 6870 | G53: 15005 | H53: 7121 | I53: 7884 | J53: 117 | K53: 43 | L53: 74
A54: 봉선 2동 | B54: 9822 | C54: =SUM(G54,J54) -> 29602 | D54: =SUM(H54,K54) -> 13901 | E54: =SUM(I54,L54) -> 15701 | F54: 9822 | G54: 29529 | H54: 13862 | I54: 15667 | J54: 73 | K54: 39 | L54: 34
A55: 사 직 동 | B55: 3077 | C55: =SUM(G55,J55) -> 5669 | D55: =SUM(H55,K55) -> 2897 | E55: =SUM(I55,L55) -> 2772 | F55: 3077 | G55: 5604 | H55: 2861 | I55: 2743 | J55: 65 | K55: 36 | L55: 29
A56: 월 산 동 | B56: 4161 | C56: =SUM(G56,J56) -> 8005 | D56: =SUM(H56,K56) -> 4089 | E56: =SUM(I56,L56) -> 3916 | F56: 4161 | G56: 7938 | H56: 4063 | I56: 3875 | J56: 67 | K56: 26 | L56: 41
A57: 월산 4동 | B57: 4755 | C57: =SUM(G57,J57) -> 9225 | D57: =SUM(H57,K57) -> 4714 | E57: =SUM(I57,L57) -> 4511 | F57: 4755 | G57: 9107 | H57: 4668 | I57: 4439 | J57: 118 | K57: 46 | L57: 72
A58: 월산 5동 | B58: 3467 | C58: =SUM(G58,J58) -> 6830 | D58: =SUM(H58,K58) -> 3400 | E58: =SUM(I58,L58) -> 3430 | F58: 3467 | G58: 6789 | H58: 3386 | I58: 3403 | J58: 41 | K58: 14 | L58: 27
A59: 백운 1동 | B59: 5225 | C59: =SUM(G59,J59) -> 13019 | D59: =SUM(H59,K59) -> 6142 | E59: =SUM(I59,L59) -> 6877 | F59: 5225 | G59: 12980 | H59: 6133 | I59: 6847 | J59: 39 | K59: 9 | L59: 30
A60: 백운 2동 | B60: 3167 | C60: =SUM(G60,J60) -> 6311 | D60: =SUM(H60,K60) -> 3120 | E60: =SUM(I60,L60) -> 3191 | F60: 3167 | G60: 6261 | H60: 3103 | I60: 3158 | J60: 50 | K60: 17 | L60: 33
A61: 주월 1동 | B61: 8469 | C61: =SUM(G61,J61) -> 20184 | D61: =SUM(H61,K61) -> 9817 | E61: =SUM(I61,L61) -> 10367 | F61: 8469 | G61: 20041 | H61: 9776 | I61: 10265 | J61: 143 | K61: 41 | L61: 102
... A65: 대 촌 동 | B65: 2862 | C65: =SUM(G65,J65) -> 5769 | D65: =SUM(H65,K65) -> 2834 | E65: =SUM(I65,L65) -> 2935 | F65: 2862 | G65: 5721 | H65: 2816 | I65: 2905 | J65: 48 | K65: 18 | L65: 30
A67: ○ 북 구
B68: 합 계 | F68: 한 국 인 | J68: 외 국 인
A69: 구 분 | B69: 세 대 | C69: 인 구 | F69: 세 대 | G69: 인 구 | J69: 인 구
C70: 계 | D70: 남 | E70: 여 | G70: 계 | H70: 남 | I70: 여 | J70: 계 | K70: 남 | L70: 여
A71: 2019 | B71: =SUM(B72:B98) -> 187015 | C71: =SUM(G71,J71) -> 438734 | D71: =SUM(H71,K71) -> 217787 | E71: =SUM(I71,L71) -> 220947 | F71: =SUM(F72:F98) -> 187015 | G71: =SUM(G72:G98) -> 433533 | H71: =SUM(H72:H98) -> 215260 | I71: =SUM(I72:I98) -> 218273 | J71: 5201 | K71: 2527 | L71: 2674
A72: 중흥 1동 | B72: 2937 | C72: =SUM(G72,J72) -> 4978 | D72: =SUM(H72,K72) -> 2571 | E72: =SUM(I72,L72) -> 2407 | F72: 2937 | G72: 4929 | H72: 2552 | I72: 2377 | J72: 49 | K72: 19 | L72: 30
A73: 중흥 2동 | B73: 3615 | C73: =SUM(G73,J73) -> 7074 | D73: =SUM(H73,K73) -> 3579 | E73: =SUM(I73,L73) -> 3495 | F73: 3615 | G73: 7004 | H73: 3545 | I73: 3459 | J73: 70 | K73: 34 | L73: 36
A74: 중흥 3동 | B74: 2616 | C74: =SUM(G74,J74) -> 4814 | D74: =SUM(H74,K74) -> 2550 | E74: =SUM(I74,L74) -> 2264 | F74: 2616 | G74: 4755 | H74: 2524 | I74: 2231 | J74: 59 | K74: 26 | L74: 33
A75: 중 앙 동 | B75: 2088 | C75: =SUM(G75,J75) -> 3387 | D75: =SUM(H75,K75) -> 1808 | E75: =SUM(I75,L75) -> 1579 | F75: 2088 | G75: 3362 | H75: 1799 | I75: 1563 | J75: 25 | K75: 9 | L75: 16
A76: 임 동 | B76: 3803 | C76: =SUM(G76,J76) -> 8362 | D76: =SUM(H76,K76) -> 4129 | E76: =SUM(I76,L76) -> 4233 | F76: 3803 | G76: 8297 | H76: 4089 | I76: 4208 | J76: 65 | K76: 40 | L76: 25
A77: 신 안 동 | B77: 6148 | C77: =SUM(G77,J77) -> 11009 | D77: =SUM(H77,K77) -> 5733 | E77: =SUM(I77,L77) -> 5276 | F77: 6148 | G77: 10899 | H77: 5689 | I77: 5210 | J77: 110 | K77: 44 | L77: 66
A78: 용 봉 동 | B78: 16437 | C78: =SUM(G78,J78) -> 40651 | D78: =SUM(H78,K78) -> 20366 | E78: =SUM(I78,L78) -> 20285 | F78: 16437 | G78: 38690 | H78: 19298 | I78: 19392 | J78: 1961 | K78: 1068 | L78: 893
A79: 운암 1동 | B79: 7353 | C79: =SUM(G79,J79) -> 20146 | D79: =SUM(H79,K79) -> 9689 | E79: =SUM(I79,L79) -> 10457 | F79: 7353 | G79: 20091 | H79: 9669 | I79: 10422 | J79: 55 | K79: 20 | L79: 35
A80: 운암 2동 | B80: 6033 | C80: =SUM(G80,J80) -> 12985 | D80: =SUM(H80,K80) -> 6544 | E80: =SUM(I80,L80) -> 6441 | F80: 6033 | G80: 12883 | H80: 6505 | I80: 6378 | J80: 102 | K80: 39 | L80: 63
A81: 운암 3동 | B81: 5916 | C81: =SUM(G81,J81) -> 15042 | D81: =SUM(H81,K81) -> 7290 | E81: =SUM(I81,L81) -> 7752 | F81: 5916 | G81: 15000 | H81: 7280 | I81: 7720 | J81: 42 | K81: 10 | L81: 32
A82: 동 림 동 | B82: 9094 | C82: =SUM(G82,J82) -> 22990 | D82: =SUM(H82,K82) -> 11334 | E82: =SUM(I82,L82) -> 11656 | F82: 9094 | G82: 22890 | H82: 11301 | I82: 11589 | J82: 100 | K82: 33 | L82: 67
A83: 우 산 동 | B83: 5852 | C83: =SUM(G83,J83) -> 11272 | D83: =SUM(H83,K83) -> 5505 | E83: =SUM(I83,L83) -> 5767 | F83: 5852 | G83: 11204 | H83: 5481 | I83: 5723 | J83: 68 | K83: 24 | L83: 44
... A98: 양 산 동 | B98: 14844 | C98: =SUM(G98,J98) -> 36447 | D98: =SUM(H98,K98) -> 18375 | E98: =SUM(I98,L98) -> 18072 | F98: 14844 | G98: 35937 | H98: 18093 | I98: 17844 | J98: 510 | K98: 282 | L98: 228
A100: ○ 광 산 구
B101: 합 계 | F101: 한 국 인 | J101: 외 국 인
A102: 구 분 | B102: 세 대 | C102: 인 구 | F102: 세 대 | G102: 인 구 | J102: 인 구
C103: 계 | D103: 남 | E103: 여 | G103: 계 | H103: 남 | I103: 여 | J103: 계 | K103: 남 | L103: 여
A104: 2019 | B104: 160569 | C104: =SUM(G104,J104) -> 418776 | D104: =SUM(H104,K104) -> 212104 | E104: =SUM(I104,L104) -> 206672 | F104: 160569 | G104: 405315 | H104: 203983 | I104: 201332 | J104: 13461 | K104: 8121 | L104: 5340
A105: 송정 1동 | B105: 4841 | C105: =SUM(G105,J105) -> 11615 | D105: =SUM(H105,K105) -> 5837 | E105: =SUM(I105,L105) -> 5778 | F105: 4841 | G105: 11381 | H105: 5737 | I105: 5644 | J105: 234 | K105: 100 | L105: 134
A106: 송정 2동 | B106: 3402 | C106: =SUM(G106,J106) -> 6870 | D106: =SUM(H106,K106) -> 3431 | E106: =SUM(I106,L106) -> 3439 | F106: 3402 | G106: 6719 | H106: 3370 | I106: 3349 | J106: 151 | K106: 61 | L106: 90
A107: 도 산 동 | B107: 6703 | C107: =SUM(G107,J107) -> 16382 | D107: =SUM(H107,K107) -> 8219 | E107: =SUM(I107,L107) -> 8163 | F107: 6703 | G107: 16164 | H107: 8120 | I107: 8044 | J107: 218 | K107: 99 | L107: 119
