Workbook
Name _E1: #REF!
Name _E1: #REF!
Name _E1: #REF!
Name _E1: #REF!
Name _E1: #REF!
Name _E1: #REF!
Name _E1: #REF!
Name _E1: #REF!
Name dd: [1]Sheet2!$E$1:$E$65536
Name 전체: #REF!
Name 전체: #REF!
Name 전체: #REF!
Name 전체: #REF!
Name 전체: #REF!
Name 전체: #REF!
Name 전체: #REF!
Name 전체: #REF!

Sheet 2006년
A1: 2. 동별 세대 및 인구 (동구~광산구)
A2: ○ 동 구
A3: 구 분 | B3: 세 대 | C3: 합 계 | F3: 한 국 인 | I3: 외 국 인
C4: 계 | D4: 남 | E4: 여 | F4: 계 | G4: 남 | H4: 여 | I4: 계 | J4: 남 | K4: 여
A5: 2006 | B5: =SUM(B6:B18) -> 47393 | C5: =SUM(C6:C18) -> 114936 | D5: =SUM(D6:D18) -> 57110 | E5: =SUM(E6:E18) -> 57826 | F5: =SUM(F6:F18) -> 114086 | G5: =SUM(G6:G18) -> 56735 | H5: =SUM(H6:H18) -> 57351 | I5: =SUM(I6:I18) -> 850 | ... K5: =SUM(K6:K18) -> 475
A6: 충장동 | B6: 3111 | C6: =SUM(D6:E6) -> 6206 | D6: =G6+J6 -> 3231 | E6: =H6+K6 -> 2975 | F6: =SUM(G6:H6) -> 6127 | G6: =[2]동구연령별!F5 -> 3196 | H6: =[2]동구연령별!G5 -> 2931 | I6: =SUM(J6:K6) -> 79 | J6: =[3]외국인!F5 -> 35 | K6: =[3]외국인!G5 -> 44
A7: 동명동 | B7: 3045 | C7: =SUM(D7:E7) -> 6618 | D7: =G7+J7 -> 3294 | E7: =H7+K7 -> 3324 | F7: =SUM(G7:H7) -> 6587 | G7: =[2]동구연령별!I5 -> 3281 | H7: =[2]동구연령별!J5 -> 3306 | I7: =SUM(J7:K7) -> 31 | J7: =[3]외국인!I5 -> 13 | K7: =[3]외국인!J5 -> 18
A8: 계림1동 | B8: 4419 | C8: =SUM(D8:E8) -> 9154 | D8: =G8+J8 -> 4513 | E8: =H8+K8 -> 4641 | F8: =SUM(G8:H8) -> 9121 | G8: =[2]동구연령별!L5 -> 4505 | H8: =[2]동구연령별!M5 -> 4616 | I8: =SUM(J8:K8) -> 33 | J8: =[3]외국인!L5 -> 8 | K8: =[3]외국인!M5 -> 25
A9: 계림2동 | B9: 3321 | C9: =SUM(D9:E9) -> 8718 | D9: =G9+J9 -> 4259 | E9: =H9+K9 -> 4459 | F9: =SUM(G9:H9) -> 8688 | G9: =[2]동구연령별!O5 -> 4244 | H9: =[2]동구연령별!P5 -> 4444 | I9: =SUM(J9:K9) -> 30 | J9: =[3]외국인!O5 -> 15 | K9: =[3]외국인!P5 -> 15
A10: 산수1동 | B10: 4634 | C10: =SUM(D10:E10) -> 10888 | D10: =G10+J10 -> 5423 | E10: =H10+K10 -> 5465 | F10: =SUM(G10:H10) -> 10838 | G10: =[2]동구연령별!R5 -> 5406 | H10: =[2]동구연령별!S5 -> 5432 | I10: =SUM(J10:K10) -> 50 | J10: =[3]외국인!R5 -> 17 | K10: =[3]외국인!S5 -> 33
A11: 산수2동 | B11: 4501 | C11: =SUM(D11:E11) -> 12212 | D11: =G11+J11 -> 5951 | E11: =H11+K11 -> 6261 | F11: =SUM(G11:H11) -> 12189 | G11: =[2]동구연령별!U5 -> 5945 | H11: =[2]동구연령별!V5 -> 6244 | I11: =SUM(J11:K11) -> 23 | J11: =[3]외국인!U5 -> 6 | K11: =[3]외국인!V5 -> 17
A12: 지산1동 | B12: 2477 | C12: =SUM(D12:E12) -> 5576 | D12: =G12+J12 -> 2774 | E12: =H12+K12 -> 2802 | F12: =SUM(G12:H12) -> 5536 | G12: =[2]동구연령별!X5 -> 2756 | H12: =[2]동구연령별!Y5 -> 2780 | I12: =SUM(J12:K12) -> 40 | J12: =[3]외국인!X5 -> 18 | K12: =[3]외국인!Y5 -> 22
A13: 지산2동 | B13: 2791 | C13: =SUM(D13:E13) -> 6871 | D13: =G13+J13 -> 3514 | E13: =H13+K13 -> 3357 | F13: =SUM(G13:H13) -> 6851 | G13: =[2]동구연령별!AA5 -> 3508 | H13: =[2]동구연령별!AB5 -> 3343 | I13: =SUM(J13:K13) -> 20 | J13: =[3]외국인!AA5 -> 6 | K13: =[3]외국인!AB5 -> 14
A14: 서남동 | B14: 2725 | C14: =SUM(D14:E14) -> 5794 | D14: =G14+J14 -> 2883 | E14: =H14+K14 -> 2911 | F14: =SUM(G14:H14) -> 5424 | G14: =[2]동구연령별!AD5 -> 2680 | H14: =[2]동구연령별!AE5 -> 2744 | I14: =SUM(J14:K14) -> 370 | J14: =[3]외국인!AD5 -> 203 | K14: =[3]외국인!AE5 -> 167
A15: 학 동 | B15: 4293 | C15: =SUM(D15:E15) -> 9404 | D15: =G15+J15 -> 4631 | E15: =H15+K15 -> 4773 | F15: =SUM(G15:H15) -> 9304 | G15: =[2]동구연령별!AG5 -> 4600 | H15: =[2]동구연령별!AH5 -> 4704 | I15: =SUM(J15:K15) -> 100 | J15: =[3]외국인!AG5 -> 31 | K15: =[3]외국인!AH5 -> 69
A16: 학운동 | B16: 5071 | C16: =SUM(D16:E16) -> 14611 | D16: =G16+J16 -> 7139 | E16: =H16+K16 -> 7472 | F16: =SUM(G16:H16) -> 14576 | G16: =[2]동구연령별!AJ5 -> 7133 | H16: =[2]동구연령별!AK5 -> 7443 | I16: =SUM(J16:K16) -> 35 | J16: =[3]외국인!AJ5 -> 6 | K16: =[3]외국인!AK5 -> 29
A17: 지원1동 | B17: 3483 | C17: =SUM(D17:E17) -> 9848 | D17: =G17+J17 -> 4917 | E17: =H17+K17 -> 4931 | F17: =SUM(G17:H17) -> 9813 | G17: =[2]동구연령별!AM5 -> 4901 | H17: =[2]동구연령별!AN5 -> 4912 | I17: =SUM(J17:K17) -> 35 | J17: =[3]외국인!AM5 -> 16 | K17: =[3]외국인!AN5 -> 19
A18: 지원2동 | B18: 3522 | C18: =SUM(D18:E18) -> 9036 | D18: =G18+J18 -> 4581 | E18: =H18+K18 -> 4455 | F18: =SUM(G18:H18) -> 9032 | G18: =[2]동구연령별!AP5 -> 4580 | H18: =[2]동구연령별!AQ5 -> 4452 | I18: =SUM(J18:K18) -> 4 | J18: =[3]외국인!AP5 -> 1 | K18: =[3]외국인!AQ5 -> 3
A22: ○ 서 구 | J22: (단위 : 세대, 명)
B23: 세 대 | C23: 합 계 | F23: 한 국 인 | I23: 외 국 인
C24: 계 | D24: 남 | E24: 여 | F24: 계 | G24: 남 | H24: 여 | I24: 계 | J24: 남 | K24: 여
A25: 2006 | B25: =SUM(B26:B42) -> 105446 | C25: =SUM(C26:C42) -> 310129 | D25: =SUM(D26:D42) -> 152936 | E25: =SUM(E26:E42) -> 157193 | F25: =SUM(F26:F42) -> 309362 | G25: =SUM(G26:G42) -> 152615 | H25: =SUM(H26:H42) -> 156747 | I25: =SUM(I26:I42) -> 767 | ... K25: =SUM(K26:K42) -> 446
A26: 양 동 | B26: 2547 | C26: 6435 | D26: 3219 | E26: 3216 | F26: 6415 | G26: 3217 | H26: 3198 | I26: 20 | J26: 2 | K26: 18
A27: 양 3 동 | B27: 1785 | C27: 4805 | D27: 2455 | E27: 2350 | F27: 4798 | G27: 2454 | H27: 2344 | I27: 7 | J27: 1 | K27: 6
A28: 농성1동 | B28: 4101 | C28: 10103 | D28: 5034 | E28: 5069 | F28: 10062 | G28: 5022 | H28: 5040 | I28: 41 | J28: 12 | K28: 29
A29: 농성2동 | B29: 2620 | C29: 6494 | D29: 3288 | E29: 3206 | F29: 6487 | G29: 3285 | H29: 3202 | I29: 7 | J29: 3 | K29: 4
A30: 광 천 동 | B30: 4218 | C30: 10386 | D30: 5254 | E30: 5132 | F30: 10355 | G30: 5245 | H30: 5110 | I30: 31 | J30: 9 | K30: 22
A31: 유 덕 동 | B31: 4207 | C31: 12961 | D31: 6517 | E31: 6444 | F31: 12902 | G31: 6493 | H31: 6409 | I31: 59 | J31: 24 | K31: 35
A32: 상무1동 | B32: 9206 | C32: 25288 | D32: 12501 | E32: 12787 | F32: 25201 | G32: 12465 | H32: 12736 | I32: 87 | J32: 36 | K32: 51
A33: 상무2동 | B33: 10412 | C33: 27814 | D33: 13668 | E33: 14146 | F33: 27768 | G33: 13652 | H33: 14116 | I33: 46 | J33: 16 | K33: 30
A34: 화정1동 | B34: 6531 | C34: 17811 | D34: 8684 | E34: 9127 | F34: 17718 | G34: 8645 | H34: 9073 | I34: 93 | J34: 39 | K34: 54
A35: 화정2동 | B35: 6794 | C35: 19676 | D35: 9691 | E35: 9985 | F35: 19671 | G35: 9690 | H35: 9981 | I35: 5 | J35: 1 | K35: 4
A36: 화정3동 | B36: 4707 | C36: 14043 | D36: 7070 | E36: 6973 | F36: 14030 | G36: 7067 | H36: 6963 | I36: 13 | J36: 3 | K36: 10
A37: 화정4동 | B37: 7103 | C37: 22723 | D37: 11159 | E37: 11564 | F37: 22690 | G37: 11149 | H37: 11541 | I37: 33 | J37: 10 | K37: 23
... A42: 풍 암 동 | B42: 12787 | C42: 39995 | D42: 19438 | E42: 20557 | F42: 39896 | G42: 19383 | H42: 20513 | I42: 99 | J42: 55 | K42: 44
A44: ○ 남 구 | J44: (단위 : 세대, 명)
A45: 구 분 | B45: 세 대 | C45: 합 계 | F45: 한 국 인 | I45: 외 국 인
C46: 계 | D46: 남 | E46: 여 | F46: 계 | G46: 남 | H46: 여 | I46: 계 | J46: 남 | K46: 여
A47: 2006 | B47: 74859 | C47: 212450 | D47: 103849 | E47: 108601 | F47: 211744 | G47: 103556 | H47: 108188 | I47: 706 | J47: 293 | K47: 413
A48: 양 림 동 | B48: 2135 | C48: 5014 | D48: 2509 | E48: 2505 | F48: 4941 | G48: 2456 | H48: 2485 | I48: 73 | J48: 53 | K48: 20
...

Sheet 2007년
A1: 2. 동별 세대 및 인구 (동구~광산구)
A2: ○ 동 구 | K2: (단위 : 세대, 명)
A3: 구 분 | B3: 세 대 | C3: 합 계 | F3: 한 국 인 | I3: 외 국 인
C4: 계 | D4: 남 | E4: 여 | F4: 계 | G4: 남 | H4: 여 | I4: 계 | J4: 남 | K4: 여
A5: 2007 | B5: 48606 | C5: 116112 | D5: 57825 | E5: 58287 | F5: 115066 | G5: 57347 | H5: 57719 | I5: 1046 | J5: 478 | K5: 568
A6: 충 장 동 | B6: 3059 | C6: 6038 | D6: 3164 | E6: 2874 | F6: 5935 | G6: 3120 | H6: 2815 | I6: 103 | J6: 44 | K6: 59
A7: 동 명 동 | B7: 3056 | C7: 9307 | D7: 4625 | E7: 4682 | F7: 6524 | G7: 3260 | H7: 3264 | I7: 41 | J7: 12 | K7: 29
A8: 계 림 1동 | B8: 4638 | C8: 9954 | D8: 4857 | E8: 5097 | F8: 9259 | G8: 4609 | H8: 4650 | I8: 48 | J8: 16 | K8: 32
A9: 계 림 2동 | B9: 3761 | C9: 10650 | D9: 5282 | E9: 5368 | F9: 9926 | G9: 4843 | H9: 5083 | I9: 28 | J9: 14 | K9: 14
A10: 산 수 1동 | B10: 4644 | C10: 10650 | D10: 5282 | E10: 5368 | F10: 10591 | G10: 5262 | H10: 5329 | I10: 59 | J10: 20 | K10: 39
A11: 산 수 2동 | B11: 4533 | C11: 12091 | D11: 5963 | E11: 6128 | F11: 12069 | G11: 5957 | H11: 6112 | I11: 22 | J11: 6 | K11: 16
A12: 지 산 1동 | B12: 2392 | C12: 5323 | D12: 2639 | E12: 2684 | F12: 5268 | G12: 2611 | H12: 2657 | I12: 55 | J12: 28 | K12: 27
A13: 지 산 2동 | B13: 2950 | C13: 7158 | D13: 3636 | E13: 3522 | F13: 7140 | G13: 3629 | H13: 3511 | I13: 18 | J13: 7 | K13: 11
A14: 서 남 동 | B14: 2891 | C14: 6048 | D14: 3046 | E14: 3002 | F14: 5562 | G14: 2772 | H14: 2790 | I14: 486 | J14: 274 | K14: 212
A15: 학 동 | B15: 4422 | C15: 9598 | D15: 4770 | E15: 4828 | F15: 9497 | G15: 4739 | H15: 4758 | I15: 101 | J15: 31 | K15: 70
A16: 학 운 동 | B16: 5118 | C16: 14512 | D16: 7088 | E16: 7424 | F16: 14473 | G16: 7078 | H16: 7395 | I16: 39 | J16: 10 | K16: 29
A17: 지 원 1동 | B17: 3533 | C17: 9756 | D17: 4872 | E17: 4884 | F17: 9714 | G17: 4857 | H17: 4857 | I17: 42 | J17: 15 | K17: 27
A18: 지 원 2동 | B18: 3609 | C18: 9112 | D18: 4611 | E18: 4501 | F18: 9108 | G18: 4610 | H18: 4498 | I18: 4 | J18: 1 | K18: 3
A20: ○ 서 구 | K20: (단위 : 세대, 명)
A21: 구 분 | B21: 세 대 | C21: 합 계 | F21: 한 국 인 | I21: 외 국 인
C22: 계 | D22: 남 | E22: 여 | F22: 계 | G22: 남 | H22: 여 | I22: 계 | J22: 남 | K22: 여
A23: 2007 | B23: 106561 | C23: 308050 | D23: 151795 | E23: 156255 | F23: 307072 | G23: 151441 | H23: 155631 | I23: 978 | J23: 354 | K23: 624
A24: 양 동 | B24: 2520 | C24: 6238 | D24: 3143 | E24: 3095 | F24: 6208 | G24: 3139 | H24: 3069 | I24: 30 | J24: 4 | K24: 26
A25: 양 3 동 | B25: 1643 | C25: 4419 | D25: 2229 | E25: 2190 | F25: 4415 | G25: 2229 | H25: 2186 | I25: 4 | J25: 0 | K25: 4
A26: 농 성 1동 | B26: 4030 | C26: 9692 | D26: 4793 | E26: 4899 | F26: 9641 | G26: 4781 | H26: 4860 | I26: 51 | J26: 12 | K26: 39
A27: 농 성 2동 | B27: 2610 | C27: 6254 | D27: 3170 | E27: 3084 | F27: 6249 | G27: 3169 | H27: 3080 | I27: 5 | J27: 1 | K27: 4
A28: 광 천 동 | B28: 4104 | C28: 9847 | D28: 5019 | E28: 4828 | F28: 9800 | G28: 5005 | H28: 4795 | I28: 47 | J28: 14 | K28: 33
A29: 유 덕 동 | B29: 4266 | C29: 12910 | D29: 6511 | E29: 6399 | F29: 12822 | G29: 6475 | H29: 6347 | I29: 88 | J29: 36 | K29: 52
A30: 상 무 1동 | B30: 9463 | C30: 25268 | D30: 12474 | E30: 12794 | F30: 25149 | G30: 12434 | H30: 12715 | I30: 119 | J30: 40 | K30: 79
A31: 상 무 2동 | B31: 10616 | C31: 27477 | D31: 13501 | E31: 13976 | F31: 27418 | G31: 13480 | H31: 13938 | I31: 59 | J31: 21 | K31: 38
A32: 화 정 1동 | B32: 6468 | C32: 17322 | D32: 8429 | E32: 8893 | F32: 17208 | G32: 8390 | H32: 8818 | I32: 114 | J32: 39 | K32: 75
A33: 화 정 2동 | B33: 6683 | C33: 18978 | D33: 9364 | E33: 9614 | F33: 18969 | G33: 9362 | H33: 9607 | I33: 9 | J33: 2 | K33: 7
A34: 화 정 3동 | B34: 4688 | C34: 13864 | D34: 6950 | E34: 6914 | F34: 13845 | G34: 6944 | H34: 6901 | I34: 19 | J34: 6 | K34: 13
A35: 화 정 4동 | B35: 7094 | C35: 22202 | D35: 10904 | E35: 11298 | F35: 22175 | G35: 10897 | H35: 11278 | I35: 27 | J35: 7 | K35: 20
... A40: 풍 암 동 | B40: 13285 | C40: 41176 | D40: 20082 | E40: 21094 | F40: 41053 | G40: 20026 | H40: 21027 | I40: 123 | J40: 56 | K40: 67
A43: ○ 남 구 | J43: (단위 : 세대, 명)
A44: 구 분 | B44: 세 대 | C44: 합 계 | F44: 한 국 인 | I44: 외 국 인
C45: 계 | D45: 남 | E45: 여 | F45: 계 | G45: 남 | H45: 여 | I45: 계 | J45: 남 | K45: 여
A46: 2007 | B46: 74990 | C46: 209890 | D46: 102380 | E46: 107510 | F46: 209024 | G46: 102036 | H46: 106988 | I46: 866 | J46: 344 | K46: 522
A47: 양 림 동 | B47: 2157 | C47: 4974 | D47: 2500 | E47: 2474 | F47: 4897 | G47: 2445 | H47: 2452 | I47: 77 | J47: 55 | K47: 22
...

Sheet 2008년
A1: 2. 동별 세대 및 인구 (동구~광산구)
A2: ○ 동 구 | K2: (단위 : 세대, 명)
A3: 구 분 | B3: 세 대 | C3: 합 계 | F3: 한 국 인 | I3: 외 국 인
C4: 계 | D4: 남 | E4: 여 | F4: 계 | G4: 남 | H4: 여 | I4: 계 | J4: 남 | K4: 여
A5: 2008 | B5: =SUM(B6:B18) -> 47112 | C5: =SUM(C6:C18) -> 111167 | D5: =SUM(D6:D18) -> 56037 | E5: =SUM(E6:E18) -> 55630 | F5: =SUM(F6:F18) -> 109963 | G5: =SUM(G6:G18) -> 54988 | H5: =SUM(H6:H18) -> 54975 | I5: 1204 | J5: 549 | K5: 655
A6: 충장동 | B6: 2938 | C6: =SUM(F6,I6) -> 5595 | D6: =SUM(G6,J6) -> 3447 | E6: =SUM(H6,K6) -> 2648 | F6: =SUM(G6:H6) -> 5482 | G6: 2893 | H6: 2589 | I6: 113 | J6: 554 | K6: 59
A7: 동명동 | B7: 2951 | C7: =SUM(F7,I7) -> 6255 | D7: =SUM(G7,J7) -> 3095 | E7: =SUM(H7,K7) -> 3160 | F7: =SUM(G7:H7) -> 6209 | G7: 3082 | H7: 3127 | I7: 46 | J7: 13 | K7: 33
A8: 계림1동 | B8: 4572 | C8: =SUM(F8,I8) -> 8916 | D8: =SUM(G8,J8) -> 4478 | E8: =SUM(H8,K8) -> 4438 | F8: =SUM(G8:H8) -> 8862 | G8: 4461 | H8: 4401 | I8: 54 | J8: 17 | K8: 37
A9: 계림2동 | B9: 3776 | C9: =SUM(F9,I9) -> 9962 | D9: =SUM(G9,J9) -> 4878 | E9: =SUM(H9,K9) -> 5084 | F9: =SUM(G9:H9) -> 9934 | G9: 4866 | H9: 5068 | I9: 28 | J9: 12 | K9: 16
A10: 산수1동 | B10: 4545 | C10: =SUM(F10,I10) -> 10305 | D10: =SUM(G10,J10) -> 5151 | E10: =SUM(H10,K10) -> 5154 | F10: =SUM(G10:H10) -> 10220 | G10: 5118 | H10: 5102 | I10: 85 | J10: 33 | K10: 52
A11: 산수2동 | B11: 4463 | C11: =SUM(F11,I11) -> 11675 | D11: =SUM(G11,J11) -> 5732 | E11: =SUM(H11,K11) -> 5943 | F11: =SUM(G11:H11) -> 11653 | G11: 5725 | H11: 5928 | I11: 22 | J11: 7 | K11: 15
A12: 지산1동 | B12: 2279 | C12: =SUM(F12,I12) -> 5023 | D12: =SUM(G12,J12) -> 2525 | E12: =SUM(H12,K12) -> 2498 | F12: =SUM(G12:H12) -> 4967 | G12: 2493 | H12: 2474 | I12: 56 | J12: 32 | K12: 24
A13: 지산2동 | B13: 2836 | C13: =SUM(F13,I13) -> 6835 | D13: =SUM(G13,J13) -> 3470 | E13: =SUM(H13,K13) -> 3365 | F13: =SUM(G13:H13) -> 6818 | G13: 3463 | H13: 3355 | I13: 17 | J13: 7 | K13: 10
A14: 서남동 | B14: 2672 | C14: =SUM(F14,I14) -> 5549 | D14: =SUM(G14,J14) -> 2794 | E14: =SUM(H14,K14) -> 2755 | F14: =SUM(G14:H14) -> 5014 | G14: 2511 | H14: 2503 | I14: 535 | J14: 283 | K14: 252
A15: 학 동 | B15: 3884 | C15: =SUM(F15,I15) -> 8232 | D15: =SUM(G15,J15) -> 4104 | E15: =SUM(H15,K15) -> 4128 | F15: =SUM(G15:H15) -> 8121 | G15: 4073 | H15: 4048 | I15: 111 | J15: 31 | K15: 80
A16: 학운동 | B16: 5094 | C16: =SUM(F16,I16) -> 14386 | D16: =SUM(G16,J16) -> 7081 | E16: =SUM(H16,K16) -> 7305 | F16: =SUM(G16:H16) -> 14302 | G16: 7035 | H16: 7267 | I16: 84 | J16: 46 | K16: 38
A17: 지원1동 | B17: 3502 | C17: =SUM(F17,I17) -> 9514 | D17: =SUM(G17,J17) -> 4772 | E17: =SUM(H17,K17) -> 4742 | F17: =SUM(G17:H17) -> 9464 | G17: 4758 | H17: 4706 | I17: 50 | J17: 14 | K17: 36
A18: 지원2동 | B18: 3600 | C18: =SUM(F18,I18) -> 8920 | D18: =SUM(G18,J18) -> 4510 | E18: =SUM(H18,K18) -> 4410 | F18: =SUM(G18:H18) -> 8917 | G18: 4510 | H18: 4407 | I18: 3 | J18: 0 | K18: 3
A20: ○ 서 구 | K20: 단위 : 명, 세대
A21: 구 분 | B21: 세 대 | C21: 합 계 | F21: 한 국 인 | I21: 외 국 인
C22: 계 | D22: 남 | E22: 여 | F22: 계 | G22: 남 | H22: 여 | I22: 계 | J22: 남 | K22: 여
A23: 2008 | B23: =SUM(B24:B40) -> 107698 | C23: =SUM(C24:C40) -> 306035 | D23: =SUM(D24:D40) -> 150743 | E23: =SUM(E24:E40) -> 155292 | F23: =SUM(F24:F40) -> 304885 | G23: =SUM(G24:G40) -> 150315 | H23: =SUM(H24:H40) -> 154570 | I23: =SUM(I24:I40) -> 1150 | ... K23: =SUM(K24:K40) -> 722
A24: 양 동 | B24: 2541 | C24: =SUM(D24:E24) -> 6059 | D24: =G24+J24 -> 3047 | E24: =H24+K24 -> 3012 | F24: =SUM(G24:H24) -> 6024 | G24: 3043 | H24: 2981 | I24: =SUM(J24:K24) -> 35 | J24: 4 | K24: 31
A25: 양 3 동 | B25: 1624 | C25: =SUM(D25:E25) -> 4258 | D25: =G25+J25 -> 2150 | E25: =H25+K25 -> 2108 | F25: =SUM(G25:H25) -> 4250 | G25: 2149 | H25: 2101 | I25: =SUM(J25:K25) -> 8 | J25: 1 | K25: 7
A26: 농성1동 | B26: 3996 | C26: =SUM(D26:E26) -> 9519 | D26: =G26+J26 -> 4745 | E26: =H26+K26 -> 4774 | F26: =SUM(G26:H26) -> 9458 | G26: 4726 | H26: 4732 | I26: =SUM(J26:K26) -> 61 | J26: 19 | K26: 42
A27: 농성2동 | B27: 2612 | C27: =SUM(D27:E27) -> 6122 | D27: =G27+J27 -> 3125 | E27: =H27+K27 -> 2997 | F27: =SUM(G27:H27) -> 6116 | G27: 3124 | H27: 2992 | I27: =SUM(J27:K27) -> 6 | J27: 1 | K27: 5
A28: 광 천 동 | B28: 4005 | C28: =SUM(D28:E28) -> 9365 | D28: =G28+J28 -> 4815 | E28: =H28+K28 -> 4550 | F28: =SUM(G28:H28) -> 9315 | G28: 4800 | H28: 4515 | I28: =SUM(J28:K28) -> 50 | J28: 15 | K28: 35
A29: 유 덕 동 | B29: 4357 | C29: =SUM(D29:E29) -> 12885 | D29: =G29+J29 -> 6476 | E29: =H29+K29 -> 6409 | F29: =SUM(G29:H29) -> 12756 | G29: 6416 | H29: 6340 | I29: =SUM(J29:K29) -> 129 | J29: 60 | K29: 69
A30: 상무1동 | B30: 9528 | C30: =SUM(D30:E30) -> 25195 | D30: =G30+J30 -> 12412 | E30: =H30+K30 -> 12783 | F30: =SUM(G30:H30) -> 25044 | G30: 12361 | H30: 12683 | I30: =SUM(J30:K30) -> 151 | J30: 51 | K30: 100
A31: 상무2동 | B31: 10453 | C31: =SUM(D31:E31) -> 26457 | D31: =G31+J31 -> 12960 | E31: =H31+K31 -> 13497 | F31: =SUM(G31:H31) -> 26413 | G31: 12946 | H31: 13467 | I31: =SUM(J31:K31) -> 44 | J31: 14 | K31: 30
A32: 화정1동 | B32: 6650 | C32: =SUM(D32:E32) -> 17300 | D32: =G32+J32 -> 8368 | E32: =H32+K32 -> 8932 | F32: =SUM(G32:H32) -> 17198 | G32: 8337 | H32: 8861 | I32: =SUM(J32:K32) -> 102 | J32: 31 | K32: 71
A33: 화정2동 | B33: 6728 | C33: =SUM(D33:E33) -> 18656 | D33: =G33+J33 -> 9200 | E33: =H33+K33 -> 9456 | F33: =SUM(G33:H33) -> 18645 | G33: 9197 | H33: 9448 | I33: =SUM(J33:K33) -> 11 | J33: 3 | K33: 8
A34: 화정3동 | B34: 4711 | C34: =SUM(D34:E34) -> 13634 | D34: =G34+J34 -> 6836 | E34: =H34+K34 -> 6798 | F34: =SUM(G34:H34) -> 13622 | G34: 6834 | H34: 6788 | I34: =SUM(J34:K34) -> 12 | J34: 2 | K34: 10
A35: 화정4동 | B35: 7263 | C35: =SUM(D35:E35) -> 22571 | D35: =G35+J35 -> 11092 | E35: =H35+K35 -> 11479 | F35: =SUM(G35:H35) -> 22543 | G35: 11084 | H35: 11459 | I35: =SUM(J35:K35) -> 28 | J35: 8 | K35: 20
... A38: 금호2동 | B38: 9041 | C38: =SUM(D38:E38) -> 30154 | D38: =G38+J38 -> 14751 | E38: =H38+K38 -> 15403 | F38: =SUM(G38:H38) -> 30122 | G38: 14734 | H38: 15388 | I38: =SUM(J38:K38) -> 32 | J38: 17 | K38: 15
A39: 치평동 | B39: 9924 | C39: 31206 | D39: 15287 | E39: 15919 | F39: =SUM(G39:H39) -> 31024 | G39: 15208 | H39: 15816 | I39: =SUM(J39:K39) -> 182 | J39: 79 | K39: 103
A40: 풍암동 | B40: 13536 | C40: =SUM(D40:E40) -> 41415 | D40: =G40+J40 -> 20197 | E40: =H40+K40 -> 21218 | F40: =SUM(G40:H40) -> 41267 | G40: 20129 | H40: 21138 | I40: =SUM(J40:K40) -> 148 | J40: 68 | K40: 80
A42: ○ 남 구
A43: 구 분 | B43: 세 대 | C43: 합 계 | F43: 한 국 인 | I43: 외 국 인
C44: 계 | D44: 남 | E44: 여 | F44: 계 | G44: 남 | H44: 여 | I44: 계 | J44: 남 | K44: 여
...

Sheet 2009년
A1: 2. 동별 세대 및 인구 (동구~광산구)
A2: ○ 동 구
A3: 구 분 | B3: 세 대 | C3: 합 계 | F3: 한 국 인 | I3: 외 국 인
C4: 계 | D4: 남 | E4: 여 | F4: 계 | G4: 남 | H4: 여 | I4: 계 | J4: 남 | K4: 여
A5: 2009 | B5: =SUM(B6:B18) -> 46854 | C5: =SUM(C6:C18) -> 108924 | D5: =SUM(D6:D18) -> 54329 | E5: =SUM(E6:E18) -> 54595 | F5: =SUM(F6:F18) -> 107772 | G5: =SUM(G6:G18) -> 53791 | H5: =SUM(H6:H18) -> 53981 | I5: =SUM(I6:I18) -> 1152 | ... K5: =SUM(K6:K18) -> 614
A6: 충장동 | B6: 3008 | C6: =SUM(D6:E6) -> 5627 | D6: =G6+J6 -> 2936 | E6: =H6+K6 -> 2691 | F6: =SUM(G6:H6) -> 5514 | G6: =[4]연령별!F5 -> 2885 | H6: =[4]연령별!G5 -> 2629 | I6: =SUM(J6:K6) -> 113 | J6: 51 | K6: 62
A7: 동명동 | B7: 2884 | C7: =SUM(D7:E7) -> 6049 | D7: =G7+J7 -> 2996 | E7: =H7+K7 -> 3053 | F7: =SUM(G7:H7) -> 6002 | G7: =[4]연령별!I5 -> 2977 | H7: =[4]연령별!J5 -> 3025 | I7: =SUM(J7:K7) -> 47 | J7: 19 | K7: 28
A8: 계림1동 | B8: 4541 | C8: =SUM(D8:E8) -> 8614 | D8: =G8+J8 -> 4351 | E8: =H8+K8 -> 4263 | F8: =SUM(G8:H8) -> 8555 | G8: =[4]연령별!L5 -> 4334 | H8: =[4]연령별!M5 -> 4221 | I8: =SUM(J8:K8) -> 59 | J8: 17 | K8: 42
A9: 계림2동 | B9: 3742 | C9: =SUM(D9:E9) -> 9810 | D9: =G9+J9 -> 4809 | E9: =H9+K9 -> 5001 | F9: =SUM(G9:H9) -> 9784 | G9: =[4]연령별!O5 -> 4796 | H9: =[4]연령별!P5 -> 4988 | I9: =SUM(J9:K9) -> 26 | J9: 13 | K9: 13
A10: 산수1동 | B10: 4459 | C10: =SUM(D10:E10) -> 9935 | D10: =G10+J10 -> 4977 | E10: =H10+K10 -> 4958 | F10: =SUM(G10:H10) -> 9854 | G10: =[4]연령별!R5 -> 4943 | H10: =[4]연령별!S5 -> 4911 | I10: =SUM(J10:K10) -> 81 | J10: 34 | K10: 47
A11: 산수2동 | B11: 4442 | C11: =SUM(D11:E11) -> 11365 | D11: =G11+J11 -> 5566 | E11: =H11+K11 -> 5799 | F11: =SUM(G11:H11) -> 11349 | G11: =[4]연령별!U5 -> 5561 | H11: =[4]연령별!V5 -> 5788 | I11: =SUM(J11:K11) -> 16 | J11: 5 | K11: 11
A12: 지산1동 | B12: 2225 | C12: =SUM(D12:E12) -> 4814 | D12: =G12+J12 -> 2415 | E12: =H12+K12 -> 2399 | F12: =SUM(G12:H12) -> 4741 | G12: =[4]연령별!X5 -> 2381 | H12: =[4]연령별!Y5 -> 2360 | I12: =SUM(J12:K12) -> 73 | J12: 34 | K12: 39
A13: 지산2동 | B13: 2804 | C13: =SUM(D13:E13) -> 6643 | D13: =G13+J13 -> 3366 | E13: =H13+K13 -> 3277 | F13: =SUM(G13:H13) -> 6624 | G13: =[4]연령별!AA5 -> 3358 | H13: =[4]연령별!AB5 -> 3266 | I13: =SUM(J13:K13) -> 19 | J13: 8 | K13: 11
A14: 서남동 | B14: 2616 | C14: =SUM(D14:E14) -> 5405 | D14: =G14+J14 -> 2734 | E14: =H14+K14 -> 2671 | F14: =SUM(G14:H14) -> 4921 | G14: =[4]연령별!AD5 -> 2462 | H14: =[4]연령별!AE5 -> 2459 | I14: =SUM(J14:K14) -> 484 | J14: 272 | K14: 212
A15: 학 동 | B15: 3846 | C15: =SUM(D15:E15) -> 8028 | D15: =G15+J15 -> 3977 | E15: =H15+K15 -> 4051 | F15: =SUM(G15:H15) -> 7926 | G15: =[4]연령별!AG5 -> 3950 | H15: =[4]연령별!AH5 -> 3976 | I15: =SUM(J15:K15) -> 102 | J15: 27 | K15: 75
A16: 학운동 | B16: 5028 | C16: =SUM(D16:E16) -> 14062 | D16: =G16+J16 -> 6914 | E16: =H16+K16 -> 7148 | F16: =SUM(G16:H16) -> 13977 | G16: =[4]연령별!AJ5 -> 6867 | H16: =[4]연령별!AK5 -> 7110 | I16: =SUM(J16:K16) -> 85 | J16: 47 | K16: 38
A17: 지원1동 | B17: 3555 | C17: =SUM(D17:E17) -> 9646 | D17: =G17+J17 -> 4827 | E17: =H17+K17 -> 4819 | F17: =SUM(G17:H17) -> 9604 | G17: =[4]연령별!AM5 -> 4817 | H17: =[4]연령별!AN5 -> 4787 | I17: =SUM(J17:K17) -> 42 | J17: 10 | K17: 32
A18: 지원2동 | B18: 3704 | C18: =SUM(D18:E18) -> 8926 | D18: =G18+J18 -> 4461 | E18: =H18+K18 -> 4465 | F18: =SUM(G18:H18) -> 8921 | G18: =[4]연령별!AP5 -> 4460 | H18: =[4]연령별!AQ5 -> 4461 | I18: =SUM(J18:K18) -> 5 | J18: 1 | K18: 4
A20: ○ 서 구 | K20: 단위 : 명, 세대
A21: 구 분 | B21: 세 대 | C21: 합 계 | F21: 한 국 인 | I21: 외 국 인
C22: 계 | D22: 남 | E22: 여 | F22: 계 | G22: 남 | H22: 여 | I22: 계 | J22: 남 | K22: 여
A23: 2009 | B23: =SUM(B24:B40) -> 108212 | C23: =SUM(C24:C40) -> 300999 | D23: =SUM(D24:D40) -> 148094 | E23: =SUM(E24:E40) -> 152905 | F23: =SUM(F24:F40) -> 299825 | G23: =SUM(G24:G40) -> 147651 | H23: =SUM(H24:H40) -> 152174 | I23: =SUM(I24:I40) -> 1174 | ... K23: =SUM(K24:K40) -> 731
A24: 양 동 | B24: 2524 | C24: =SUM(D24:E24) -> 5868 | D24: =G24+J24 -> 2945 | E24: =H24+K24 -> 2923 | F24: =SUM(G24:H24) -> 5834 | G24: 2942 | H24: 2892 | I24: =SUM(J24:K24) -> 34 | J24: 3 | K24: 31
A25: 양 3 동 | B25: 1577 | C25: =SUM(D25:E25) -> 4003 | D25: =G25+J25 -> 2025 | E25: =H25+K25 -> 1978 | F25: =SUM(G25:H25) -> 3999 | G25: 2025 | H25: 1974 | I25: =SUM(J25:K25) -> 4 | J25: 0 | K25: 4
A26: 농성1동 | B26: 3891 | C26: =SUM(D26:E26) -> 9080 | D26: =G26+J26 -> 4526 | E26: =H26+K26 -> 4554 | F26: =SUM(G26:H26) -> 9008 | G26: 4504 | H26: 4504 | I26: =SUM(J26:K26) -> 72 | J26: 22 | K26: 50
A27: 농성2동 | B27: 2636 | C27: =SUM(D27:E27) -> 5988 | D27: =G27+J27 -> 3094 | E27: =H27+K27 -> 2894 | F27: =SUM(G27:H27) -> 5981 | G27: 3093 | H27: 2888 | I27: =SUM(J27:K27) -> 7 | J27: 1 | K27: 6
A28: 광 천 동 | B28: 3947 | C28: =SUM(D28:E28) -> 8917 | D28: =G28+J28 -> 4618 | E28: =H28+K28 -> 4299 | F28: =SUM(G28:H28) -> 8858 | G28: 4592 | H28: 4266 | I28: =SUM(J28:K28) -> 59 | J28: 26 | K28: 33
A29: 유 덕 동 | B29: 4424 | C29: =SUM(D29:E29) -> 12667 | D29: =G29+J29 -> 6382 | E29: =H29+K29 -> 6285 | F29: =SUM(G29:H29) -> 12547 | G29: 6332 | H29: 6215 | I29: =SUM(J29:K29) -> 120 | J29: 50 | K29: 70
A30: 상무1동 | B30: 9554 | C30: =SUM(D30:E30) -> 24555 | D30: =G30+J30 -> 12050 | E30: =H30+K30 -> 12505 | F30: =SUM(G30:H30) -> 24414 | G30: 11999 | H30: 12415 | I30: =SUM(J30:K30) -> 141 | J30: 51 | K30: 90
A31: 상무2동 | B31: 10417 | C31: =SUM(D31:E31) -> 25816 | D31: =G31+J31 -> 12656 | E31: =H31+K31 -> 13160 | F31: =SUM(G31:H31) -> 25753 | G31: 12638 | H31: 13115 | I31: =SUM(J31:K31) -> 63 | J31: 18 | K31: 45
A32: 화정1동 | B32: 6702 | C32: =SUM(D32:E32) -> 16876 | D32: =G32+J32 -> 8145 | E32: =H32+K32 -> 8731 | F32: =SUM(G32:H32) -> 16778 | G32: 8119 | H32: 8659 | I32: =SUM(J32:K32) -> 98 | J32: 26 | K32: 72
A33: 화정2동 | B33: 6774 | C33: =SUM(D33:E33) -> 18348 | D33: =G33+J33 -> 9053 | E33: =H33+K33 -> 9295 | F33: =SUM(G33:H33) -> 18334 | G33: 9051 | H33: 9283 | I33: =SUM(J33:K33) -> 14 | J33: 2 | K33: 12
A34: 화정3동 | B34: 4701 | C34: =SUM(D34:E34) -> 13225 | D34: =G34+J34 -> 6619 | E34: =H34+K34 -> 6606 | F34: =SUM(G34:H34) -> 13207 | G34: 6615 | H34: 6592 | I34: =SUM(J34:K34) -> 18 | J34: 4 | K34: 14
A35: 화정4동 | B35: 7279 | C35: =SUM(D35:E35) -> 22290 | D35: =G35+J35 -> 10925 | E35: =H35+K35 -> 11365 | F35: =SUM(G35:H35) -> 22266 | G35: 10916 | H35: 11350 | I35: =SUM(J35:K35) -> 24 | J35: 9 | K35: 15
... A40: 풍암동 | B40: 13730 | C40: =SUM(D40:E40) -> 41398 | D40: =G40+J40 -> 20106 | E40: =H40+K40 -> 21292 | F40: =SUM(G40:H40) -> 41248 | G40: 20041 | H40: 21207 | I40: =SUM(J40:K40) -> 150 | J40: 65 | K40: 85
A42: ○ 남 구
A43: 구 분 | B43: 세 대 | C43: 합 계 | F43: 한 국 인 | I43: 외 국 인
C44: 계 | D44: 남 | E44: 여 | F44: 계 | G44: 남 | H44: 여 | I44: 계 | J44: 남 | K44: 여
A45: 2009 | B45: =SUM(B46:B61) -> 78872 | C45: =SUM(C46:C61) -> 214640 | D45: =SUM(D46:D61) -> 104440 | E45: =SUM(E46:E61) -> 110200 | F45: =SUM(F46:F61) -> 213697 | G45: =SUM(G46:G61) -> 104113 | H45: =SUM(H46:H61) -> 109584 | I45: =SUM(I46:I61) -> 943 | ... K45: =SUM(K46:K61) -> 616
A46: 양 림 동 | B46: 3428 | C46: =SUM(D46:E46) -> 8555 | D46: =G46+J46 -> 4159 | E46: =H46+K46 -> 4396 | F46: =SUM(G46:H46) -> 8510 | G46: 4142 | H46: 4368 | I46: 45 | J46: 17 | K46: 28
...

Sheet 2010년
A1: 2. 동별 세대 및 인구 (동구~광산구)
A2: ○ 동 구
A3: 구 분 | B3: 세 대 | C3: 총 계 | F3: 한 국 인 | I3: 외 국 인
C4: 계 | D4: 남 | E4: 여 | F4: 계 | G4: 남 | H4: 여 | I4: 계 | J4: 남 | K4: 여
A5: 2010 | B5: 46449 | C5: 105483 | D5: 52705 | E5: 52778 | F5: 104449 | G5: 52221 | H5: 52228 | I5: 1034 | J5: 484 | K5: 550
A6: 충장동 | B6: 2999 | C6: 5421 | D6: 2871 | E6: 2550 | F6: 5308 | G6: 2815 | H6: 2493 | I6: 113 | J6: 56 | K6: 57
A7: 동명동 | B7: 2888 | C7: 5880 | D7: 2905 | E7: 2975 | F7: 5831 | G7: 2881 | H7: 2950 | I7: 49 | J7: 24 | K7: 25
A8: 계림1동 | B8: 4429 | C8: 8297 | D8: 4205 | E8: 4092 | F8: 8231 | G8: 4182 | H8: 4049 | I8: 66 | J8: 23 | K8: 43
A9: 계림2동 | B9: 3672 | C9: 9494 | D9: 4665 | E9: 4829 | F9: 9466 | G9: 4654 | H9: 4812 | I9: 28 | J9: 11 | K9: 17
A10: 산수1동 | B10: 4331 | C10: 9278 | D10: 4658 | E10: 4620 | F10: 9204 | G10: 4633 | H10: 4571 | I10: 74 | J10: 25 | K10: 49
A11: 산수2동 | B11: 4435 | C11: 11195 | D11: 5482 | E11: 5713 | F11: 11176 | G11: 5476 | H11: 5700 | I11: 19 | J11: 6 | K11: 13
A12: 지산1동 | B12: 2491 | C12: 5558 | D12: 2774 | E12: 2784 | F12: 5467 | G12: 2731 | H12: 2736 | I12: 91 | J12: 43 | K12: 48
A13: 지산2동 | B13: 2778 | C13: 6533 | D13: 3327 | E13: 3206 | F13: 6506 | G13: 3316 | H13: 3190 | I13: 27 | J13: 11 | K13: 16
A14: 서남동 | B14: 2593 | C14: 4935 | D14: 2510 | E14: 2425 | F14: 4567 | G14: 2298 | H14: 2269 | I14: 368 | J14: 212 | K14: 156
A15: 학 동 | B15: 3698 | C15: 7414 | D15: 3700 | E15: 3714 | F15: 7319 | G15: 3668 | H15: 3651 | I15: 95 | J15: 32 | K15: 63
A16: 학운동 | B16: 5031 | C16: 13789 | D16: 6719 | E16: 7070 | F16: 13733 | G16: 6690 | H16: 7043 | I16: 56 | J16: 29 | K16: 27
A17: 지원1동 | B17: 3521 | C17: 9259 | D17: 4634 | E17: 4625 | F17: 9218 | G17: 4623 | H17: 4595 | I17: 41 | J17: 11 | K17: 30
A18: 지원2동 | B18: 3583 | C18: 8430 | D18: 4255 | E18: 4175 | F18: 8423 | G18: 4254 | H18: 4169 | I18: 7 | J18: 1 | K18: 6
A21: ○ 서 구 | K21: 단위 : 명, 세대
A22: 구 분 | B22: 세 대 | C22: 합 계 | F22: 한 국 인 | I22: 외 국 인
C23: 계 | D23: 남 | E23: 여 | F23: 계 | G23: 남 | H23: 여 | I23: 계 | J23: 남 | K23: 여
A24: 2010 | B24: 111381 | C24: 304417 | D24: 149792 | E24: 154625 | F24: 303219 | G24: 149345 | H24: 153874 | I24: 1198 | J24: 447 | K24: 751
A25: 양 동 | B25: 2583 | C25: 5700 | D25: 2854 | E25: 2846 | F25: 5661 | G25: 2849 | H25: 2812 | I25: 39 | J25: 5 | K25: 34
A26: 양 3 동 | B26: 2238 | C26: 5530 | D26: 2753 | E26: 2777 | F26: 5522 | G26: 2753 | H26: 2769 | I26: 8 | J26: 0 | K26: 8
A27: 농성1동 | B27: 3940 | C27: 8842 | D27: 4399 | E27: 4443 | F27: 8787 | G27: 4388 | H27: 4399 | I27: 55 | J27: 11 | K27: 44
A28: 농성2동 | B28: 2745 | C28: 6007 | D28: 3104 | E28: 2903 | F28: 5984 | G28: 3097 | H28: 2887 | I28: 23 | J28: 7 | K28: 16
A29: 광 천 동 | B29: 4699 | C29: 11089 | D29: 5660 | E29: 5429 | F29: 11036 | G29: 5635 | H29: 5401 | I29: 53 | J29: 25 | K29: 28
A30: 유 덕 동 | B30: 4478 | C30: 12670 | D30: 6336 | E30: 6334 | F30: 12495 | G30: 6272 | H30: 6223 | I30: 175 | J30: 64 | K30: 111
A31: 상무1동 | B31: 10070 | C31: 25381 | D31: 12426 | E31: 12955 | F31: 25279 | G31: 12390 | H31: 12889 | I31: 102 | J31: 36 | K31: 66
A32: 상무2동 | B32: 10576 | C32: 25426 | D32: 12491 | E32: 12935 | F32: 25375 | G32: 12476 | H32: 12899 | I32: 51 | J32: 15 | K32: 36
A33: 화정1동 | B33: 6696 | C33: 16658 | D33: 8028 | E33: 8630 | F33: 16583 | G33: 8017 | H33: 8566 | I33: 75 | J33: 11 | K33: 64
A34: 화정2동 | B34: 6750 | C34: 17878 | D34: 8915 | E34: 8963 | F34: 17857 | G34: 8910 | H34: 8947 | I34: 21 | J34: 5 | K34: 16
A35: 화정3동 | B35: 4645 | C35: 12853 | D35: 6459 | E35: 6394 | F35: 12840 | G35: 6458 | H35: 6382 | I35: 13 | J35: 1 | K35: 12
A36: 화정4동 | B36: 7341 | C36: 22171 | D36: 10890 | E36: 11281 | F36: 22145 | G36: 10881 | H36: 11264 | I36: 26 | J36: 9 | K36: 17
... A41: 풍암동 | B41: 14061 | C41: 41823 | D41: 20372 | E41: 21451 | F41: 41685 | G41: 20304 | H41: 21381 | I41: 138 | J41: 68 | K41: 70
A43: ○ 남 구
A44: 구 분 | B44: 세 대 | C44: 합 계 | F44: 한 국 인 | I44: 외 국 인
C45: 계 | D45: 남 | E45: 여 | F45: 계 | G45: 남 | H45: 여 | I45: 계 | J45: 남 | K45: 여
A46: 2010 | B46: 81316 | C46: 217844 | D46: 105930 | E46: 111914 | F46: 216863 | G46: 105612 | H46: 111251 | I46: 981 | J46: 318 | K46: 663
A47: 양 림 동 | B47: 3914 | C47: 9772 | D47: 4676 | E47: 5096 | F47: 9721 | G47: 4659 | H47: 5062 | I47: 51 | J47: 17 | K47: 34
...

Sheet 2011년
A1: 2. 동별 세대 및 인구 (동구~광산구)
A2: ○ 동 구
A3: 구 분 | B3: 세 대 | C3: 합 계 | F3: 한 국 인 | I3: 외 국 인
C4: 계 | D4: 남 | E4: 여 | F4: 계 | G4: 남 | H4: 여 | I4: 계 | J4: 남 | K4: 여
A5: 2011 | B5: =SUM(B6:B18) -> 47472 | C5: =SUM(C6:C18) -> 107559 | D5: =SUM(D6:D18) -> 53782 | E5: =SUM(E6:E18) -> 53777 | F5: =SUM(F6:F18) -> 106495 | G5: =SUM(G6:G18) -> 53286 | H5: =SUM(H6:H18) -> 53209 | I5: =SUM(I6:I18) -> 1064 | ... K5: =SUM(K6:K18) -> 568
A6: 충장동 | B6: 2901 | C6: 5107 | D6: 2702 | E6: 2405 | F6: 4995 | G6: 2645 | H6: 2350 | I6: 112 | J6: 57 | K6: 55
A7: 동명동 | B7: 2710 | C7: 5430 | D7: 2672 | E7: 2758 | F7: 5380 | G7: 2645 | H7: 2735 | I7: 50 | J7: 27 | K7: 23
A8: 계림1동 | B8: 4753 | C8: 8884 | D8: 4566 | E8: 4318 | F8: 8806 | G8: 4538 | H8: 4268 | I8: 78 | J8: 28 | K8: 50
A9: 계림2동 | B9: 4624 | C9: 11519 | D9: 5737 | E9: 5782 | F9: 11477 | G9: 5724 | H9: 5753 | I9: 42 | J9: 13 | K9: 29
A10: 산수1동 | B10: 4201 | C10: 8971 | D10: 4501 | E10: 4470 | F10: 8895 | G10: 4477 | H10: 4418 | I10: 76 | J10: 24 | K10: 52
A11: 산수2동 | B11: 4550 | C11: 11973 | D11: 5878 | E11: 6095 | F11: 11954 | G11: 5873 | H11: 6081 | I11: 19 | J11: 5 | K11: 14
A12: 지산1동 | B12: 2458 | C12: 5545 | D12: 2726 | E12: 2819 | F12: 5441 | G12: 2686 | H12: 2755 | I12: 104 | J12: 40 | K12: 64
A13: 지산2동 | B13: 2715 | C13: 6298 | D13: 3179 | E13: 3119 | F13: 6257 | G13: 3157 | H13: 3100 | I13: 41 | J13: 22 | K13: 19
A14: 서남동 | B14: 2553 | C14: 4720 | D14: 2413 | E14: 2307 | F14: 4359 | G14: 2206 | H14: 2153 | I14: 361 | J14: 207 | K14: 154
A15: 학 동 | B15: 3893 | C15: 7979 | D15: 3962 | E15: 4017 | F15: 7895 | G15: 3930 | H15: 3965 | I15: 84 | J15: 32 | K15: 52
A16: 학운동 | B16: 5016 | C16: 13532 | D16: 6577 | E16: 6955 | F16: 13498 | G16: 6557 | H16: 6941 | I16: 34 | J16: 20 | K16: 14
A17: 지원1동 | B17: 3671 | C17: 9532 | D17: 4773 | E17: 4759 | F17: 9483 | G17: 4757 | H17: 4726 | I17: 49 | J17: 16 | K17: 33
A18: 지원2동 | B18: 3427 | C18: 8069 | D18: 4096 | E18: 3973 | F18: 8055 | G18: 4091 | H18: 3964 | I18: 14 | J18: 5 | K18: 9
A21: ○ 서 구 | K21: 단위 : 명, 세대
A22: 구 분 | B22: 세 대 | C22: 합 계 | F22: 한 국 인 | I22: 외 국 인
C23: 계 | D23: 남 | E23: 여 | F23: 계 | G23: 남 | H23: 여 | I23: 계 | J23: 남 | K23: 여
A24: 2011 | B24: =SUM(B25:B42) -> 116992 | C24: =SUM(C25:C42) -> 319330 | D24: =SUM(D25:D42) -> 156959 | E24: =SUM(E25:E42) -> 162371 | F24: =SUM(F25:F42) -> 317936 | G24: =SUM(G25:G42) -> 156398 | H24: =SUM(H25:H42) -> 161538 | I24: =SUM(I25:I42) -> 1394 | ... K24: =SUM(K25:K42) -> 833
A25: 양 동 | B25: 2537 | C25: =SUM(D25:E25) -> 5488 | D25: =SUM(G25,J25) -> 2738 | E25: =SUM(H25,K25) -> 2750 | F25: 5446 | G25: 2732 | H25: 2714 | I25: 42 | J25: 6 | K25: 36
A26: 양 3 동 | B26: 2267 | C26: =SUM(D26:E26) -> 5715 | D26: =SUM(G26,J26) -> 2853 | E26: =SUM(H26,K26) -> 2862 | F26: 5707 | G26: 2853 | H26: 2854 | I26: 8 | J26: 0 | K26: 8
A27: 농성1동 | B27: 3975 | C27: =SUM(D27:E27) -> 8737 | D27: =SUM(G27,J27) -> 4385 | E27: =SUM(H27,K27) -> 4352 | F27: 8682 | G27: 4375 | H27: 4307 | I27: 55 | J27: 10 | K27: 45
A28: 농성2동 | B28: 2771 | C28: =SUM(D28:E28) -> 6017 | D28: =SUM(G28,J28) -> 3100 | E28: =SUM(H28,K28) -> 2917 | F28: 5993 | G28: 3092 | H28: 2901 | I28: 24 | J28: 8 | K28: 16
A29: 광 천 동 | B29: 4753 | C29: =SUM(D29:E29) -> 11330 | D29: =SUM(G29,J29) -> 5732 | E29: =SUM(H29,K29) -> 5598 | F29: 11275 | G29: 5709 | H29: 5566 | I29: 55 | J29: 23 | K29: 32
A30: 유 덕 동 | B30: 4480 | C30: =SUM(D30:E30) -> 12577 | D30: =SUM(G30,J30) -> 6320 | E30: =SUM(H30,K30) -> 6257 | F30: 12301 | G30: 6195 | H30: 6106 | I30: 276 | J30: 125 | K30: 151
A31: 치 평 동 | B31: 10440 | C31: =SUM(D31:E31) -> 31175 | D31: =SUM(G31,J31) -> 15194 | E31: =SUM(H31,K31) -> 15981 | F31: 31035 | G31: 15131 | H31: 15904 | I31: 140 | J31: 63 | K31: 77
A32: 상무1동 | B32: 10121 | C32: =SUM(D32:E32) -> 25399 | D32: =SUM(G32,J32) -> 12480 | E32: =SUM(H32,K32) -> 12919 | F32: 25313 | G32: 12457 | H32: 12856 | I32: 86 | J32: 23 | K32: 63
A33: 상무2동 | B33: 11032 | C33: =SUM(D33:E33) -> 26517 | D33: =SUM(G33,J33) -> 12974 | E33: =SUM(H33,K33) -> 13543 | F33: 26462 | G33: 12954 | H33: 13508 | I33: 55 | J33: 20 | K33: 35
A34: 화정1동 | B34: 6717 | C34: =SUM(D34:E34) -> 16611 | D34: =SUM(G34,J34) -> 7988 | E34: =SUM(H34,K34) -> 8623 | F34: 16528 | G34: 7969 | H34: 8559 | I34: 83 | J34: 19 | K34: 64
A35: 화정2동 | B35: 4972 | C35: =SUM(D35:E35) -> 13373 | D35: =SUM(G35,J35) -> 6755 | E35: =SUM(H35,K35) -> 6618 | F35: 13352 | G35: 6748 | H35: 6604 | I35: 21 | J35: 7 | K35: 14
A36: 화정3동 | B36: 4636 | C36: =SUM(D36:E36) -> 12931 | D36: =SUM(G36,J36) -> 6462 | E36: =SUM(H36,K36) -> 6469 | F36: 12917 | G36: 6459 | H36: 6458 | I36: 14 | J36: 3 | K36: 11
... A42: 동 천 동 | B42: 6036 | C42: =SUM(D42:E42) -> 17997 | D42: =SUM(G42,J42) -> 8727 | E42: =SUM(H42,K42) -> 9270 | F42: 17907 | G42: 8683 | H42: 9224 | I42: 90 | J42: 44 | K42: 46
A45: ○ 남 구
A46: 구 분 | B46: 세 대 | C46: 합 계 | F46: 한 국 인 | I46: 외 국 인
C47: 계 | D47: 남 | E47: 여 | F47: 계 | G47: 남 | H47: 여 | I47: 계 | J47: 남 | K47: 여
A48: 2011 | B48: =SUM(B49:B64) -> 82854 | C48: =SUM(C49:C64) -> 220103 | D48: =SUM(D49:D64) -> 106739 | E48: =SUM(E49:E64) -> 113364 | F48: =SUM(F49:F64) -> 219041 | G48: =SUM(G49:G64) -> 106382 | H48: =SUM(H49:H64) -> 112659 | I48: =SUM(I49:I64) -> 1062 | ... K48: =SUM(K49:K64) -> 705
A49: 양 림 동 | B49: 3901 | C49: 9607 | D49: 4600 | E49: 5007 | F49: 9536 | G49: 4578 | H49: 4958 | I49: 71 | J49: 22 | K49: 49
...

Sheet 2012년
A1: 2. 동별 세대 및 인구 (동구~광산구)
A2: ○ 동 구
B3: 합 계 | F3: 한 국 인 | J3: 외 국 인
A4: 구 분 | B4: 세 대 | C4: 인 구 | F4: 세 대 | G4: 인 구 | J4: 인 구
C5: 계 | D5: 남 | E5: 여 | G5: 계 | H5: 남 | I5: 여 | J5: 계 | K5: 남 | L5: 여
A6: 2012 | B6: =SUM(B7:B19) -> 47283 | C6: =SUM(C7:C19) -> 106658 | D6: =SUM(D7:D19) -> 53387 | E6: =SUM(E7:E19) -> 53271 | F6: =SUM(F7:F19) -> 47283 | G6: =SUM(G7:G19) -> 105580 | H6: =SUM(H7:H19) -> 52888 | I6: =SUM(I7:I19) -> 52692 | ... L6: =SUM(L7:L19) -> 579
A7: 충장동 | B7: =F7 -> 2850 | C7: =SUM(D7:E7) -> 4960 | D7: =SUM(H7,K7) -> 2658 | E7: =SUM(I7,L7) -> 2302 | F7: 2850 | G7: =SUM(H7:I7) -> 4859 | H7: =[5]연령별!F5 -> 2606 | I7: =[5]연령별!G5 -> 2253 | J7: =SUM(K7:L7) -> 101 | K7: =[5]외국인!F5 -> 52 | L7: =[5]외국인!G5 -> 49
A8: 동명동 | B8: =F8 -> 2692 | C8: =SUM(D8:E8) -> 5305 | D8: =SUM(H8,K8) -> 2627 | E8: =SUM(I8,L8) -> 2678 | F8: 2692 | G8: =SUM(H8:I8) -> 5245 | H8: =[5]연령별!I5 -> 2592 | I8: =[5]연령별!J5 -> 2653 | J8: =SUM(K8:L8) -> 60 | K8: =[5]외국인!I5 -> 35 | L8: =[5]외국인!J5 -> 25
A9: 계림1동 | B9: =F9 -> 4661 | C9: =SUM(D9:E9) -> 8670 | D9: =SUM(H9,K9) -> 4491 | E9: =SUM(I9,L9) -> 4179 | F9: 4661 | G9: =SUM(H9:I9) -> 8599 | H9: =[5]연령별!L5 -> 4473 | I9: =[5]연령별!M5 -> 4126 | J9: =SUM(K9:L9) -> 71 | K9: =[5]외국인!L5 -> 18 | L9: =[5]외국인!M5 -> 53
A10: 계림2동 | B10: =F10 -> 4594 | C10: =SUM(D10:E10) -> 11286 | D10: =SUM(H10,K10) -> 5625 | E10: =SUM(I10,L10) -> 5661 | F10: 4594 | G10: =SUM(H10:I10) -> 11243 | H10: =[5]연령별!O5 -> 5612 | I10: =[5]연령별!P5 -> 5631 | J10: =SUM(K10:L10) -> 43 | K10: =[5]외국인!O5 -> 13 | L10: =[5]외국인!P5 -> 30
A11: 산수1동 | B11: =F11 -> 4155 | C11: =SUM(D11:E11) -> 8869 | D11: =SUM(H11,K11) -> 4437 | E11: =SUM(I11,L11) -> 4432 | F11: 4155 | G11: =SUM(H11:I11) -> 8797 | H11: =[5]연령별!R5 -> 4409 | I11: =[5]연령별!S5 -> 4388 | J11: =SUM(K11:L11) -> 72 | K11: =[5]외국인!R5 -> 28 | L11: =[5]외국인!S5 -> 44
A12: 산수2동 | B12: =F12 -> 4453 | C12: =SUM(D12:E12) -> 11707 | D12: =SUM(H12,K12) -> 5748 | E12: =SUM(I12,L12) -> 5959 | F12: 4453 | G12: =SUM(H12:I12) -> 11684 | H12: =[5]연령별!U5 -> 5738 | I12: =[5]연령별!V5 -> 5946 | J12: =SUM(K12:L12) -> 23 | K12: =[5]외국인!U5 -> 10 | L12: =[5]외국인!V5 -> 13
A13: 지산1동 | B13: =F13 -> 2413 | C13: =SUM(D13:E13) -> 5385 | D13: =SUM(H13,K13) -> 2635 | E13: =SUM(I13,L13) -> 2750 | F13: 2413 | G13: =SUM(H13:I13) -> 5298 | H13: =[5]연령별!X5 -> 2596 | I13: =[5]연령별!Y5 -> 2702 | J13: =SUM(K13:L13) -> 87 | K13: =[5]외국인!X5 -> 39 | L13: =[5]외국인!Y5 -> 48
A14: 지산2동 | B14: =F14 -> 2741 | C14: =SUM(D14:E14) -> 6318 | D14: =SUM(H14,K14) -> 3155 | E14: =SUM(I14,L14) -> 3163 | F14: 2741 | G14: =SUM(H14:I14) -> 6251 | H14: =[5]연령별!AA5 -> 3124 | I14: =[5]연령별!AB5 -> 3127 | J14: =SUM(K14:L14) -> 67 | K14: =[5]외국인!AA5 -> 31 | L14: =[5]외국인!AB5 -> 36
A15: 서남동 | B15: =F15 -> 2483 | C15: =SUM(D15:E15) -> 4557 | D15: =SUM(H15,K15) -> 2323 | E15: =SUM(I15,L15) -> 2234 | F15: 2483 | G15: =SUM(H15:I15) -> 4207 | H15: =[5]연령별!AD5 -> 2132 | I15: =[5]연령별!AE5 -> 2075 | J15: =SUM(K15:L15) -> 350 | K15: =[5]외국인!AD5 -> 191 | L15: =[5]외국인!AE5 -> 159
A16: 학 동 | B16: =F16 -> 4204 | C16: =SUM(D16:E16) -> 8867 | D16: =SUM(H16,K16) -> 4362 | E16: =SUM(I16,L16) -> 4505 | F16: 4204 | G16: =SUM(H16:I16) -> 8784 | H16: =[5]연령별!AG5 -> 4331 | I16: =[5]연령별!AH5 -> 4453 | J16: =SUM(K16:L16) -> 83 | K16: =[5]외국인!AG5 -> 31 | L16: =[5]외국인!AH5 -> 52
A17: 학운동 | B17: =F17 -> 5015 | C17: =SUM(D17:E17) -> 13450 | D17: =SUM(H17,K17) -> 6529 | E17: =SUM(I17,L17) -> 6921 | F17: 5015 | G17: =SUM(H17:I17) -> 13398 | H17: =[5]연령별!AJ5 -> 6500 | I17: =[5]연령별!AK5 -> 6898 | J17: =SUM(K17:L17) -> 52 | K17: =[5]외국인!AJ5 -> 29 | L17: =[5]외국인!AK5 -> 23
A18: 지원1동 | B18: =F18 -> 3656 | C18: =SUM(D18:E18) -> 9398 | D18: =SUM(H18,K18) -> 4746 | E18: =SUM(I18,L18) -> 4652 | F18: 3656 | G18: =SUM(H18:I18) -> 9357 | H18: =[5]연령별!AM5 -> 4734 | I18: =[5]연령별!AN5 -> 4623 | J18: =SUM(K18:L18) -> 41 | K18: =[5]외국인!AM5 -> 12 | L18: =[5]외국인!AN5 -> 29
A19: 지원2동 | B19: =F19 -> 3366 | C19: =SUM(D19:E19) -> 7886 | D19: =SUM(H19,K19) -> 4051 | E19: =SUM(I19,L19) -> 3835 | F19: 3366 | G19: =SUM(H19:I19) -> 7858 | H19: =[5]연령별!AP5 -> 4041 | I19: =[5]연령별!AQ5 -> 3817 | J19: =SUM(K19:L19) -> 28 | K19: =[5]외국인!AP5 -> 10 | L19: =[5]외국인!AQ5 -> 18
A21: ○ 서 구
B22: 합 계 | F22: 한 국 인 | J22: 외 국 인
A23: 구 분 | B23: 세 대 | C23: 인 구 | F23: 세 대 | G23: 인 구 | J23: 인 구
C24: 계 | D24: 남 | E24: 여 | G24: 계 | H24: 남 | I24: 여 | J24: 계 | K24: 남 | L24: 여
A25: 2012 | B25: =SUM(B26:B43) -> 117665 | C25: =SUM(C26:C43) -> 317923 | D25: =SUM(D26:D43) -> 156315 | E25: =SUM(E26:E43) -> 161608 | F25: =SUM(F26:F43) -> 117665 | G25: =SUM(G26:G43) -> 316545 | H25: =SUM(H26:H43) -> 155783 | I25: =SUM(I26:I43) -> 160762 | ... L25: =SUM(L26:L43) -> 846
A26: 양 동 | B26: =F26 -> 2489 | C26: =SUM(D26:E26) -> 5376 | D26: =SUM(H26,K26) -> 2673 | E26: =SUM(I26,L26) -> 2703 | F26: 2489 | G26: =SUM(H26:I26) -> 5333 | H26: 2666 | I26: 2667 | J26: 43 | K26: 7 | L26: 36
A27: 양 3 동 | B27: =F27 -> 2304 | C27: =SUM(D27:E27) -> 5748 | D27: =SUM(H27,K27) -> 2885 | E27: =SUM(I27,L27) -> 2863 | F27: 2304 | G27: =SUM(H27:I27) -> 5736 | H27: 2883 | I27: 2853 | J27: 12 | K27: 2 | L27: 10
A28: 농성 1동 | B28: =F28 -> 4049 | C28: =SUM(D28:E28) -> 8743 | D28: =SUM(H28,K28) -> 4403 | E28: =SUM(I28,L28) -> 4340 | F28: 4049 | G28: =SUM(H28:I28) -> 8702 | H28: 4395 | I28: 4307 | J28: 41 | K28: 8 | L28: 33
A29: 농성 2동 | B29: =F29 -> 2874 | C29: =SUM(D29:E29) -> 6150 | D29: =SUM(H29,K29) -> 3124 | E29: =SUM(I29,L29) -> 3026 | F29: 2874 | G29: =SUM(H29:I29) -> 6116 | H29: 3113 | I29: 3003 | J29: 34 | K29: 11 | L29: 23
A30: 광 천 동 | B30: =F30 -> 4714 | C30: =SUM(D30:E30) -> 11127 | D30: =SUM(H30,K30) -> 5598 | E30: =SUM(I30,L30) -> 5529 | F30: 4714 | G30: =SUM(H30:I30) -> 11077 | H30: 5581 | I30: 5496 | J30: 50 | K30: 17 | L30: 33
A31: 유 덕 동 | B31: =F31 -> 4485 | C31: =SUM(D31:E31) -> 12373 | D31: =SUM(H31,K31) -> 6221 | E31: =SUM(I31,L31) -> 6152 | F31: 4485 | G31: =SUM(H31:I31) -> 12220 | H31: 6164 | I31: 6056 | J31: 153 | K31: 57 | L31: 96
A32: 치 평 동 | B32: =F32 -> 10561 | C32: =SUM(D32:E32) -> 31280 | D32: =SUM(H32,K32) -> 15203 | E32: =SUM(I32,L32) -> 16077 | F32: 10561 | G32: =SUM(H32:I32) -> 31072 | H32: 15105 | I32: 15967 | J32: 208 | K32: 98 | L32: 110
A33: 상무 1동 | B33: =F33 -> 10243 | C33: =SUM(D33:E33) -> 25392 | D33: =SUM(H33,K33) -> 12531 | E33: =SUM(I33,L33) -> 12861 | F33: 10243 | G33: =SUM(H33:I33) -> 25300 | H33: 12499 | I33: 12801 | J33: 92 | K33: 32 | L33: 60
A34: 상무 2동 | B34: =F34 -> 11365 | C34: =SUM(D34:E34) -> 26700 | D34: =SUM(H34,K34) -> 13065 | E34: =SUM(I34,L34) -> 13635 | F34: 11365 | G34: =SUM(H34:I34) -> 26597 | H34: 13022 | I34: 13575 | J34: 103 | K34: 43 | L34: 60
A35: 화정 1동 | B35: =F35 -> 6810 | C35: =SUM(D35:E35) -> 16510 | D35: =SUM(H35,K35) -> 7967 | E35: =SUM(I35,L35) -> 8543 | F35: 6810 | G35: =SUM(H35:I35) -> 16423 | H35: 7947 | I35: 8476 | J35: 87 | K35: 20 | L35: 67
A36: 화정 2동 | B36: =F36 -> 4473 | C36: =SUM(D36:E36) -> 12318 | D36: =SUM(H36,K36) -> 6212 | E36: =SUM(I36,L36) -> 6106 | F36: 4473 | G36: =SUM(H36:I36) -> 12291 | H36: 6201 | I36: 6090 | J36: 27 | K36: 11 | L36: 16
A37: 화정 3동 | B37: =F37 -> 4623 | C37: =SUM(D37:E37) -> 12779 | D37: =SUM(H37,K37) -> 6397 | E37: =SUM(I37,L37) -> 6382 | F37: 4623 | G37: =SUM(H37:I37) -> 12759 | H37: 6393 | I37: 6366 | J37: 20 | K37: 4 | L37: 16
... A43: 동 천 동 | B43: =F43 -> 6143 | C43: =SUM(D43:E43) -> 18287 | D43: =SUM(H43,K43) -> 8868 | E43: =SUM(I43,L43) -> 9419 | F43: 6143 | G43: =SUM(H43:I43) -> 18231 | H43: 8846 | I43: 9385 | J43: 56 | K43: 22 | L43: 34
A45: ○ 남 구
B46: 합 계 | F46: 한 국 인 | J46: 외 국 인
A47: 구 분 | B47: 세 대 | C47: 인 구 | F47: 세 대 | G47: 인 구 | J47: 인 구
...

Sheet 2013년
A1: 2. 동별 세대 및 인구 (동구~광산구)
A2: ○ 동 구
B3: 합 계 | F3: 한 국 인 | J3: 외 국 인
A4: 구 분 | B4: 세 대 | C4: 인 구 | F4: 세 대 | G4: 인 구 | J4: 인 구
C5: 계 | D5: 남 | E5: 여 | G5: 계 | H5: 남 | I5: 여 | J5: 계 | K5: 남 | L5: 여
A6: 2013 | B6: =SUM(B7:B19) -> 46428 | C6: =SUM(C7:C19) -> 104032 | D6: =SUM(D7:D19) -> 52084 | E6: =SUM(E7:E19) -> 51948 | F6: =SUM(F7:F19) -> 46428 | G6: =SUM(G7:G19) -> 103016 | H6: =SUM(H7:H19) -> 51584 | I6: =SUM(I7:I19) -> 51432 | ... L6: =SUM(L7:L19) -> 516
A7: 충 장 동 | B7: =F7 -> 2759 | C7: =SUM(D7:E7) -> 4826 | D7: =SUM(H7,K7) -> 2628 | E7: =SUM(I7,L7) -> 2198 | F7: 2759 | G7: =SUM(H7:I7) -> 4722 | H7: ='[6]2. 동별, 연령별(외국인 제외)'!F5 -> 2566 | I7: ='[6]2. 동별, 연령별(외국인 제외)'!G5 -> 2156 | J7: =SUM(K7:L7) -> 104 | K7: ='[6]3. 동별, 연령별 외국인'!F5 -> 62 | L7: ='[6]3. 동별, 연령별 외국인'!G5 -> 42
A8: 동 명 동 | B8: =F8 -> 2624 | C8: =SUM(D8:E8) -> 5162 | D8: =SUM(H8,K8) -> 2532 | E8: =SUM(I8,L8) -> 2630 | F8: 2624 | G8: =SUM(H8:I8) -> 5108 | H8: ='[6]2. 동별, 연령별(외국인 제외)'!I5 -> 2503 | I8: ='[6]2. 동별, 연령별(외국인 제외)'!J5 -> 2605 | J8: =SUM(K8:L8) -> 54 | K8: ='[6]3. 동별, 연령별 외국인'!I5 -> 29 | L8: ='[6]3. 동별, 연령별 외국인'!J5 -> 25
A9: 계림1동 | B9: =F9 -> 4650 | C9: =SUM(D9:E9) -> 8594 | D9: =SUM(H9,K9) -> 4465 | E9: =SUM(I9,L9) -> 4129 | F9: 4650 | G9: =SUM(H9:I9) -> 8528 | H9: ='[6]2. 동별, 연령별(외국인 제외)'!L5 -> 4449 | I9: ='[6]2. 동별, 연령별(외국인 제외)'!M5 -> 4079 | J9: =SUM(K9:L9) -> 66 | K9: ='[6]3. 동별, 연령별 외국인'!L5 -> 16 | L9: ='[6]3. 동별, 연령별 외국인'!M5 -> 50
A10: 계림2동 | B10: =F10 -> 4576 | C10: =SUM(D10:E10) -> 11013 | D10: =SUM(H10,K10) -> 5481 | E10: =SUM(I10,L10) -> 5532 | F10: 4576 | G10: =SUM(H10:I10) -> 10971 | H10: ='[6]2. 동별, 연령별(외국인 제외)'!O5 -> 5468 | I10: ='[6]2. 동별, 연령별(외국인 제외)'!P5 -> 5503 | J10: =SUM(K10:L10) -> 42 | K10: ='[6]3. 동별, 연령별 외국인'!O5 -> 13 | L10: ='[6]3. 동별, 연령별 외국인'!P5 -> 29
A11: 산수1동 | B11: =F11 -> 4025 | C11: =SUM(D11:E11) -> 8484 | D11: =SUM(H11,K11) -> 4273 | E11: =SUM(I11,L11) -> 4211 | F11: 4025 | G11: =SUM(H11:I11) -> 8409 | H11: ='[6]2. 동별, 연령별(외국인 제외)'!R5 -> 4241 | I11: ='[6]2. 동별, 연령별(외국인 제외)'!S5 -> 4168 | J11: =SUM(K11:L11) -> 75 | K11: ='[6]3. 동별, 연령별 외국인'!R5 -> 32 | L11: ='[6]3. 동별, 연령별 외국인'!S5 -> 43
A12: 산수2동 | B12: =F12 -> 4468 | C12: =SUM(D12:E12) -> 11553 | D12: =SUM(H12,K12) -> 5642 | E12: =SUM(I12,L12) -> 5911 | F12: 4468 | G12: =SUM(H12:I12) -> 11521 | H12: ='[6]2. 동별, 연령별(외국인 제외)'!U5 -> 5629 | I12: ='[6]2. 동별, 연령별(외국인 제외)'!V5 -> 5892 | J12: =SUM(K12:L12) -> 32 | K12: ='[6]3. 동별, 연령별 외국인'!U5 -> 13 | L12: ='[6]3. 동별, 연령별 외국인'!V5 -> 19
A13: 지산1동 | B13: =F13 -> 2406 | C13: =SUM(D13:E13) -> 5315 | D13: =SUM(H13,K13) -> 2618 | E13: =SUM(I13,L13) -> 2697 | F13: 2406 | G13: =SUM(H13:I13) -> 5241 | H13: ='[6]2. 동별, 연령별(외국인 제외)'!X5 -> 2586 | I13: ='[6]2. 동별, 연령별(외국인 제외)'!Y5 -> 2655 | J13: =SUM(K13:L13) -> 74 | K13: ='[6]3. 동별, 연령별 외국인'!X5 -> 32 | L13: ='[6]3. 동별, 연령별 외국인'!Y5 -> 42
A14: 지산2동 | B14: =F14 -> 2701 | C14: =SUM(D14:E14) -> 6201 | D14: =SUM(H14,K14) -> 3107 | E14: =SUM(I14,L14) -> 3094 | F14: 2701 | G14: =SUM(H14:I14) -> 6153 | H14: ='[6]2. 동별, 연령별(외국인 제외)'!AA5 -> 3081 | I14: ='[6]2. 동별, 연령별(외국인 제외)'!AB5 -> 3072 | J14: =SUM(K14:L14) -> 48 | K14: ='[6]3. 동별, 연령별 외국인'!AA5 -> 26 | L14: ='[6]3. 동별, 연령별 외국인'!AB5 -> 22
A15: 서 남 동 | B15: =F15 -> 2395 | C15: =SUM(D15:E15) -> 4375 | D15: =SUM(H15,K15) -> 2252 | E15: =SUM(I15,L15) -> 2123 | F15: 2395 | G15: =SUM(H15:I15) -> 4068 | H15: ='[6]2. 동별, 연령별(외국인 제외)'!AD5 -> 2069 | I15: ='[6]2. 동별, 연령별(외국인 제외)'!AE5 -> 1999 | J15: =SUM(K15:L15) -> 307 | K15: ='[6]3. 동별, 연령별 외국인'!AD5 -> 183 | L15: ='[6]3. 동별, 연령별 외국인'!AE5 -> 124
A16: 학 동 | B16: =F16 -> 3846 | C16: =SUM(D16:E16) -> 8082 | D16: =SUM(H16,K16) -> 3966 | E16: =SUM(I16,L16) -> 4116 | F16: 3846 | G16: =SUM(H16:I16) -> 8007 | H16: ='[6]2. 동별, 연령별(외국인 제외)'!AG5 -> 3940 | I16: ='[6]2. 동별, 연령별(외국인 제외)'!AH5 -> 4067 | J16: =SUM(K16:L16) -> 75 | K16: ='[6]3. 동별, 연령별 외국인'!AG5 -> 26 | L16: ='[6]3. 동별, 연령별 외국인'!AH5 -> 49
A17: 학 운 동 | B17: =F17 -> 5017 | C17: =SUM(D17:E17) -> 13401 | D17: =SUM(H17,K17) -> 6486 | E17: =SUM(I17,L17) -> 6915 | F17: 5017 | G17: =SUM(H17:I17) -> 13346 | H17: ='[6]2. 동별, 연령별(외국인 제외)'!AJ5 -> 6458 | I17: ='[6]2. 동별, 연령별(외국인 제외)'!AK5 -> 6888 | J17: =SUM(K17:L17) -> 55 | K17: ='[6]3. 동별, 연령별 외국인'!AJ5 -> 28 | L17: ='[6]3. 동별, 연령별 외국인'!AK5 -> 27
A18: 지원1동 | B18: =F18 -> 3638 | C18: =SUM(D18:E18) -> 9261 | D18: =SUM(H18,K18) -> 4645 | E18: =SUM(I18,L18) -> 4616 | F18: 3638 | G18: =SUM(H18:I18) -> 9212 | H18: ='[6]2. 동별, 연령별(외국인 제외)'!AM5 -> 4625 | I18: ='[6]2. 동별, 연령별(외국인 제외)'!AN5 -> 4587 | J18: =SUM(K18:L18) -> 49 | K18: ='[6]3. 동별, 연령별 외국인'!AM5 -> 20 | L18: ='[6]3. 동별, 연령별 외국인'!AN5 -> 29
A19: 지원2동 | B19: =F19 -> 3323 | C19: =SUM(D19:E19) -> 7765 | D19: =SUM(H19,K19) -> 3989 | E19: =SUM(I19,L19) -> 3776 | F19: 3323 | G19: =SUM(H19:I19) -> 7730 | H19: ='[6]2. 동별, 연령별(외국인 제외)'!AP5 -> 3969 | I19: ='[6]2. 동별, 연령별(외국인 제외)'!AQ5 -> 3761 | J19: =SUM(K19:L19) -> 35 | K19: ='[6]3. 동별, 연령별 외국인'!AP5 -> 20 | L19: ='[6]3. 동별, 연령별 외국인'!AQ5 -> 15
A21: ○ 서 구
B22: 합 계 | F22: 한 국 인 | J22: 외 국 인
A23: 구 분 | B23: 세 대 | C23: 인 구 | F23: 세 대 | G23: 인 구 | J23: 인 구
C24: 계 | D24: 남 | E24: 여 | G24: 계 | H24: 남 | I24: 여 | J24: 계 | K24: 남 | L24: 여
A25: 2013 | B25: =SUM(B26:B43) -> 119155 | C25: =D25+E25 -> 316725 | D25: =H25+K25 -> 155705 | E25: =I25+L25 -> 161020 | F25: =SUM(F26:F43) -> 119155 | G25: =SUM(G26:G43) -> 315276 | H25: =SUM(H26:H43) -> 155104 | I25: =SUM(I26:I43) -> 160172 | J25: =SUM(J26:J43) -> 1449 | K25: =SUM(K26:K43) -> 601 | L25: =SUM(L26:L43) -> 848
A26: 양 동 | B26: 2461 | C26: =D26+E26 -> 5238 | D26: =H26+K26 -> 2613 | E26: =I26+L26 -> 2625 | F26: 2461 | G26: 5193 | H26: 2603 | I26: 2590 | J26: =K26+L26 -> 45 | K26: 10 | L26: 35
A27: 양 3 동 | B27: 2276 | C27: =D27+E27 -> 5630 | D27: =H27+K27 -> 2811 | E27: =I27+L27 -> 2819 | F27: 2276 | G27: =SUM(H27:I27) -> 5611 | H27: 2806 | I27: 2805 | J27: =K27+L27 -> 19 | K27: 5 | L27: 14
A28: 농성1동 | B28: 4207 | C28: =D28+E28 -> 8824 | D28: =H28+K28 -> 4491 | E28: =I28+L28 -> 4333 | F28: 4207 | G28: =SUM(H28:I28) -> 8782 | H28: 4477 | I28: 4305 | J28: =K28+L28 -> 42 | K28: 14 | L28: 28
A29: 농성2동 | B29: 2942 | C29: =D29+E29 -> 6206 | D29: =H29+K29 -> 3184 | E29: =I29+L29 -> 3022 | F29: 2942 | G29: =SUM(H29:I29) -> 6171 | H29: 3173 | I29: 2998 | J29: =K29+L29 -> 35 | K29: 11 | L29: 24
A30: 광 천 동 | B30: 4703 | C30: =D30+E30 -> 10848 | D30: =H30+K30 -> 5479 | E30: =I30+L30 -> 5369 | F30: 4703 | G30: =SUM(H30:I30) -> 10802 | H30: 5466 | I30: 5336 | J30: =K30+L30 -> 46 | K30: 13 | L30: 33
A31: 유 덕 동 | B31: 4492 | C31: =D31+E31 -> 12219 | D31: =H31+K31 -> 6154 | E31: =I31+L31 -> 6065 | F31: 4492 | G31: =SUM(H31:I31) -> 12058 | H31: 6077 | I31: 5981 | J31: =K31+L31 -> 161 | K31: 77 | L31: 84
A32: 치 평 동 | B32: 10648 | C32: =D32+E32 -> 30771 | D32: =H32+K32 -> 14919 | E32: =I32+L32 -> 15852 | F32: 10648 | G32: =SUM(H32:I32) -> 30577 | H32: 14823 | I32: 15754 | J32: =K32+L32 -> 194 | K32: 96 | L32: 98
A33: 상무1동 | B33: 10289 | C33: =D33+E33 -> 25112 | D33: =H33+K33 -> 12380 | E33: =I33+L33 -> 12732 | F33: 10289 | G33: =SUM(H33:I33) -> 24994 | H33: 12344 | I33: 12650 | J33: =K33+L33 -> 118 | K33: 36 | L33: 82
A34: 상무2동 | B34: 11530 | C34: =D34+E34 -> 26494 | D34: =H34+K34 -> 13017 | E34: =I34+L34 -> 13477 | F34: 11530 | G34: =SUM(H34:I34) -> 26378 | H34: 12975 | I34: 13403 | J34: =K34+L34 -> 116 | K34: 42 | L34: 74
A35: 화정1동 | B35: 7140 | C35: =D35+E35 -> 16751 | D35: =H35+K35 -> 8074 | E35: =I35+L35 -> 8677 | F35: 7140 | G35: =SUM(H35:I35) -> 16661 | H35: 8050 | I35: 8611 | J35: =K35+L35 -> 90 | K35: 24 | L35: 66
A36: 화정2동 | B36: 4394 | C36: =D36+E36 -> 11899 | D36: =H36+K36 -> 5994 | E36: =I36+L36 -> 5905 | F36: 4394 | G36: =SUM(H36:I36) -> 11867 | H36: 5986 | I36: 5881 | J36: =K36+L36 -> 32 | K36: 8 | L36: 24
A37: 화정3동 | B37: 4646 | C37: =D37+E37 -> 12597 | D37: =H37+K37 -> 6304 | E37: =I37+L37 -> 6293 | F37: 4646 | G37: =SUM(H37:I37) -> 12570 | H37: 6294 | I37: 6276 | J37: =K37+L37 -> 27 | K37: 10 | L37: 17
A38: 화정4동 | B38: 7298 | C38: =D38+E38 -> 21088 | D38: =H38+K38 -> 10290 | E38: =I38+L38 -> 10798 | F38: 7298 | G38: =SUM(H38:I38) -> 21034 | H38: 10273 | I38: 10761 | J38: =K38+L38 -> 54 | K38: 17 | L38: 37
... A43: 동 천 동 | B43: 6234 | C43: =D43+E43 -> 18444 | D43: =H43+K43 -> 8926 | E43: =I43+L43 -> 9518 | F43: 6234 | G43: =SUM(H43:I43) -> 18399 | H43: 8907 | I43: 9492 | J43: =K43+L43 -> 45 | K43: 19 | L43: 26
A47: ○ 남 구
A48: 구 분 | B48: 합 계 | F48: 한 국 인 | J48: 외 국 인
...

Sheet 2014년
A1: 2. 동별 세대 및 인구 (동구~광산구)
A2: ○ 동 구
B3: 합 계 | F3: 한 국 인 | J3: 외 국 인
A4: 구 분 | B4: 세 대 | C4: 인 구 | F4: 세 대 | G4: 인 구 | J4: 인 구
C5: 계 | D5: 남 | E5: 여 | G5: 계 | H5: 남 | I5: 여 | J5: 계 | K5: 남 | L5: 여
A6: 2014 | B6: =SUM(B7:B19) -> 46153 | C6: =SUM(C7:C19) -> 101833 | D6: =SUM(D7:D19) -> 50860 | E6: =SUM(E7:E19) -> 50973 | F6: =SUM(F7:F19) -> 46153 | G6: =SUM(G7:G19) -> 100786 | H6: =SUM(H7:H19) -> 50382 | I6: =SUM(I7:I19) -> 50404 | ... L6: =SUM(L7:L19) -> 569
A7: 충장동 | B7: =F7 -> 2899 | C7: =SUM(D7:E7) -> 4853 | D7: =SUM(H7,K7) -> 2663 | E7: =SUM(I7,L7) -> 2190 | F7: 2899 | G7: =SUM(H7:I7) -> 4752 | H7: 2601 | I7: 2151 | J7: =SUM(K7:L7) -> 101 | K7: 62 | L7: 39
A8: 동명동 | B8: =F8 -> 2539 | C8: =SUM(D8:E8) -> 4915 | D8: =SUM(H8,K8) -> 2420 | E8: =SUM(I8,L8) -> 2495 | F8: 2539 | G8: =SUM(H8:I8) -> 4860 | H8: 2396 | I8: 2464 | J8: =SUM(K8:L8) -> 55 | K8: 24 | L8: 31
A9: 계림1동 | B9: =F9 -> 4640 | C9: =SUM(D9:E9) -> 8394 | D9: =SUM(H9,K9) -> 4388 | E9: =SUM(I9,L9) -> 4006 | F9: 4640 | G9: =SUM(H9:I9) -> 8333 | H9: 4373 | I9: 3960 | J9: =SUM(K9:L9) -> 61 | K9: 15 | L9: 46
A10: 계림2동 | B10: =F10 -> 4560 | C10: =SUM(D10:E10) -> 10808 | D10: =SUM(H10,K10) -> 5381 | E10: =SUM(I10,L10) -> 5427 | F10: 4560 | G10: =SUM(H10:I10) -> 10766 | H10: 5368 | I10: 5398 | J10: =SUM(K10:L10) -> 42 | K10: 13 | L10: 29
A11: 산수1동 | B11: =F11 -> 4049 | C11: =SUM(D11:E11) -> 8328 | D11: =SUM(H11,K11) -> 4191 | E11: =SUM(I11,L11) -> 4137 | F11: 4049 | G11: =SUM(H11:I11) -> 8250 | H11: 4156 | I11: 4094 | J11: =SUM(K11:L11) -> 78 | K11: 35 | L11: 43
A12: 산수2동 | B12: =F12 -> 4437 | C12: =SUM(D12:E12) -> 11281 | D12: =SUM(H12,K12) -> 5479 | E12: =SUM(I12,L12) -> 5802 | F12: 4437 | G12: =SUM(H12:I12) -> 11250 | H12: 5467 | I12: 5783 | J12: =SUM(K12:L12) -> 31 | K12: 12 | L12: 19
A13: 지산1동 | B13: =F13 -> 2357 | C13: =SUM(D13:E13) -> 5211 | D13: =SUM(H13,K13) -> 2593 | E13: =SUM(I13,L13) -> 2618 | F13: 2357 | G13: =SUM(H13:I13) -> 5093 | H13: 2530 | I13: 2563 | J13: =SUM(K13:L13) -> 118 | K13: 63 | L13: 55
A14: 지산2동 | B14: =F14 -> 2666 | C14: =SUM(D14:E14) -> 6094 | D14: =SUM(H14,K14) -> 3047 | E14: =SUM(I14,L14) -> 3047 | F14: 2666 | G14: =SUM(H14:I14) -> 6037 | H14: 3020 | I14: 3017 | J14: =SUM(K14:L14) -> 57 | K14: 27 | L14: 30
A15: 서남동 | B15: =F15 -> 2323 | C15: =SUM(D15:E15) -> 4205 | D15: =SUM(H15,K15) -> 2108 | E15: =SUM(I15,L15) -> 2097 | F15: 2323 | G15: =SUM(H15:I15) -> 3887 | H15: 1951 | I15: 1936 | J15: =SUM(K15:L15) -> 318 | K15: 157 | L15: 161
A16: 학 동 | B16: =F16 -> 3660 | C16: =SUM(D16:E16) -> 7685 | D16: =SUM(H16,K16) -> 3756 | E16: =SUM(I16,L16) -> 3929 | F16: 3660 | G16: =SUM(H16:I16) -> 7625 | H16: 3739 | I16: 3886 | J16: =SUM(K16:L16) -> 60 | K16: 17 | L16: 43
A17: 학운동 | B17: =F17 -> 5117 | C17: =SUM(D17:E17) -> 13482 | D17: =SUM(H17,K17) -> 6477 | E17: =SUM(I17,L17) -> 7005 | F17: 5117 | G17: =SUM(H17:I17) -> 13427 | H17: 6452 | I17: 6975 | J17: =SUM(K17:L17) -> 55 | K17: 25 | L17: 30
A18: 지원1동 | B18: =F18 -> 3601 | C18: =SUM(D18:E18) -> 9004 | D18: =SUM(H18,K18) -> 4482 | E18: =SUM(I18,L18) -> 4522 | F18: 3601 | G18: =SUM(H18:I18) -> 8963 | H18: 4468 | I18: 4495 | J18: =SUM(K18:L18) -> 41 | K18: 14 | L18: 27
A19: 지원2동 | B19: =F19 -> 3305 | C19: =SUM(D19:E19) -> 7573 | D19: =SUM(H19,K19) -> 3875 | E19: =SUM(I19,L19) -> 3698 | F19: 3305 | G19: =SUM(H19:I19) -> 7543 | H19: 3861 | I19: 3682 | J19: =SUM(K19:L19) -> 30 | K19: 14 | L19: 16
A21: ○ 서 구
B22: 합 계 | F22: 한 국 인 | J22: 외 국 인
A23: 구 분 | B23: 세 대 | C23: 인 구 | F23: 세 대 | G23: 인 구 | J23: 인 구
C24: 계 | D24: 남 | E24: 여 | G24: 계 | H24: 남 | I24: 여 | J24: 계 | K24: 남 | L24: 여
A25: 2014 | B25: =SUM(B26:B43) -> 119658 | C25: =SUM(C26:C43) -> 311985 | D25: =SUM(D26:D43) -> 153359 | E25: =SUM(E26:E43) -> 158626 | F25: =SUM(F26:F43) -> 119658 | G25: =SUM(G26:G43) -> 310317 | H25: =SUM(H26:H43) -> 152605 | I25: =SUM(I26:I43) -> 157712 | ... L25: =SUM(L26:L43) -> 914
A26: 양 동 | B26: =F26 -> 2429 | C26: =SUM(D26:E26) -> 5028 | D26: =SUM(H26,K26) -> 2497 | E26: =SUM(I26,L26) -> 2531 | F26: 2429 | G26: =SUM(H26:I26) -> 4986 | H26: 2491 | I26: 2495 | J26: =SUM(K26:L26) -> 42 | K26: 6 | L26: 36
A27: 양 3 동 | B27: =F27 -> 2235 | C27: =SUM(D27:E27) -> 5485 | D27: =SUM(H27,K27) -> 2738 | E27: =SUM(I27,L27) -> 2747 | F27: 2235 | G27: =SUM(H27:I27) -> 5458 | H27: 2733 | I27: 2725 | J27: =SUM(K27:L27) -> 27 | K27: 5 | L27: 22
A28: 농성 1동 | B28: =F28 -> 4208 | C28: =SUM(D28:E28) -> 8745 | D28: =SUM(H28,K28) -> 4432 | E28: =SUM(I28,L28) -> 4313 | F28: 4208 | G28: =SUM(H28:I28) -> 8699 | H28: 4418 | I28: 4281 | J28: =SUM(K28:L28) -> 46 | K28: 14 | L28: 32
A29: 농성 2동 | B29: =F29 -> 2941 | C29: =SUM(D29:E29) -> 6095 | D29: =SUM(H29,K29) -> 3134 | E29: =SUM(I29,L29) -> 2961 | F29: 2941 | G29: =SUM(H29:I29) -> 6056 | H29: 3121 | I29: 2935 | J29: =SUM(K29:L29) -> 39 | K29: 13 | L29: 26
A30: 광 천 동 | B30: =F30 -> 4711 | C30: =SUM(D30:E30) -> 10628 | D30: =SUM(H30,K30) -> 5370 | E30: =SUM(I30,L30) -> 5258 | F30: 4711 | G30: =SUM(H30:I30) -> 10574 | H30: 5344 | I30: 5230 | J30: =SUM(K30:L30) -> 54 | K30: 26 | L30: 28
A31: 유 덕 동 | B31: =F31 -> 4547 | C31: =SUM(D31:E31) -> 12156 | D31: =SUM(H31,K31) -> 6172 | E31: =SUM(I31,L31) -> 5984 | F31: 4547 | G31: =SUM(H31:I31) -> 12013 | H31: 6100 | I31: 5913 | J31: =SUM(K31:L31) -> 143 | K31: 72 | L31: 71
A32: 치 평 동 | B32: =F32 -> 11197 | C32: =SUM(D32:E32) -> 30761 | D32: =SUM(H32,K32) -> 14908 | E32: =SUM(I32,L32) -> 15853 | F32: 11197 | G32: =SUM(H32:I32) -> 30564 | H32: 14808 | I32: 15756 | J32: =SUM(K32:L32) -> 197 | K32: 100 | L32: 97
A33: 상무 1동 | B33: =F33 -> 10188 | C33: =SUM(D33:E33) -> 24636 | D33: =SUM(H33,K33) -> 12178 | E33: =SUM(I33,L33) -> 12458 | F33: 10188 | G33: =SUM(H33:I33) -> 24481 | H33: 12116 | I33: 12365 | J33: =SUM(K33:L33) -> 155 | K33: 62 | L33: 93
A34: 상무 2동 | B34: =F34 -> 11552 | C34: =SUM(D34:E34) -> 25937 | D34: =SUM(H34,K34) -> 12774 | E34: =SUM(I34,L34) -> 13163 | F34: 11552 | G34: =SUM(H34:I34) -> 25793 | H34: 12714 | I34: 13079 | J34: =SUM(K34:L34) -> 144 | K34: 60 | L34: 84
A35: 화정 1동 | B35: =F35 -> 7331 | C35: =SUM(D35:E35) -> 16778 | D35: =SUM(H35,K35) -> 8077 | E35: =SUM(I35,L35) -> 8701 | F35: 7331 | G35: =SUM(H35:I35) -> 16675 | H35: 8046 | I35: 8629 | J35: =SUM(K35:L35) -> 103 | K35: 31 | L35: 72
A36: 화정 2동 | B36: =F36 -> 4542 | C36: =SUM(D36:E36) -> 12089 | D36: =SUM(H36,K36) -> 6099 | E36: =SUM(I36,L36) -> 5990 | F36: 4542 | G36: =SUM(H36:I36) -> 12048 | H36: 6086 | I36: 5962 | J36: =SUM(K36:L36) -> 41 | K36: 13 | L36: 28
A37: 화정 3동 | B37: =F37 -> 4613 | C37: =SUM(D37:E37) -> 12320 | D37: =SUM(H37,K37) -> 6129 | E37: =SUM(I37,L37) -> 6191 | F37: 4613 | G37: =SUM(H37:I37) -> 12286 | H37: 6121 | I37: 6165 | J37: =SUM(K37:L37) -> 34 | K37: 8 | L37: 26
... A43: 동 천 동 | B43: =F43 -> 6308 | C43: =SUM(D43:E43) -> 18381 | D43: =SUM(H43,K43) -> 8850 | E43: =SUM(I43,L43) -> 9531 | F43: 6308 | G43: =SUM(H43:I43) -> 18282 | H43: 8789 | I43: 9493 | J43: =SUM(K43:L43) -> 99 | K43: 61 | L43: 38
A45: ○ 남 구
B46: 합 계 | F46: 한 국 인 | J46: 외 국 인
A47: 구 분 | B47: 세 대 | C47: 인 구 | F47: 세 대 | G47: 인 구 | J47: 인 구
...

Sheet 2015년
A1: 2. 동별 세대 및 인구 (동구~광산구)
A2: ○ 동 구
B3: 합 계 | F3: 한 국 인 | J3: 외 국 인
A4: 구 분 | B4: 세 대 | C4: 인 구 | F4: 세 대 | G4: 인 구 | J4: 인 구
C5: 계 | D5: 남 | E5: 여 | G5: 계 | H5: 남 | I5: 여 | J5: 계 | K5: 남 | L5: 여
A6: 2015 | B6: 45860 | C6: =SUM(G6,J6) -> 99883 | D6: =SUM(H6,K6) -> 49888 | E6: =SUM(I6,L6) -> 49995 | F6: 45860 | G6: 98784 | H6: 49362 | I6: 49422 | J6: =SUM(J7:J19) -> 1099 | K6: =SUM(K7:K19) -> 526 | L6: =SUM(L7:L19) -> 573
A7: 충 장 동 | B7: 2947 | C7: =SUM(G7,J7) -> 4805 | D7: =SUM(H7,K7) -> 2577 | E7: =SUM(I7,L7) -> 2228 | F7: 2947 | G7: 4715 | H7: 2521 | I7: 2194 | J7: =SUM(K7:L7) -> 90 | K7: 56 | L7: 34
A8: 동 명 동 | B8: 2513 | C8: =SUM(G8,J8) -> 4763 | D8: =SUM(H8,K8) -> 2374 | E8: =SUM(I8,L8) -> 2389 | F8: 2513 | G8: 4708 | H8: 2350 | I8: 2358 | J8: =SUM(K8:L8) -> 55 | K8: 24 | L8: 31
A9: 계림1동 | B9: 4554 | C9: =SUM(G9,J9) -> 8081 | D9: =SUM(H9,K9) -> 4228 | E9: =SUM(I9,L9) -> 3853 | F9: 4554 | G9: 8017 | H9: 4208 | I9: 3809 | J9: =SUM(K9:L9) -> 64 | K9: 20 | L9: 44
A10: 계림2동 | B10: 4342 | C10: =SUM(G10,J10) -> 10139 | D10: =SUM(H10,K10) -> 5076 | E10: =SUM(I10,L10) -> 5063 | F10: 4342 | G10: 10098 | H10: 5062 | I10: 5036 | J10: =SUM(K10:L10) -> 41 | K10: 14 | L10: 27
A11: 산수1동 | B11: 3897 | C11: =SUM(G11,J11) -> 7891 | D11: =SUM(H11,K11) -> 3988 | E11: =SUM(I11,L11) -> 3903 | F11: 3897 | G11: 7823 | H11: 3958 | I11: 3865 | J11: =SUM(K11:L11) -> 68 | K11: 30 | L11: 38
A12: 산수2동 | B12: 4465 | C12: =SUM(G12,J12) -> 11132 | D12: =SUM(H12,K12) -> 5435 | E12: =SUM(I12,L12) -> 5697 | F12: 4465 | G12: 11091 | H12: 5421 | I12: 5670 | J12: =SUM(K12:L12) -> 41 | K12: 14 | L12: 27
A13: 지산1동 | B13: 2325 | C13: =SUM(G13,J13) -> 5053 | D13: =SUM(H13,K13) -> 2522 | E13: =SUM(I13,L13) -> 2531 | F13: 2325 | G13: 4924 | H13: 2458 | I13: 2466 | J13: =SUM(K13:L13) -> 129 | K13: 64 | L13: 65
A14: 지산2동 | B14: 2603 | C14: =SUM(G14,J14) -> 5823 | D14: =SUM(H14,K14) -> 2903 | E14: =SUM(I14,L14) -> 2920 | F14: 2603 | G14: 5751 | H14: 2870 | I14: 2881 | J14: =SUM(K14:L14) -> 72 | K14: 33 | L14: 39
A15: 서 남 동 | B15: 2224 | C15: =SUM(G15,J15) -> 3955 | D15: =SUM(H15,K15) -> 1984 | E15: =SUM(I15,L15) -> 1971 | F15: 2224 | G15: 3663 | H15: 1847 | I15: 1816 | J15: =SUM(K15:L15) -> 292 | K15: 137 | L15: 155
A16: 학 동 | B16: 3583 | C16: =SUM(G16,J16) -> 7418 | D16: =SUM(H16,K16) -> 3614 | E16: =SUM(I16,L16) -> 3804 | F16: 3583 | G16: 7356 | H16: 3589 | I16: 3767 | J16: =SUM(K16:L16) -> 62 | K16: 25 | L16: 37
A17: 학 운 동 | B17: 5126 | C17: =SUM(G17,J17) -> 13488 | D17: =SUM(H17,K17) -> 6476 | E17: =SUM(I17,L17) -> 7012 | F17: 5126 | G17: 13407 | H17: 6425 | I17: 6982 | J17: =SUM(K17:L17) -> 81 | K17: 51 | L17: 30
A18: 지원1동 | B18: 3454 | C18: =SUM(G18,J18) -> 8424 | D18: =SUM(H18,K18) -> 4187 | E18: =SUM(I18,L18) -> 4237 | F18: 3454 | G18: 8379 | H18: 4170 | I18: 4209 | J18: =SUM(K18:L18) -> 45 | K18: 17 | L18: 28
A19: 지원2동 | B19: 3827 | C19: =SUM(G19,J19) -> 8911 | D19: =SUM(H19,K19) -> 4524 | E19: =SUM(I19,L19) -> 4387 | F19: 3827 | G19: 8852 | H19: 4483 | I19: 4369 | J19: =SUM(K19:L19) -> 59 | K19: 41 | L19: 18
A21: ○ 서 구
B22: 합 계 | F22: 한 국 인 | J22: 외 국 인
A23: 구 분 | B23: 세 대 | C23: 인 구 | F23: 세 대 | G23: 인 구 | J23: 인 구
